Back to Multiple platform build/check report for BioC 3.16
ABCDEFGHIJKLMNOPQRSTU[V]WXYZ

This page was generated on 2022-08-16 11:07:31 -0400 (Tue, 16 Aug 2022).

HostnameOSArch (*)R versionInstalled pkgs
nebbiolo2Linux (Ubuntu 20.04.4 LTS)x86_644.2.1 (2022-06-23) -- "Funny-Looking Kid" 4378
palomino4Windows Server 2022 Datacenterx644.2.1 (2022-06-23 ucrt) -- "Funny-Looking Kid" 4161
lconwaymacOS 12.2.1 Montereyx86_644.2.1 Patched (2022-07-09 r82577) -- "Funny-Looking Kid" 4169
Click on any hostname to see more info about the system (e.g. compilers)      (*) as reported by 'uname -p', except on Windows and Mac OS X

BUILD BIN results for velociraptor on palomino4


To the developers/maintainers of the velociraptor package:
- Please allow up to 24 hours (and sometimes 48 hours) for your latest push to git@git.bioconductor.org:packages/velociraptor.git to
reflect on this report. See How and When does the builder pull? When will my changes propagate? for more information.
- Make sure to use the following settings in order to reproduce any error or warning you see on this page.

raw results

Package 2101/2140HostnameOS / ArchINSTALLBUILDCHECKBUILD BIN
velociraptor 1.7.0  (landing page)
Kevin Rue-Albrecht
Snapshot Date: 2022-08-15 14:00:06 -0400 (Mon, 15 Aug 2022)
git_url: https://git.bioconductor.org/packages/velociraptor
git_branch: master
git_last_commit: 0ee7651
git_last_commit_date: 2022-04-26 12:08:47 -0400 (Tue, 26 Apr 2022)
nebbiolo2Linux (Ubuntu 20.04.4 LTS) / x86_64  OK    OK    OK  UNNEEDED, same version is already published
palomino4Windows Server 2022 Datacenter / x64  OK    OK    OK    OK  UNNEEDED, same version is already published
lconwaymacOS 12.2.1 Monterey / x86_64  OK    OK    OK    OK  UNNEEDED, same version is already published

Summary

Package: velociraptor
Version: 1.7.0
Command: rm -rf velociraptor.buildbin-libdir && mkdir velociraptor.buildbin-libdir && F:\biocbuild\bbs-3.16-bioc\R\bin\R.exe CMD INSTALL --merge-multiarch --build --library=velociraptor.buildbin-libdir velociraptor_1.7.0.tar.gz
StartedAt: 2022-08-16 08:48:35 -0400 (Tue, 16 Aug 2022)
EndedAt: 2022-08-16 08:48:58 -0400 (Tue, 16 Aug 2022)
EllapsedTime: 22.8 seconds
RetCode: 0
Status:   OK  
PackageFile: velociraptor_1.7.0.zip
PackageFileSize: 576.8 KiB

Command output

##############################################################################
##############################################################################
###
### Running command:
###
###   rm -rf velociraptor.buildbin-libdir && mkdir velociraptor.buildbin-libdir && F:\biocbuild\bbs-3.16-bioc\R\bin\R.exe CMD INSTALL --merge-multiarch --build --library=velociraptor.buildbin-libdir velociraptor_1.7.0.tar.gz
###
##############################################################################
##############################################################################


only one architecture so ignoring '--merge-multiarch'
* installing *source* package 'velociraptor' ...
** using non-staged installation via StagedInstall field
** R
** inst
** byte-compile and prepare package for lazy loading
** help
*** installing help indices
*** copying figures
** building package indices
** installing vignettes
** testing if installed package can be loaded
* MD5 sums
packaged installation of 'velociraptor' as velociraptor_1.7.0.zip
* DONE (velociraptor)