Back to Multiple platform build/check report for BioC 3.14
ABCDEFGHIJKLMNO[P]QRSTUVWXYZ

This page was generated on 2021-10-23 14:07:12 -0400 (Sat, 23 Oct 2021).

BUILD results for psichomics on merida1

To the developers/maintainers of the psichomics package:
- Please allow up to 24 hours (and sometimes 48 hours) for your latest push to git@git.bioconductor.org:packages/psichomics.git to
reflect on this report. See How and When does the builder pull? When will my changes propagate? here for more information.
- Make sure to use the following settings in order to reproduce any error or warning you see on this page.

raw results

Package 1480/2083HostnameOS / ArchINSTALLBUILDCHECKBUILD BIN
psichomics 1.19.7  (landing page)
Nuno Saraiva-Agostinho
Snapshot Date: 2021-10-22 14:50:11 -0400 (Fri, 22 Oct 2021)
git_url: https://git.bioconductor.org/packages/psichomics
git_branch: master
git_last_commit: 68bbd6b
git_last_commit_date: 2021-10-19 12:30:37 -0400 (Tue, 19 Oct 2021)
nebbiolo2Linux (Ubuntu 20.04.2 LTS) / x86_64  OK    OK    OK  UNNEEDED, same version is already published
riesling1Windows Server 2019 Standard / x64  OK    OK    OK    OK  UNNEEDED, same version is already published
merida1macOS 10.14.6 Mojave / x86_64  OK    OK    OK    OK  YES

Summary

Package: psichomics
Version: 1.19.7
Command: /Library/Frameworks/R.framework/Resources/bin/R CMD build --keep-empty-dirs --no-resave-data psichomics
StartedAt: 2021-10-22 22:22:53 -0400 (Fri, 22 Oct 2021)
EndedAt: 2021-10-22 22:25:22 -0400 (Fri, 22 Oct 2021)
EllapsedTime: 149.5 seconds
RetCode: 0
Status:   OK  
PackageFile: psichomics_1.19.7.tar.gz
PackageFileSize: 6.047 MiB

Command output

##############################################################################
##############################################################################
###
### Running command:
###
###   /Library/Frameworks/R.framework/Resources/bin/R CMD build --keep-empty-dirs --no-resave-data psichomics
###
##############################################################################
##############################################################################


* checking for file ‘psichomics/DESCRIPTION’ ... OK
* preparing ‘psichomics’:
* checking DESCRIPTION meta-information ... OK
* cleaning src
* installing the package to build vignettes
* creating vignettes ... OK
* cleaning src
* checking for LF line-endings in source and make files and shell scripts
* checking for empty or unneeded directories
Omitted ‘LazyData’ from DESCRIPTION
* building ‘psichomics_1.19.7.tar.gz’