Back to Multiple platform build/check report for BioC 3.17:   simplified   long
ABCDEFGHIJKLMNO[P]QRSTUVWXYZ

This page was generated on 2023-03-24 11:07:05 -0400 (Fri, 24 Mar 2023).

HostnameOSArch (*)R versionInstalled pkgs
nebbiolo1Linux (Ubuntu 22.04.1 LTS)x86_64R Under development (unstable) (2023-03-16 r83996) -- "Unsuffered Consequences" 4546
palomino3Windows Server 2022 Datacenterx64R Under development (unstable) (2023-03-15 r83984 ucrt) -- "Unsuffered Consequences" 4307
merida1macOS 10.14.6 Mojavex86_64R Under development (unstable) (2023-03-16 r83985) -- "Unsuffered Consequences" 4299
Click on any hostname to see more info about the system (e.g. compilers)      (*) as reported by 'uname -p', except on Windows and Mac OS X

BUILD BIN results for psichomics on merida1


To the developers/maintainers of the psichomics package:
- Please allow up to 24 hours (and sometimes 48 hours) for your latest push to git@git.bioconductor.org:packages/psichomics.git to
reflect on this report. See How and When does the builder pull? When will my changes propagate? for more information.
- Make sure to use the following settings in order to reproduce any error or warning you see on this page.

raw results

Package 1559/2195HostnameOS / ArchINSTALLBUILDCHECKBUILD BIN
psichomics 1.25.0  (landing page)
Nuno Saraiva-Agostinho
Snapshot Date: 2023-03-23 14:00:15 -0400 (Thu, 23 Mar 2023)
git_url: https://git.bioconductor.org/packages/psichomics
git_branch: devel
git_last_commit: 2e8fe2b
git_last_commit_date: 2022-11-01 11:14:40 -0400 (Tue, 01 Nov 2022)
nebbiolo1Linux (Ubuntu 22.04.1 LTS) / x86_64  OK    OK    WARNINGS  UNNEEDED, same version is already published
palomino3Windows Server 2022 Datacenter / x64  OK    OK    WARNINGS    OK  UNNEEDED, same version is already published
merida1macOS 10.14.6 Mojave / x86_64  OK    OK    WARNINGS    OK  UNNEEDED, same version is already published

Summary

Package: psichomics
Version: 1.25.0
Command: rm -rf psichomics.buildbin-libdir && mkdir psichomics.buildbin-libdir && /Users/biocbuild/BBS/utils/build-universal.sh psichomics_1.25.0.tar.gz /Library/Frameworks/R.framework/Resources/bin/R psichomics.buildbin-libdir
StartedAt: 2023-03-24 09:44:07 -0400 (Fri, 24 Mar 2023)
EndedAt: 2023-03-24 09:48:45 -0400 (Fri, 24 Mar 2023)
EllapsedTime: 278.2 seconds
RetCode: 0
Status:   OK  
PackageFile: psichomics_1.25.0.tgz
PackageFileSize: 4.635 MiB

Command output

##############################################################################
##############################################################################
###
### Running command:
###
###   rm -rf psichomics.buildbin-libdir && mkdir psichomics.buildbin-libdir && /Users/biocbuild/BBS/utils/build-universal.sh psichomics_1.25.0.tar.gz /Library/Frameworks/R.framework/Resources/bin/R psichomics.buildbin-libdir
###
##############################################################################
##############################################################################


>>>>>>> 
>>>>>>> INSTALLATION WITH 'R CMD INSTALL --preclean --no-multiarch --library=psichomics.buildbin-libdir psichomics_1.25.0.tar.gz'
>>>>>>> 

* installing *source* package ‘psichomics’ ...
** using staged installation
** libs
using C++ compiler: ‘Apple clang version 11.0.0 (clang-1100.0.33.17)’
using SDK: ‘’
clang++ -mmacosx-version-min=10.13 -std=gnu++17 -I"/Library/Frameworks/R.framework/Resources/include" -DNDEBUG  -I'/Library/Frameworks/R.framework/Versions/4.3/Resources/library/Rcpp/include' -I/usr/local/include    -fPIC  -Wall -g -O2  -c RcppExports.cpp -o RcppExports.o
clang++ -mmacosx-version-min=10.13 -std=gnu++17 -I"/Library/Frameworks/R.framework/Resources/include" -DNDEBUG  -I'/Library/Frameworks/R.framework/Versions/4.3/Resources/library/Rcpp/include' -I/usr/local/include    -fPIC  -Wall -g -O2  -c progressBar.cpp -o progressBar.o
clang++ -mmacosx-version-min=10.13 -std=gnu++17 -I"/Library/Frameworks/R.framework/Resources/include" -DNDEBUG  -I'/Library/Frameworks/R.framework/Versions/4.3/Resources/library/Rcpp/include' -I/usr/local/include    -fPIC  -Wall -g -O2  -c psiFastCalc.cpp -o psiFastCalc.o
clang++ -mmacosx-version-min=10.13 -std=gnu++17 -I"/Library/Frameworks/R.framework/Resources/include" -DNDEBUG  -I'/Library/Frameworks/R.framework/Versions/4.3/Resources/library/Rcpp/include' -I/usr/local/include    -fPIC  -Wall -g -O2  -c vastToolsParser.cpp -o vastToolsParser.o
clang++ -mmacosx-version-min=10.13 -std=gnu++17 -dynamiclib -Wl,-headerpad_max_install_names -undefined dynamic_lookup -single_module -multiply_defined suppress -L/Library/Frameworks/R.framework/Resources/lib -L/usr/local/lib -o psichomics.so RcppExports.o progressBar.o psiFastCalc.o vastToolsParser.o -F/Library/Frameworks/R.framework/.. -framework R -Wl,-framework -Wl,CoreFoundation
installing to /Users/biocbuild/bbs-3.17-bioc/meat/psichomics.buildbin-libdir/00LOCK-psichomics/00new/psichomics/libs
** R
** inst
** byte-compile and prepare package for lazy loading
Creating a generic function for ‘colSums’ from package ‘base’ in package ‘psichomics’
** help
*** installing help indices
*** copying figures
** building package indices
** installing vignettes
** testing if installed package can be loaded from temporary location
** checking absolute paths in shared objects and dynamic libraries
** testing if installed package can be loaded from final location
** testing if installed package keeps a record of temporary installation path
* DONE (psichomics)


>>>>>>> 
>>>>>>> FIXING LINKS FOR psichomics.buildbin-libdir/psichomics/libs/psichomics.so
>>>>>>> 

install_name_tool -change "/usr/local/lib/libgcc_s.1.dylib" "/Library/Frameworks/R.framework/Versions/4.3/Resources/lib/libgcc_s.1.dylib" "psichomics.buildbin-libdir/psichomics/libs/psichomics.so"
install_name_tool -change "/usr/local/lib/libgfortran.5.dylib" "/Library/Frameworks/R.framework/Versions/4.3/Resources/lib/libgfortran.5.dylib" "psichomics.buildbin-libdir/psichomics/libs/psichomics.so"
install_name_tool -change "/usr/local/lib/libquadmath.0.dylib" "/Library/Frameworks/R.framework/Versions/4.3/Resources/lib/libquadmath.0.dylib" "psichomics.buildbin-libdir/psichomics/libs/psichomics.so"