Index of /checkResults/devel/bioc-LATEST/TFBSTools/raw-results

[ICO]NameLast modifiedSizeDescription

[DIR]Parent Directory  -  
[   ]info.dcf22-Sep-2023 00:41 257  
[DIR]kunpeng2/22-Sep-2023 00:41 -  
[DIR]lconway/22-Sep-2023 00:40 -  
[DIR]nebbiolo2/22-Sep-2023 00:37 -  
[DIR]palomino4/22-Sep-2023 00:38 -