Back to Multiple platform build/check report for BioC 3.19: simplified long |
|
This page was generated on 2024-03-28 11:38:05 -0400 (Thu, 28 Mar 2024).
Hostname | OS | Arch (*) | R version | Installed pkgs |
---|---|---|---|---|
nebbiolo1 | Linux (Ubuntu 22.04.3 LTS) | x86_64 | R Under development (unstable) (2024-03-18 r86148) -- "Unsuffered Consequences" | 4708 |
palomino3 | Windows Server 2022 Datacenter | x64 | R Under development (unstable) (2024-03-16 r86144 ucrt) -- "Unsuffered Consequences" | 4446 |
lconway | macOS 12.7.1 Monterey | x86_64 | R Under development (unstable) (2024-03-18 r86148) -- "Unsuffered Consequences" | 4471 |
kunpeng2 | Linux (openEuler 22.03 LTS-SP1) | aarch64 | R Under development (unstable) (2024-03-19 r86153) -- "Unsuffered Consequences" | 4426 |
Click on any hostname to see more info about the system (e.g. compilers) (*) as reported by 'uname -p', except on Windows and Mac OS X |
Package 1325/2270 | Hostname | OS / Arch | INSTALL | BUILD | CHECK | BUILD BIN | ||||||||
MsBackendRawFileReader 1.9.1 (landing page) Christian Panse
| nebbiolo1 | Linux (Ubuntu 22.04.3 LTS) / x86_64 | OK | OK | OK | |||||||||
palomino3 | Windows Server 2022 Datacenter / x64 | OK | OK | OK | OK | |||||||||
lconway | macOS 12.7.1 Monterey / x86_64 | OK | OK | OK | OK | |||||||||
kunpeng2 | Linux (openEuler 22.03 LTS-SP1) / aarch64 | OK | OK | OK | ||||||||||
To the developers/maintainers of the MsBackendRawFileReader package: - Allow up to 24 hours (and sometimes 48 hours) for your latest push to git@git.bioconductor.org:packages/MsBackendRawFileReader.git to reflect on this report. See Troubleshooting Build Report for more information. - Use the following Renviron settings to reproduce errors and warnings. - If 'R CMD check' started to fail recently on the Linux builder(s) over a missing dependency, add the missing dependency to 'Suggests:' in your DESCRIPTION file. See Renviron.bioc for more information. |
Package: MsBackendRawFileReader |
Version: 1.9.1 |
Command: F:\biocbuild\bbs-3.19-bioc\R\bin\R.exe CMD check --no-multiarch --install=check:MsBackendRawFileReader.install-out.txt --library=F:\biocbuild\bbs-3.19-bioc\R\library --no-vignettes --timings MsBackendRawFileReader_1.9.1.tar.gz |
StartedAt: 2024-03-28 04:20:50 -0400 (Thu, 28 Mar 2024) |
EndedAt: 2024-03-28 04:26:33 -0400 (Thu, 28 Mar 2024) |
EllapsedTime: 343.7 seconds |
RetCode: 0 |
Status: OK |
CheckDir: MsBackendRawFileReader.Rcheck |
Warnings: 0 |
############################################################################## ############################################################################## ### ### Running command: ### ### F:\biocbuild\bbs-3.19-bioc\R\bin\R.exe CMD check --no-multiarch --install=check:MsBackendRawFileReader.install-out.txt --library=F:\biocbuild\bbs-3.19-bioc\R\library --no-vignettes --timings MsBackendRawFileReader_1.9.1.tar.gz ### ############################################################################## ############################################################################## * using log directory 'F:/biocbuild/bbs-3.19-bioc/meat/MsBackendRawFileReader.Rcheck' * using R Under development (unstable) (2024-03-16 r86144 ucrt) * using platform: x86_64-w64-mingw32 * R was compiled by gcc.exe (GCC) 13.2.0 GNU Fortran (GCC) 13.2.0 * running under: Windows Server 2022 x64 (build 20348) * using session charset: UTF-8 * using option '--no-vignettes' * checking for file 'MsBackendRawFileReader/DESCRIPTION' ... OK * checking extension type ... Package * this is package 'MsBackendRawFileReader' version '1.9.1' * package encoding: UTF-8 * checking package namespace information ... OK * checking package dependencies ... OK * checking if this is a source package ... OK * checking if there is a namespace ... OK * checking for hidden files and directories ... OK * checking for portable file names ... OK * checking whether package 'MsBackendRawFileReader' can be installed ... OK * checking installed package size ... OK * checking package directory ... OK * checking 'build' directory ... OK * checking DESCRIPTION meta-information ... OK * checking top-level files ... OK * checking for left-over files ... OK * checking index information ... OK * checking package subdirectories ... OK * checking code files for non-ASCII characters ... OK * checking R files for syntax errors ... OK * checking whether the package can be loaded ... OK * checking whether the package can be loaded with stated dependencies ... OK * checking whether the package can be unloaded cleanly ... OK * checking whether the namespace can be loaded with stated dependencies ... OK * checking whether the namespace can be unloaded cleanly ... OK * checking whether startup messages can be suppressed ... OK * checking dependencies in R code ... OK * checking S3 generic/method consistency ... OK * checking replacement functions ... OK * checking foreign function calls ... OK * checking R code for possible problems ... NOTE filterScan,MsBackendRawFileReader : <anonymous>: no visible global function definition for 'scanIndex' peaksData,MsBackendRawFileReader: no visible global function definition for 'scanIndex' Undefined global functions or variables: scanIndex * checking Rd files ... OK * checking Rd metadata ... OK * checking Rd cross-references ... OK * checking for missing documentation entries ... OK * checking for code/documentation mismatches ... OK * checking Rd \usage sections ... OK * checking Rd contents ... OK * checking for unstated dependencies in examples ... OK * checking files in 'vignettes' ... OK * checking examples ... OK Examples with CPU (user + system) or elapsed time > 5s user system elapsed ioBenchmark 9.50 2.54 56.27 MsBackendRawFileReader-class 0.91 0.05 13.50 MsBackendRawFileReader 0.87 0.08 30.91 hidden_aliases 0.33 0.03 12.53 * checking for unstated dependencies in 'tests' ... OK * checking tests ... Running 'testthat.R' OK * checking for unstated dependencies in vignettes ... OK * checking package vignettes ... OK * checking running R code from vignettes ... SKIPPED * checking re-building of vignette outputs ... SKIPPED * checking PDF version of manual ... OK * DONE Status: 1 NOTE See 'F:/biocbuild/bbs-3.19-bioc/meat/MsBackendRawFileReader.Rcheck/00check.log' for details.
MsBackendRawFileReader.Rcheck/00install.out
############################################################################## ############################################################################## ### ### Running command: ### ### F:\biocbuild\bbs-3.19-bioc\R\bin\R.exe CMD INSTALL MsBackendRawFileReader ### ############################################################################## ############################################################################## * installing to library 'F:/biocbuild/bbs-3.19-bioc/R/library' * installing *source* package 'MsBackendRawFileReader' ... ** using staged installation ** R ** inst ** byte-compile and prepare package for lazy loading ** help *** installing help indices ** building package indices ** installing vignettes ** testing if installed package can be loaded from temporary location ** testing if installed package can be loaded from final location ** testing if installed package keeps a record of temporary installation path * DONE (MsBackendRawFileReader)
MsBackendRawFileReader.Rcheck/tests/testthat.Rout
R Under development (unstable) (2024-03-16 r86144 ucrt) -- "Unsuffered Consequences" Copyright (C) 2024 The R Foundation for Statistical Computing Platform: x86_64-w64-mingw32/x64 R is free software and comes with ABSOLUTELY NO WARRANTY. You are welcome to redistribute it under certain conditions. Type 'license()' or 'licence()' for distribution details. R is a collaborative project with many contributors. Type 'contributors()' for more information and 'citation()' on how to cite R or R packages in publications. Type 'demo()' for some demos, 'help()' for on-line help, or 'help.start()' for an HTML browser interface to help. Type 'q()' to quit R. > library("testthat") > library("MsBackendRawFileReader") Loading required package: Spectra Loading required package: S4Vectors Loading required package: stats4 Loading required package: BiocGenerics Attaching package: 'BiocGenerics' The following objects are masked from 'package:stats': IQR, mad, sd, var, xtabs The following objects are masked from 'package:base': Filter, Find, Map, Position, Reduce, anyDuplicated, aperm, append, as.data.frame, basename, cbind, colnames, dirname, do.call, duplicated, eval, evalq, get, grep, grepl, intersect, is.unsorted, lapply, mapply, match, mget, order, paste, pmax, pmax.int, pmin, pmin.int, rank, rbind, rownames, sapply, setdiff, table, tapply, union, unique, unsplit, which.max, which.min Attaching package: 'S4Vectors' The following object is masked from 'package:utils': findMatches The following objects are masked from 'package:base': I, expand.grid, unname Loading required package: BiocParallel Loading required package: ProtGenerics Attaching package: 'ProtGenerics' The following object is masked from 'package:stats': smooth > library("Spectra") > > > sample_raw_file <- file.path(system.file(package = "rawrr"), + 'extdata', 'sample.raw') > > sample_mzXML_file <- file.path(path.package(package = 'MsBackendRawFileReader'), + 'extdata', 'sample.mzXML') > > > sample_raw <- backendInitialize(MsBackendRawFileReader::MsBackendRawFileReader(), files = sample_raw_file) > > > #sample_mzr <- backendInitialize(MsBackendMzR(), files = sample_mzXML_file) > > > mgf_file <- file.path(system.file(package = "MsBackendRawFileReader"), + 'extdata', '3159619b11ed_4590_9594.mgf') > > > rv <- lapply(1:2, function(x){ + file.copy(from = sample_raw_file, to = tempfile(fileext='.raw'))}) > > > register(SnowParam(workers = 1, type = "SOCK") , default = TRUE); > sample_raw_2 <- backendInitialize(MsBackendRawFileReader(), + files = file.path(tempdir(), + list.files(path = tempdir(), pattern = 'raw$'))) > > > test_check("MsBackendRawFileReader") [ FAIL 0 | WARN 1 | SKIP 2 | PASS 21 ] ══ Skipped tests (2) ═══════════════════════════════════════════════════════════ • isFALSE(file.exists(sample_mzXML_file)) is TRUE (1): 'test_MsBackendMzR_MsBackendRawFileReader.R:1:1' • isFALSE(require(MsBackendRawMgf)) is TRUE (1): 'test_top_n_mgf.R:1:1' [ FAIL 0 | WARN 1 | SKIP 2 | PASS 21 ] > > > be <- Spectra::backendInitialize(MsBackendRawFileReader::MsBackendRawFileReader(), + files = c(sample_raw_file)) > > ## Run the MsBackend spectra variable test suite > test_suite <- system.file("test_backends", "test_MsBackend", + package = "Spectra") > > #res <- test_file(paste0(test_suite, "/test_spectra_variables.R"), > # reporter = check_reporter(), stop_on_failure = TRUE) > > > ## Run the whole suite. > res <- test_dir(test_suite, stop_on_failure = TRUE) ✔ | F W S OK | Context ⠏ | 0 | peaks_variables ⠙ | 2 | peaks_variables ⠸ | 4 | peaks_variables ✔ | 4 | peaks_variables [6.4s] ⠏ | 0 | spectra_subsetting ⠋ | 1 | spectra_subsetting ⠏ | 10 | spectra_subsetting ⠹ | 23 | spectra_subsetting ⠦ | 37 | spectra_subsetting ⠴ | 46 | spectra_subsetting ⠧ | 58 | spectra_subsetting ⠹ | 73 | spectra_subsetting ⠧ | 88 | spectra_subsetting ⠹ | 103 | spectra_subsetting ⠋ | 121 | spectra_subsetting ⠹ | 133 | spectra_subsetting ⠴ | 146 | spectra_subsetting ⠏ | 160 | spectra_subsetting ⠹ | 173 | spectra_subsetting ⠦ | 187 | spectra_subsetting ⠴ | 196 | spectra_subsetting ⠼ | 205 | spectra_subsetting ⠸ | 214 | spectra_subsetting ⠏ | 220 | spectra_subsetting ⠙ | 232 | spectra_subsetting ⠸ | 244 | spectra_subsetting ⠹ | 253 | spectra_subsetting ⠙ | 262 | spectra_subsetting ⠙ | 272 | spectra_subsetting ⠋ | 281 | spectra_subsetting ⠇ | 289 | spectra_subsetting ⠧ | 298 | spectra_subsetting ⠦ | 307 | spectra_subsetting ⠴ | 316 | spectra_subsetting ⠼ | 325 | spectra_subsetting ⠸ | 334 | spectra_subsetting ⠹ | 343 | spectra_subsetting ⠙ | 352 | spectra_subsetting ⠧ | 358 | spectra_subsetting ⠧ | 368 | spectra_subsetting ⠇ | 379 | spectra_subsetting ⠧ | 388 | spectra_subsetting ⠋ | 401 | spectra_subsetting ⠙ | 412 | spectra_subsetting ⠼ | 425 | spectra_subsetting ⠇ | 439 | spectra_subsetting ⠹ | 453 | spectra_subsetting ⠴ | 466 | spectra_subsetting ⠇ | 479 | spectra_subsetting ⠹ | 493 | spectra_subsetting ⠼ | 505 | spectra_subsetting ⠦ | 517 | spectra_subsetting ⠇ | 529 | spectra_subsetting ⠋ | 541 | spectra_subsetting ⠏ | 550 | spectra_subsetting ⠇ | 559 | spectra_subsetting ⠙ | 572 | spectra_subsetting ⠹ | 583 | spectra_subsetting ⠧ | 598 | spectra_subsetting ⠏ | 610 | spectra_subsetting ⠼ | 625 | spectra_subsetting ⠸ | 634 | spectra_subsetting ⠴ | 646 | spectra_subsetting ⠼ | 655 | spectra_subsetting ⠸ | 664 | spectra_subsetting ⠹ | 673 | spectra_subsetting ⠙ | 682 | spectra_subsetting ⠋ | 691 | spectra_subsetting ⠇ | 699 | spectra_subsetting ⠦ | 707 | spectra_subsetting ⠦ | 717 | spectra_subsetting ⠦ | 727 | spectra_subsetting ⠴ | 736 | spectra_subsetting ⠹ | 743 | spectra_subsetting ⠙ | 752 | spectra_subsetting ⠏ | 760 | spectra_subsetting ⠇ | 769 | spectra_subsetting ⠧ | 778 | spectra_subsetting ⠦ | 787 | spectra_subsetting ⠇ | 799 | spectra_subsetting ⠙ | 812 | spectra_subsetting ⠴ | 826 | spectra_subsetting ⠧ | 838 | spectra_subsetting ⠋ | 851 | spectra_subsetting ⠼ | 865 | spectra_subsetting ⠸ | 874 | spectra_subsetting ⠹ | 883 | spectra_subsetting ⠴ | 896 | spectra_subsetting ⠧ | 908 | spectra_subsetting ⠇ | 919 | spectra_subsetting ⠧ | 928 | spectra_subsetting ⠇ | 939 | spectra_subsetting ⠇ | 949 | spectra_subsetting ⠏ | 960 | spectra_subsetting ⠦ | 967 | spectra_subsetting ⠴ | 976 | spectra_subsetting ⠴ | 986 | spectra_subsetting ⠸ | 994 | spectra_subsetting ⠦ | 1007 | spectra_subsetting ⠴ | 1016 | spectra_subsetting ⠦ | 1027 | spectra_subsetting ⠴ | 1036 | spectra_subsetting ⠼ | 1045 | spectra_subsetting ⠸ | 1054 | spectra_subsetting ⠹ | 1063 | spectra_subsetting ⠼ | 1075 | spectra_subsetting ⠧ | 1088 | spectra_subsetting ⠏ | 1100 | spectra_subsetting ⠸ | 1114 | spectra_subsetting ⠦ | 1127 | spectra_subsetting ⠋ | 1141 | spectra_subsetting ⠸ | 1154 | spectra_subsetting ⠧ | 1168 | spectra_subsetting ⠹ | 1183 | spectra_subsetting ⠼ | 1195 | spectra_subsetting ⠸ | 1204 | spectra_subsetting ⠸ | 1214 | spectra_subsetting ⠹ | 1223 | spectra_subsetting ⠹ | 1233 | spectra_subsetting ⠋ | 1241 | spectra_subsetting ⠏ | 1250 | spectra_subsetting ⠏ | 1260 | spectra_subsetting ⠏ | 1270 | spectra_subsetting ⠇ | 1279 | spectra_subsetting ⠧ | 1288 | spectra_subsetting ⠦ | 1297 | spectra_subsetting ⠴ | 1306 | spectra_subsetting ⠼ | 1315 | spectra_subsetting ⠸ | 1324 | spectra_subsetting ⠹ | 1333 | spectra_subsetting ⠙ | 1342 | spectra_subsetting ⠋ | 1351 | spectra_subsetting ⠏ | 1360 | spectra_subsetting ⠇ | 1369 | spectra_subsetting ⠋ | 1381 | spectra_subsetting ⠴ | 1396 | spectra_subsetting ⠧ | 1408 | spectra_subsetting ⠇ | 1419 | spectra_subsetting ⠙ | 1432 | spectra_subsetting ⠸ | 1444 | spectra_subsetting ⠦ | 1457 | spectra_subsetting ⠋ | 1471 | spectra_subsetting ⠸ | 1484 | spectra_subsetting ⠧ | 1498 | spectra_subsetting ⠧ | 1508 | spectra_subsetting ⠴ | 1516 | spectra_subsetting ⠧ | 1528 | spectra_subsetting ⠦ | 1537 | spectra_subsetting ⠴ | 1546 | spectra_subsetting ⠼ | 1555 | spectra_subsetting ⠸ | 1564 | spectra_subsetting ⠋ | 1571 | spectra_subsetting ⠏ | 1580 | spectra_subsetting ⠋ | 1591 | spectra_subsetting ⠏ | 1600 | spectra_subsetting ⠇ | 1609 | spectra_subsetting ⠧ | 1618 | spectra_subsetting ⠦ | 1627 | spectra_subsetting ⠴ | 1636 | spectra_subsetting ⠴ | 1646 | spectra_subsetting ⠦ | 1657 | spectra_subsetting ⠇ | 1669 | spectra_subsetting ⠋ | 1681 | spectra_subsetting ⠸ | 1694 | spectra_subsetting ⠴ | 1706 | spectra_subsetting ⠏ | 1720 | spectra_subsetting ⠦ | 1727 | spectra_subsetting ⠇ | 1729 | spectra_subsetting ⠋ | 1731 | spectra_subsetting ⠹ | 1733 | spectra_subsetting ⠴ | 1736 | spectra_subsetting ⠧ | 1738 | spectra_subsetting ⠏ | 1740 | spectra_subsetting ⠙ | 1742 | spectra_subsetting ⠸ | 1744 | spectra_subsetting ⠴ | 1746 | spectra_subsetting ⠧ | 1748 | spectra_subsetting ⠏ | 1750 | spectra_subsetting ⠙ | 1752 | spectra_subsetting ⠸ | 1754 | spectra_subsetting ⠴ | 1756 | spectra_subsetting ⠧ | 1758 | spectra_subsetting ⠏ | 1760 | spectra_subsetting ⠙ | 1762 | spectra_subsetting ⠼ | 1765 | spectra_subsetting ⠦ | 1767 | spectra_subsetting ⠇ | 1769 | spectra_subsetting ⠙ | 1772 | spectra_subsetting ⠸ | 1774 | spectra_subsetting ⠴ | 1776 | spectra_subsetting ⠧ | 1778 | spectra_subsetting ⠋ | 1781 | spectra_subsetting ⠹ | 1783 | spectra_subsetting ⠼ | 1785 | spectra_subsetting ⠦ | 1787 | spectra_subsetting ⠇ | 1789 | spectra_subsetting ⠋ | 1791 | spectra_subsetting ⠹ | 1793 | spectra_subsetting ⠼ | 1795 | spectra_subsetting ⠦ | 1797 | spectra_subsetting ⠏ | 1800 | spectra_subsetting ⠙ | 1802 | spectra_subsetting ⠸ | 1804 | spectra_subsetting ⠦ | 1807 | spectra_subsetting ⠇ | 1809 | spectra_subsetting ⠋ | 1811 | spectra_subsetting ⠹ | 1813 | spectra_subsetting ⠼ | 1815 | spectra_subsetting ⠦ | 1817 | spectra_subsetting ⠇ | 1819 | spectra_subsetting ⠋ | 1821 | spectra_subsetting ⠹ | 1823 | spectra_subsetting ⠼ | 1825 | spectra_subsetting ⠦ | 1827 | spectra_subsetting ⠇ | 1829 | spectra_subsetting ⠋ | 1831 | spectra_subsetting ⠹ | 1833 | spectra_subsetting ⠼ | 1835 | spectra_subsetting ⠦ | 1837 | spectra_subsetting ⠇ | 1839 | spectra_subsetting ⠋ | 1841 | spectra_subsetting ⠹ | 1843 | spectra_subsetting ⠼ | 1845 | spectra_subsetting ⠦ | 1847 | spectra_subsetting ⠇ | 1849 | spectra_subsetting ⠋ | 1851 | spectra_subsetting ⠹ | 1853 | spectra_subsetting ⠼ | 1855 | spectra_subsetting ⠦ | 1857 | spectra_subsetting ⠇ | 1859 | spectra_subsetting ⠋ | 1861 | spectra_subsetting ⠹ | 1863 | spectra_subsetting ⠼ | 1865 | spectra_subsetting ⠦ | 1867 | spectra_subsetting ⠇ | 1869 | spectra_subsetting ⠋ | 1871 | spectra_subsetting ⠹ | 1873 | spectra_subsetting ⠼ | 1875 | spectra_subsetting ⠦ | 1877 | spectra_subsetting ⠇ | 1879 | spectra_subsetting ⠋ | 1881 | spectra_subsetting ⠹ | 1883 | spectra_subsetting ⠼ | 1885 | spectra_subsetting ⠧ | 1888 | spectra_subsetting ⠏ | 1890 | spectra_subsetting ⠙ | 1892 | spectra_subsetting ⠸ | 1894 | spectra_subsetting ⠴ | 1896 | spectra_subsetting ⠧ | 1898 | spectra_subsetting ⠏ | 1900 | spectra_subsetting ⠙ | 1902 | spectra_subsetting ⠸ | 1904 | spectra_subsetting ⠴ | 1906 | spectra_subsetting ⠧ | 1908 | spectra_subsetting ⠏ | 1910 | spectra_subsetting ⠙ | 1912 | spectra_subsetting ⠸ | 1914 | spectra_subsetting ⠴ | 1916 | spectra_subsetting ⠧ | 1918 | spectra_subsetting ⠏ | 1920 | spectra_subsetting ⠙ | 1922 | spectra_subsetting ⠸ | 1924 | spectra_subsetting ⠴ | 1926 | spectra_subsetting ⠧ | 1928 | spectra_subsetting ⠏ | 1930 | spectra_subsetting ⠋ | 1931 | spectra_subsetting ⠹ | 1933 | spectra_subsetting ⠼ | 1935 | spectra_subsetting ⠦ | 1937 | spectra_subsetting ⠇ | 1939 | spectra_subsetting ⠋ | 1941 | spectra_subsetting ⠹ | 1943 | spectra_subsetting ⠼ | 1945 | spectra_subsetting ⠦ | 1947 | spectra_subsetting ⠇ | 1949 | spectra_subsetting ⠋ | 1951 | spectra_subsetting ⠹ | 1953 | spectra_subsetting ⠼ | 1955 | spectra_subsetting ⠦ | 1957 | spectra_subsetting ⠇ | 1959 | spectra_subsetting ⠏ | 1960 | spectra_subsetting ⠙ | 1962 | spectra_subsetting ⠸ | 1964 | spectra_subsetting ⠴ | 1966 | spectra_subsetting ⠦ | 1967 | spectra_subsetting ⠇ | 1969 | spectra_subsetting ⠏ | 1970 | spectra_subsetting ⠙ | 1972 | spectra_subsetting ⠹ | 1973 | spectra_subsetting ⠸ | 1974 | spectra_subsetting ⠴ | 1976 | spectra_subsetting ⠦ | 1977 | spectra_subsetting ⠇ | 1979 | spectra_subsetting ⠏ | 1980 | spectra_subsetting ⠙ | 1982 | spectra_subsetting ⠸ | 1984 | spectra_subsetting ⠦ | 1987 | spectra_subsetting ⠇ | 1989 | spectra_subsetting ⠋ | 1991 | spectra_subsetting ⠹ | 1993 | spectra_subsetting ⠼ | 1995 | spectra_subsetting ⠴ | 1996 | spectra_subsetting ⠧ | 1998 | spectra_subsetting ⠏ | 2000 | spectra_subsetting ⠙ | 2002 | spectra_subsetting ⠸ | 2004 | spectra_subsetting ⠴ | 2006 | spectra_subsetting ⠧ | 2008 | spectra_subsetting ⠏ | 2010 | spectra_subsetting ⠙ | 2012 | spectra_subsetting ⠸ | 2014 | spectra_subsetting ⠴ | 2016 | spectra_subsetting ⠧ | 2018 | spectra_subsetting ⠏ | 2020 | spectra_subsetting ⠙ | 2022 | spectra_subsetting ⠸ | 2024 | spectra_subsetting ⠴ | 2026 | spectra_subsetting ⠧ | 2028 | spectra_subsetting ⠏ | 2030 | spectra_subsetting ⠙ | 2032 | spectra_subsetting ⠸ | 2034 | spectra_subsetting ⠦ | 2037 | spectra_subsetting ⠇ | 2039 | spectra_subsetting ⠋ | 2041 | spectra_subsetting ⠹ | 2043 | spectra_subsetting ⠼ | 2045 | spectra_subsetting ⠦ | 2047 | spectra_subsetting ⠇ | 2049 | spectra_subsetting ⠋ | 2051 | spectra_subsetting ⠹ | 2053 | spectra_subsetting ⠼ | 2055 | spectra_subsetting ⠦ | 2057 | spectra_subsetting ⠇ | 2059 | spectra_subsetting ⠋ | 2061 | spectra_subsetting ⠹ | 2063 | spectra_subsetting ⠼ | 2065 | spectra_subsetting ⠦ | 2067 | spectra_subsetting ⠇ | 2069 | spectra_subsetting ⠏ | 2070 | spectra_subsetting ⠙ | 2072 | spectra_subsetting ⠸ | 2074 | spectra_subsetting ⠴ | 2076 | spectra_subsetting ⠧ | 2078 | spectra_subsetting ⠏ | 2080 | spectra_subsetting ⠙ | 2082 | spectra_subsetting ⠸ | 2084 | spectra_subsetting ⠴ | 2086 | spectra_subsetting ⠧ | 2088 | spectra_subsetting ⠇ | 2089 | spectra_subsetting ⠋ | 2091 | spectra_subsetting ⠹ | 2093 | spectra_subsetting ⠼ | 2095 | spectra_subsetting ⠴ | 2096 | spectra_subsetting ⠧ | 2098 | spectra_subsetting ⠏ | 2100 | spectra_subsetting ⠙ | 2102 | spectra_subsetting ⠸ | 2104 | spectra_subsetting ⠴ | 2106 | spectra_subsetting ⠧ | 2108 | spectra_subsetting ⠏ | 2110 | spectra_subsetting ⠙ | 2112 | spectra_subsetting ⠸ | 2114 | spectra_subsetting ⠴ | 2116 | spectra_subsetting ⠦ | 2117 | spectra_subsetting ⠇ | 2119 | spectra_subsetting ⠋ | 2121 | spectra_subsetting ⠹ | 2123 | spectra_subsetting ⠼ | 2125 | spectra_subsetting ⠦ | 2127 | spectra_subsetting ⠇ | 2129 | spectra_subsetting ⠋ | 2131 | spectra_subsetting ⠹ | 2133 | spectra_subsetting ⠼ | 2135 | spectra_subsetting ⠦ | 2137 | spectra_subsetting ⠇ | 2139 | spectra_subsetting ⠙ | 2142 | spectra_subsetting ⠸ | 2144 | spectra_subsetting ⠴ | 2146 | spectra_subsetting ⠧ | 2148 | spectra_subsetting ⠏ | 2150 | spectra_subsetting ⠙ | 2152 | spectra_subsetting ⠸ | 2154 | spectra_subsetting ⠴ | 2156 | spectra_subsetting ⠧ | 2158 | spectra_subsetting ⠏ | 2160 | spectra_subsetting ⠙ | 2162 | spectra_subsetting ⠸ | 2164 | spectra_subsetting ⠴ | 2166 | spectra_subsetting ⠦ | 2167 | spectra_subsetting ⠇ | 2169 | spectra_subsetting ⠋ | 2171 | spectra_subsetting ⠹ | 2173 | spectra_subsetting ⠸ | 2174 | spectra_subsetting ⠴ | 2176 | spectra_subsetting ⠦ | 2177 | spectra_subsetting ⠇ | 2179 | spectra_subsetting ⠋ | 2181 | spectra_subsetting ⠹ | 2183 | spectra_subsetting ⠼ | 2185 | spectra_subsetting ⠦ | 2187 | spectra_subsetting ⠇ | 2189 | spectra_subsetting ⠋ | 2191 | spectra_subsetting ⠹ | 2193 | spectra_subsetting ⠼ | 2195 | spectra_subsetting ⠦ | 2197 | spectra_subsetting ⠇ | 2199 | spectra_subsetting ⠋ | 2201 | spectra_subsetting ⠹ | 2203 | spectra_subsetting ⠼ | 2205 | spectra_subsetting ⠧ | 2208 | spectra_subsetting ⠏ | 2210 | spectra_subsetting ⠙ | 2212 | spectra_subsetting ⠸ | 2214 | spectra_subsetting ⠴ | 2216 | spectra_subsetting ⠧ | 2218 | spectra_subsetting ⠏ | 2220 | spectra_subsetting ⠙ | 2222 | spectra_subsetting ⠸ | 2224 | spectra_subsetting ⠴ | 2226 | spectra_subsetting ⠧ | 2228 | spectra_subsetting ⠏ | 2230 | spectra_subsetting ⠙ | 2232 | spectra_subsetting ⠸ | 2234 | spectra_subsetting ⠴ | 2236 | spectra_subsetting ⠧ | 2238 | spectra_subsetting ⠇ | 2239 | spectra_subsetting ⠋ | 2241 | spectra_subsetting ⠹ | 2243 | spectra_subsetting ⠼ | 2245 | spectra_subsetting ⠦ | 2247 | spectra_subsetting ⠇ | 2249 | spectra_subsetting ⠋ | 2251 | spectra_subsetting ⠹ | 2253 | spectra_subsetting ⠼ | 2255 | spectra_subsetting ⠦ | 2257 | spectra_subsetting ⠇ | 2259 | spectra_subsetting ⠋ | 2261 | spectra_subsetting ⠹ | 2263 | spectra_subsetting ⠼ | 2265 | spectra_subsetting ⠦ | 2267 | spectra_subsetting ⠇ | 2269 | spectra_subsetting ⠋ | 2271 | spectra_subsetting ⠸ | 2274 | spectra_subsetting ⠴ | 2276 | spectra_subsetting ⠇ | 2279 | spectra_subsetting ⠋ | 2281 | spectra_subsetting ⠹ | 2283 | spectra_subsetting ⠼ | 2285 | spectra_subsetting ⠦ | 2287 | spectra_subsetting ⠇ | 2289 | spectra_subsetting ⠋ | 2291 | spectra_subsetting ⠹ | 2293 | spectra_subsetting ⠼ | 2295 | spectra_subsetting ⠦ | 2297 | spectra_subsetting ⠇ | 2299 | spectra_subsetting ⠹ | 2303 | spectra_subsetting ⠇ | 2309 | spectra_subsetting ⠸ | 2314 | spectra_subsetting ⠦ | 2317 | spectra_subsetting ✔ | 2317 | spectra_subsetting [58.3s] ⠏ | 0 | spectra_variables ⠙ | 12 | spectra_variables ⠸ | 14 | spectra_variables ⠴ | 16 | spectra_variables ⠸ | 34 | spectra_variables ⠹ | 43 | spectra_variables ⠼ | 55 | spectra_variables ✔ | 1 62 | spectra_variables [14.1s] ══ Results ═════════════════════════════════════════════════════════════════════ Duration: 78.9 s ── Skipped tests (1) ─────────────────────────────────────────────────────────── • empty test (1): 'test_spectra_variables.R:262:1' [ FAIL 0 | WARN 0 | SKIP 1 | PASS 2383 ] > > proc.time() user system elapsed 70.29 5.32 145.98
MsBackendRawFileReader.Rcheck/MsBackendRawFileReader-Ex.timings
name | user | system | elapsed | |
MsBackendRawFileReader-class | 0.91 | 0.05 | 13.50 | |
MsBackendRawFileReader | 0.87 | 0.08 | 30.91 | |
hidden_aliases | 0.33 | 0.03 | 12.53 | |
ioBenchmark | 9.50 | 2.54 | 56.27 | |