Back to Multiple platform build/check report for BioC 3.19: simplified long |
|
This page was generated on 2024-03-28 11:36:45 -0400 (Thu, 28 Mar 2024).
Hostname | OS | Arch (*) | R version | Installed pkgs |
---|---|---|---|---|
nebbiolo1 | Linux (Ubuntu 22.04.3 LTS) | x86_64 | R Under development (unstable) (2024-03-18 r86148) -- "Unsuffered Consequences" | 4708 |
palomino3 | Windows Server 2022 Datacenter | x64 | R Under development (unstable) (2024-03-16 r86144 ucrt) -- "Unsuffered Consequences" | 4446 |
lconway | macOS 12.7.1 Monterey | x86_64 | R Under development (unstable) (2024-03-18 r86148) -- "Unsuffered Consequences" | 4471 |
kunpeng2 | Linux (openEuler 22.03 LTS-SP1) | aarch64 | R Under development (unstable) (2024-03-19 r86153) -- "Unsuffered Consequences" | 4426 |
Click on any hostname to see more info about the system (e.g. compilers) (*) as reported by 'uname -p', except on Windows and Mac OS X |
Package 1325/2270 | Hostname | OS / Arch | INSTALL | BUILD | CHECK | BUILD BIN | ||||||||
MsBackendRawFileReader 1.9.1 (landing page) Christian Panse
| nebbiolo1 | Linux (Ubuntu 22.04.3 LTS) / x86_64 | OK | OK | OK | |||||||||
palomino3 | Windows Server 2022 Datacenter / x64 | OK | OK | OK | OK | |||||||||
lconway | macOS 12.7.1 Monterey / x86_64 | OK | OK | OK | OK | |||||||||
kunpeng2 | Linux (openEuler 22.03 LTS-SP1) / aarch64 | OK | OK | OK | ||||||||||
To the developers/maintainers of the MsBackendRawFileReader package: - Allow up to 24 hours (and sometimes 48 hours) for your latest push to git@git.bioconductor.org:packages/MsBackendRawFileReader.git to reflect on this report. See Troubleshooting Build Report for more information. - Use the following Renviron settings to reproduce errors and warnings. - If 'R CMD check' started to fail recently on the Linux builder(s) over a missing dependency, add the missing dependency to 'Suggests:' in your DESCRIPTION file. See Renviron.bioc for more information. |
Package: MsBackendRawFileReader |
Version: 1.9.1 |
Command: /home/biocbuild/bbs-3.19-bioc/R/bin/R CMD check --install=check:MsBackendRawFileReader.install-out.txt --library=/home/biocbuild/bbs-3.19-bioc/R/site-library --timings MsBackendRawFileReader_1.9.1.tar.gz |
StartedAt: 2024-03-28 00:31:42 -0400 (Thu, 28 Mar 2024) |
EndedAt: 2024-03-28 00:36:48 -0400 (Thu, 28 Mar 2024) |
EllapsedTime: 306.2 seconds |
RetCode: 0 |
Status: OK |
CheckDir: MsBackendRawFileReader.Rcheck |
Warnings: 0 |
############################################################################## ############################################################################## ### ### Running command: ### ### /home/biocbuild/bbs-3.19-bioc/R/bin/R CMD check --install=check:MsBackendRawFileReader.install-out.txt --library=/home/biocbuild/bbs-3.19-bioc/R/site-library --timings MsBackendRawFileReader_1.9.1.tar.gz ### ############################################################################## ############################################################################## * using log directory ‘/home/biocbuild/bbs-3.19-bioc/meat/MsBackendRawFileReader.Rcheck’ * using R Under development (unstable) (2024-03-18 r86148) * using platform: x86_64-pc-linux-gnu * R was compiled by gcc (Ubuntu 11.4.0-1ubuntu1~22.04) 11.4.0 GNU Fortran (Ubuntu 11.4.0-1ubuntu1~22.04) 11.4.0 * running under: Ubuntu 22.04.4 LTS * using session charset: UTF-8 * checking for file ‘MsBackendRawFileReader/DESCRIPTION’ ... OK * checking extension type ... Package * this is package ‘MsBackendRawFileReader’ version ‘1.9.1’ * package encoding: UTF-8 * checking package namespace information ... OK * checking package dependencies ... OK * checking if this is a source package ... OK * checking if there is a namespace ... OK * checking for hidden files and directories ... OK * checking for portable file names ... OK * checking for sufficient/correct file permissions ... OK * checking whether package ‘MsBackendRawFileReader’ can be installed ... OK * checking installed package size ... OK * checking package directory ... OK * checking ‘build’ directory ... OK * checking DESCRIPTION meta-information ... OK * checking top-level files ... OK * checking for left-over files ... OK * checking index information ... OK * checking package subdirectories ... OK * checking code files for non-ASCII characters ... OK * checking R files for syntax errors ... OK * checking whether the package can be loaded ... OK * checking whether the package can be loaded with stated dependencies ... OK * checking whether the package can be unloaded cleanly ... OK * checking whether the namespace can be loaded with stated dependencies ... OK * checking whether the namespace can be unloaded cleanly ... OK * checking loading without being on the library search path ... OK * checking whether startup messages can be suppressed ... OK * checking dependencies in R code ... OK * checking S3 generic/method consistency ... OK * checking replacement functions ... OK * checking foreign function calls ... OK * checking R code for possible problems ... NOTE filterScan,MsBackendRawFileReader : <anonymous>: no visible global function definition for ‘scanIndex’ peaksData,MsBackendRawFileReader: no visible global function definition for ‘scanIndex’ Undefined global functions or variables: scanIndex * checking Rd files ... OK * checking Rd metadata ... OK * checking Rd cross-references ... OK * checking for missing documentation entries ... OK * checking for code/documentation mismatches ... OK * checking Rd \usage sections ... OK * checking Rd contents ... OK * checking for unstated dependencies in examples ... OK * checking files in ‘vignettes’ ... OK * checking examples ... OK Examples with CPU (user + system) or elapsed time > 5s user system elapsed ioBenchmark 69.817 5.276 13.964 MsBackendRawFileReader 5.438 0.990 5.825 * checking for unstated dependencies in ‘tests’ ... OK * checking tests ... Running ‘testthat.R’ OK * checking for unstated dependencies in vignettes ... OK * checking package vignettes ... OK * checking re-building of vignette outputs ... OK * checking PDF version of manual ... OK * DONE Status: 1 NOTE See ‘/home/biocbuild/bbs-3.19-bioc/meat/MsBackendRawFileReader.Rcheck/00check.log’ for details.
MsBackendRawFileReader.Rcheck/00install.out
############################################################################## ############################################################################## ### ### Running command: ### ### /home/biocbuild/bbs-3.19-bioc/R/bin/R CMD INSTALL MsBackendRawFileReader ### ############################################################################## ############################################################################## * installing to library ‘/home/biocbuild/bbs-3.19-bioc/R/site-library’ * installing *source* package ‘MsBackendRawFileReader’ ... ** using staged installation ** R ** inst ** byte-compile and prepare package for lazy loading ** help *** installing help indices ** building package indices ** installing vignettes ** testing if installed package can be loaded from temporary location ** testing if installed package can be loaded from final location ** testing if installed package keeps a record of temporary installation path * DONE (MsBackendRawFileReader)
MsBackendRawFileReader.Rcheck/tests/testthat.Rout
R Under development (unstable) (2024-03-18 r86148) -- "Unsuffered Consequences" Copyright (C) 2024 The R Foundation for Statistical Computing Platform: x86_64-pc-linux-gnu R is free software and comes with ABSOLUTELY NO WARRANTY. You are welcome to redistribute it under certain conditions. Type 'license()' or 'licence()' for distribution details. R is a collaborative project with many contributors. Type 'contributors()' for more information and 'citation()' on how to cite R or R packages in publications. Type 'demo()' for some demos, 'help()' for on-line help, or 'help.start()' for an HTML browser interface to help. Type 'q()' to quit R. > library("testthat") > library("MsBackendRawFileReader") Loading required package: Spectra Loading required package: S4Vectors Loading required package: stats4 Loading required package: BiocGenerics Attaching package: 'BiocGenerics' The following objects are masked from 'package:stats': IQR, mad, sd, var, xtabs The following objects are masked from 'package:base': Filter, Find, Map, Position, Reduce, anyDuplicated, aperm, append, as.data.frame, basename, cbind, colnames, dirname, do.call, duplicated, eval, evalq, get, grep, grepl, intersect, is.unsorted, lapply, mapply, match, mget, order, paste, pmax, pmax.int, pmin, pmin.int, rank, rbind, rownames, sapply, setdiff, table, tapply, union, unique, unsplit, which.max, which.min Attaching package: 'S4Vectors' The following object is masked from 'package:utils': findMatches The following objects are masked from 'package:base': I, expand.grid, unname Loading required package: BiocParallel Loading required package: ProtGenerics Attaching package: 'ProtGenerics' The following object is masked from 'package:stats': smooth > library("Spectra") > > > sample_raw_file <- file.path(system.file(package = "rawrr"), + 'extdata', 'sample.raw') > > sample_mzXML_file <- file.path(path.package(package = 'MsBackendRawFileReader'), + 'extdata', 'sample.mzXML') > > > sample_raw <- backendInitialize(MsBackendRawFileReader::MsBackendRawFileReader(), files = sample_raw_file) > > > #sample_mzr <- backendInitialize(MsBackendMzR(), files = sample_mzXML_file) > > > mgf_file <- file.path(system.file(package = "MsBackendRawFileReader"), + 'extdata', '3159619b11ed_4590_9594.mgf') > > > rv <- lapply(1:2, function(x){ + file.copy(from = sample_raw_file, to = tempfile(fileext='.raw'))}) > > > register(SnowParam(workers = 1, type = "SOCK") , default = TRUE); > sample_raw_2 <- backendInitialize(MsBackendRawFileReader(), + files = file.path(tempdir(), + list.files(path = tempdir(), pattern = 'raw$'))) > > > test_check("MsBackendRawFileReader") [ FAIL 0 | WARN 1 | SKIP 2 | PASS 21 ] ══ Skipped tests (2) ═══════════════════════════════════════════════════════════ • isFALSE(file.exists(sample_mzXML_file)) is TRUE (1): 'test_MsBackendMzR_MsBackendRawFileReader.R:1:1' • isFALSE(require(MsBackendRawMgf)) is TRUE (1): 'test_top_n_mgf.R:1:1' [ FAIL 0 | WARN 1 | SKIP 2 | PASS 21 ] > > > be <- Spectra::backendInitialize(MsBackendRawFileReader::MsBackendRawFileReader(), + files = c(sample_raw_file)) > > ## Run the MsBackend spectra variable test suite > test_suite <- system.file("test_backends", "test_MsBackend", + package = "Spectra") > > #res <- test_file(paste0(test_suite, "/test_spectra_variables.R"), > # reporter = check_reporter(), stop_on_failure = TRUE) > > > ## Run the whole suite. > res <- test_dir(test_suite, stop_on_failure = TRUE) ✔ | F W S OK | Context ⠏ | 0 | peaks_variables ⠙ | 2 | peaks_variables ⠸ | 4 | peaks_variables ✔ | 4 | peaks_variables [3.9s] ⠏ | 0 | spectra_subsetting ⠋ | 1 | spectra_subsetting ⠦ | 17 | spectra_subsetting ⠸ | 34 | spectra_subsetting ⠙ | 52 | spectra_subsetting ⠏ | 70 | spectra_subsetting ⠧ | 88 | spectra_subsetting ⠼ | 105 | spectra_subsetting ⠋ | 121 | spectra_subsetting ⠇ | 139 | spectra_subsetting ⠦ | 157 | spectra_subsetting ⠼ | 175 | spectra_subsetting ⠹ | 193 | spectra_subsetting ⠋ | 211 | spectra_subsetting ⠇ | 229 | spectra_subsetting ⠦ | 247 | spectra_subsetting ⠼ | 265 | spectra_subsetting ⠹ | 283 | spectra_subsetting ⠋ | 301 | spectra_subsetting ⠇ | 319 | spectra_subsetting ⠋ | 331 | spectra_subsetting ⠴ | 346 | spectra_subsetting ⠋ | 361 | spectra_subsetting ⠴ | 376 | spectra_subsetting ⠹ | 393 | spectra_subsetting ⠴ | 406 | spectra_subsetting ⠹ | 423 | spectra_subsetting ⠇ | 439 | spectra_subsetting ⠦ | 457 | spectra_subsetting ⠙ | 472 | spectra_subsetting ⠦ | 487 | spectra_subsetting ⠼ | 505 | spectra_subsetting ⠋ | 521 | spectra_subsetting ⠼ | 535 | spectra_subsetting ⠹ | 553 | spectra_subsetting ⠋ | 571 | spectra_subsetting ⠇ | 589 | spectra_subsetting ⠦ | 607 | spectra_subsetting ⠹ | 623 | spectra_subsetting ⠏ | 640 | spectra_subsetting ⠴ | 656 | spectra_subsetting ⠹ | 673 | spectra_subsetting ⠋ | 691 | spectra_subsetting ⠇ | 709 | spectra_subsetting ⠸ | 724 | spectra_subsetting ⠙ | 742 | spectra_subsetting ⠏ | 760 | spectra_subsetting ⠧ | 778 | spectra_subsetting ⠸ | 794 | spectra_subsetting ⠋ | 811 | spectra_subsetting ⠇ | 829 | spectra_subsetting ⠦ | 847 | spectra_subsetting ⠹ | 863 | spectra_subsetting ⠏ | 880 | spectra_subsetting ⠴ | 896 | spectra_subsetting ⠹ | 913 | spectra_subsetting ⠇ | 929 | spectra_subsetting ⠴ | 946 | spectra_subsetting ⠸ | 964 | spectra_subsetting ⠏ | 980 | spectra_subsetting ⠦ | 997 | spectra_subsetting ⠼ | 1015 | spectra_subsetting ⠹ | 1033 | spectra_subsetting ⠧ | 1048 | spectra_subsetting ⠴ | 1066 | spectra_subsetting ⠸ | 1084 | spectra_subsetting ⠙ | 1102 | spectra_subsetting ⠦ | 1117 | spectra_subsetting ⠸ | 1134 | spectra_subsetting ⠏ | 1150 | spectra_subsetting ⠧ | 1168 | spectra_subsetting ⠸ | 1184 | spectra_subsetting ⠋ | 1201 | spectra_subsetting ⠇ | 1219 | spectra_subsetting ⠦ | 1237 | spectra_subsetting ⠹ | 1253 | spectra_subsetting ⠏ | 1270 | spectra_subsetting ⠧ | 1288 | spectra_subsetting ⠴ | 1306 | spectra_subsetting ⠸ | 1324 | spectra_subsetting ⠏ | 1340 | spectra_subsetting ⠦ | 1357 | spectra_subsetting ⠙ | 1372 | spectra_subsetting ⠏ | 1390 | spectra_subsetting ⠴ | 1406 | spectra_subsetting ⠹ | 1423 | spectra_subsetting ⠧ | 1438 | spectra_subsetting ⠴ | 1456 | spectra_subsetting ⠸ | 1474 | spectra_subsetting ⠙ | 1492 | spectra_subsetting ⠦ | 1507 | spectra_subsetting ⠼ | 1525 | spectra_subsetting ⠹ | 1543 | spectra_subsetting ⠋ | 1561 | spectra_subsetting ⠴ | 1576 | spectra_subsetting ⠋ | 1591 | spectra_subsetting ⠦ | 1607 | spectra_subsetting ⠸ | 1624 | spectra_subsetting ⠧ | 1638 | spectra_subsetting ⠸ | 1654 | spectra_subsetting ⠙ | 1672 | spectra_subsetting ⠏ | 1690 | spectra_subsetting ⠙ | 1702 | spectra_subsetting ⠏ | 1720 | spectra_subsetting ⠦ | 1727 | spectra_subsetting ⠇ | 1729 | spectra_subsetting ⠙ | 1732 | spectra_subsetting ⠼ | 1735 | spectra_subsetting ⠦ | 1737 | spectra_subsetting ⠇ | 1739 | spectra_subsetting ⠋ | 1741 | spectra_subsetting ⠹ | 1743 | spectra_subsetting ⠼ | 1745 | spectra_subsetting ⠦ | 1747 | spectra_subsetting ⠇ | 1749 | spectra_subsetting ⠋ | 1751 | spectra_subsetting ⠹ | 1753 | spectra_subsetting ⠴ | 1756 | spectra_subsetting ⠧ | 1758 | spectra_subsetting ⠏ | 1760 | spectra_subsetting ⠙ | 1762 | spectra_subsetting ⠸ | 1764 | spectra_subsetting ⠴ | 1766 | spectra_subsetting ⠧ | 1768 | spectra_subsetting ⠏ | 1770 | spectra_subsetting ⠙ | 1772 | spectra_subsetting ⠸ | 1774 | spectra_subsetting ⠴ | 1776 | spectra_subsetting ⠧ | 1778 | spectra_subsetting ⠏ | 1780 | spectra_subsetting ⠹ | 1783 | spectra_subsetting ⠼ | 1785 | spectra_subsetting ⠦ | 1787 | spectra_subsetting ⠇ | 1789 | spectra_subsetting ⠋ | 1791 | spectra_subsetting ⠹ | 1793 | spectra_subsetting ⠼ | 1795 | spectra_subsetting ⠦ | 1797 | spectra_subsetting ⠇ | 1799 | spectra_subsetting ⠋ | 1801 | spectra_subsetting ⠹ | 1803 | spectra_subsetting ⠼ | 1805 | spectra_subsetting ⠦ | 1807 | spectra_subsetting ⠏ | 1810 | spectra_subsetting ⠙ | 1812 | spectra_subsetting ⠸ | 1814 | spectra_subsetting ⠴ | 1816 | spectra_subsetting ⠇ | 1819 | spectra_subsetting ⠙ | 1822 | spectra_subsetting ⠸ | 1824 | spectra_subsetting ⠴ | 1826 | spectra_subsetting ⠧ | 1828 | spectra_subsetting ⠏ | 1830 | spectra_subsetting ⠙ | 1832 | spectra_subsetting ⠸ | 1834 | spectra_subsetting ⠴ | 1836 | spectra_subsetting ⠇ | 1839 | spectra_subsetting ⠋ | 1841 | spectra_subsetting ⠹ | 1843 | spectra_subsetting ⠼ | 1845 | spectra_subsetting ⠦ | 1847 | spectra_subsetting ⠇ | 1849 | spectra_subsetting ⠋ | 1851 | spectra_subsetting ⠹ | 1853 | spectra_subsetting ⠼ | 1855 | spectra_subsetting ⠦ | 1857 | spectra_subsetting ⠇ | 1859 | spectra_subsetting ⠋ | 1861 | spectra_subsetting ⠹ | 1863 | spectra_subsetting ⠼ | 1865 | spectra_subsetting ⠦ | 1867 | spectra_subsetting ⠇ | 1869 | spectra_subsetting ⠋ | 1871 | spectra_subsetting ⠸ | 1874 | spectra_subsetting ⠴ | 1876 | spectra_subsetting ⠧ | 1878 | spectra_subsetting ⠏ | 1880 | spectra_subsetting ⠙ | 1882 | spectra_subsetting ⠸ | 1884 | spectra_subsetting ⠴ | 1886 | spectra_subsetting ⠧ | 1888 | spectra_subsetting ⠏ | 1890 | spectra_subsetting ⠙ | 1892 | spectra_subsetting ⠸ | 1894 | spectra_subsetting ⠴ | 1896 | spectra_subsetting ⠧ | 1898 | spectra_subsetting ⠏ | 1900 | spectra_subsetting ⠙ | 1902 | spectra_subsetting ⠸ | 1904 | spectra_subsetting ⠴ | 1906 | spectra_subsetting ⠧ | 1908 | spectra_subsetting ⠏ | 1910 | spectra_subsetting ⠙ | 1912 | spectra_subsetting ⠸ | 1914 | spectra_subsetting ⠴ | 1916 | spectra_subsetting ⠧ | 1918 | spectra_subsetting ⠏ | 1920 | spectra_subsetting ⠹ | 1923 | spectra_subsetting ⠼ | 1925 | spectra_subsetting ⠦ | 1927 | spectra_subsetting ⠏ | 1930 | spectra_subsetting ⠹ | 1933 | spectra_subsetting ⠼ | 1935 | spectra_subsetting ⠦ | 1937 | spectra_subsetting ⠇ | 1939 | spectra_subsetting ⠋ | 1941 | spectra_subsetting ⠹ | 1943 | spectra_subsetting ⠼ | 1945 | spectra_subsetting ⠦ | 1947 | spectra_subsetting ⠇ | 1949 | spectra_subsetting ⠋ | 1951 | spectra_subsetting ⠹ | 1953 | spectra_subsetting ⠼ | 1955 | spectra_subsetting ⠦ | 1957 | spectra_subsetting ⠇ | 1959 | spectra_subsetting ⠋ | 1961 | spectra_subsetting ⠹ | 1963 | spectra_subsetting ⠼ | 1965 | spectra_subsetting ⠦ | 1967 | spectra_subsetting ⠇ | 1969 | spectra_subsetting ⠋ | 1971 | spectra_subsetting ⠹ | 1973 | spectra_subsetting ⠼ | 1975 | spectra_subsetting ⠦ | 1977 | spectra_subsetting ⠇ | 1979 | spectra_subsetting ⠋ | 1981 | spectra_subsetting ⠹ | 1983 | spectra_subsetting ⠼ | 1985 | spectra_subsetting ⠧ | 1988 | spectra_subsetting ⠏ | 1990 | spectra_subsetting ⠙ | 1992 | spectra_subsetting ⠼ | 1995 | spectra_subsetting ⠦ | 1997 | spectra_subsetting ⠇ | 1999 | spectra_subsetting ⠋ | 2001 | spectra_subsetting ⠹ | 2003 | spectra_subsetting ⠴ | 2006 | spectra_subsetting ⠧ | 2008 | spectra_subsetting ⠏ | 2010 | spectra_subsetting ⠙ | 2012 | spectra_subsetting ⠸ | 2014 | spectra_subsetting ⠴ | 2016 | spectra_subsetting ⠧ | 2018 | spectra_subsetting ⠏ | 2020 | spectra_subsetting ⠙ | 2022 | spectra_subsetting ⠸ | 2024 | spectra_subsetting ⠴ | 2026 | spectra_subsetting ⠧ | 2028 | spectra_subsetting ⠏ | 2030 | spectra_subsetting ⠹ | 2033 | spectra_subsetting ⠼ | 2035 | spectra_subsetting ⠦ | 2037 | spectra_subsetting ⠇ | 2039 | spectra_subsetting ⠋ | 2041 | spectra_subsetting ⠹ | 2043 | spectra_subsetting ⠼ | 2045 | spectra_subsetting ⠦ | 2047 | spectra_subsetting ⠇ | 2049 | spectra_subsetting ⠋ | 2051 | spectra_subsetting ⠹ | 2053 | spectra_subsetting ⠼ | 2055 | spectra_subsetting ⠦ | 2057 | spectra_subsetting ⠇ | 2059 | spectra_subsetting ⠋ | 2061 | spectra_subsetting ⠹ | 2063 | spectra_subsetting ⠼ | 2065 | spectra_subsetting ⠦ | 2067 | spectra_subsetting ⠇ | 2069 | spectra_subsetting ⠋ | 2071 | spectra_subsetting ⠹ | 2073 | spectra_subsetting ⠼ | 2075 | spectra_subsetting ⠧ | 2078 | spectra_subsetting ⠏ | 2080 | spectra_subsetting ⠙ | 2082 | spectra_subsetting ⠸ | 2084 | spectra_subsetting ⠴ | 2086 | spectra_subsetting ⠧ | 2088 | spectra_subsetting ⠏ | 2090 | spectra_subsetting ⠙ | 2092 | spectra_subsetting ⠼ | 2095 | spectra_subsetting ⠦ | 2097 | spectra_subsetting ⠇ | 2099 | spectra_subsetting ⠋ | 2101 | spectra_subsetting ⠹ | 2103 | spectra_subsetting ⠼ | 2105 | spectra_subsetting ⠦ | 2107 | spectra_subsetting ⠇ | 2109 | spectra_subsetting ⠋ | 2111 | spectra_subsetting ⠹ | 2113 | spectra_subsetting ⠼ | 2115 | spectra_subsetting ⠦ | 2117 | spectra_subsetting ⠇ | 2119 | spectra_subsetting ⠋ | 2121 | spectra_subsetting ⠹ | 2123 | spectra_subsetting ⠼ | 2125 | spectra_subsetting ⠦ | 2127 | spectra_subsetting ⠇ | 2129 | spectra_subsetting ⠋ | 2131 | spectra_subsetting ⠹ | 2133 | spectra_subsetting ⠴ | 2136 | spectra_subsetting ⠧ | 2138 | spectra_subsetting ⠏ | 2140 | spectra_subsetting ⠙ | 2142 | spectra_subsetting ⠸ | 2144 | spectra_subsetting ⠴ | 2146 | spectra_subsetting ⠧ | 2148 | spectra_subsetting ⠏ | 2150 | spectra_subsetting ⠙ | 2152 | spectra_subsetting ⠸ | 2154 | spectra_subsetting ⠴ | 2156 | spectra_subsetting ⠧ | 2158 | spectra_subsetting ⠋ | 2161 | spectra_subsetting ⠹ | 2163 | spectra_subsetting ⠼ | 2165 | spectra_subsetting ⠧ | 2168 | spectra_subsetting ⠋ | 2171 | spectra_subsetting ⠹ | 2173 | spectra_subsetting ⠼ | 2175 | spectra_subsetting ⠦ | 2177 | spectra_subsetting ⠇ | 2179 | spectra_subsetting ⠙ | 2182 | spectra_subsetting ⠸ | 2184 | spectra_subsetting ⠴ | 2186 | spectra_subsetting ⠧ | 2188 | spectra_subsetting ⠏ | 2190 | spectra_subsetting ⠹ | 2193 | spectra_subsetting ⠼ | 2195 | spectra_subsetting ⠧ | 2198 | spectra_subsetting ⠏ | 2200 | spectra_subsetting ⠙ | 2202 | spectra_subsetting ⠸ | 2204 | spectra_subsetting ⠴ | 2206 | spectra_subsetting ⠇ | 2209 | spectra_subsetting ⠋ | 2211 | spectra_subsetting ⠹ | 2213 | spectra_subsetting ⠼ | 2215 | spectra_subsetting ⠦ | 2217 | spectra_subsetting ⠏ | 2220 | spectra_subsetting ⠹ | 2223 | spectra_subsetting ⠴ | 2226 | spectra_subsetting ⠧ | 2228 | spectra_subsetting ⠋ | 2231 | spectra_subsetting ⠸ | 2234 | spectra_subsetting ⠦ | 2237 | spectra_subsetting ⠏ | 2240 | spectra_subsetting ⠙ | 2242 | spectra_subsetting ⠼ | 2245 | spectra_subsetting ⠧ | 2248 | spectra_subsetting ⠋ | 2251 | spectra_subsetting ⠸ | 2254 | spectra_subsetting ⠴ | 2256 | spectra_subsetting ⠧ | 2258 | spectra_subsetting ⠋ | 2261 | spectra_subsetting ⠹ | 2263 | spectra_subsetting ⠼ | 2265 | spectra_subsetting ⠧ | 2268 | spectra_subsetting ⠏ | 2270 | spectra_subsetting ⠙ | 2272 | spectra_subsetting ⠼ | 2275 | spectra_subsetting ⠧ | 2278 | spectra_subsetting ⠏ | 2280 | spectra_subsetting ⠙ | 2282 | spectra_subsetting ⠼ | 2285 | spectra_subsetting ⠧ | 2288 | spectra_subsetting ⠏ | 2290 | spectra_subsetting ⠹ | 2293 | spectra_subsetting ⠼ | 2295 | spectra_subsetting ⠦ | 2297 | spectra_subsetting ⠇ | 2299 | spectra_subsetting ⠹ | 2303 | spectra_subsetting ⠼ | 2305 | spectra_subsetting ⠼ | 2315 | spectra_subsetting ✔ | 2317 | spectra_subsetting [42.3s] ⠏ | 0 | spectra_variables ⠙ | 12 | spectra_variables ⠸ | 14 | spectra_variables ⠴ | 16 | spectra_variables ⠹ | 43 | spectra_variables ✔ | 1 62 | spectra_variables [8.1s] ══ Results ═════════════════════════════════════════════════════════════════════ Duration: 54.3 s ── Skipped tests (1) ─────────────────────────────────────────────────────────── • empty test (1): 'test_spectra_variables.R:262:1' [ FAIL 0 | WARN 0 | SKIP 1 | PASS 2383 ] > > proc.time() user system elapsed 82.660 4.765 85.417
MsBackendRawFileReader.Rcheck/MsBackendRawFileReader-Ex.timings
name | user | system | elapsed | |
MsBackendRawFileReader-class | 3.519 | 0.499 | 3.850 | |
MsBackendRawFileReader | 5.438 | 0.990 | 5.825 | |
hidden_aliases | 2.495 | 0.572 | 2.767 | |
ioBenchmark | 69.817 | 5.276 | 13.964 | |