Index of /checkResults/devel/bioc-LATEST/HTSeqGenie/raw-results

[ICO]NameLast modifiedSizeDescription

[DIR]Parent Directory  -  
[   ]info.dcf28-May-2022 00:03 270  
[DIR]nebbiolo2/28-May-2022 00:03 -