Index of /checkResults/devel/bioc-LATEST/GenomicInteractions/raw-results
Name
Last modified
Size
Description
Parent Directory
-
info.dcf
31-Mar-2023 01:33
295
merida1/
30-Mar-2023 00:06
-
nebbiolo1/
31-Mar-2023 01:33
-
palomino3/
30-Mar-2023 00:05
-