Back to Multiple platform build/check report for BioC 3.15
AB[C]DEFGHIJKLMNOPQRSTUVWXYZ

This page was generated on 2021-11-30 13:55:23 -0500 (Tue, 30 Nov 2021).

BUILD results for CoreGx on merida1

To the developers/maintainers of the CoreGx package:
- Please allow up to 24 hours (and sometimes 48 hours) for your latest push to git@git.bioconductor.org:packages/CoreGx.git to
reflect on this report. See How and When does the builder pull? When will my changes propagate? here for more information.
- Make sure to use the following settings in order to reproduce any error or warning you see on this page.

raw results

Package 398/2068HostnameOS / ArchINSTALLBUILDCHECKBUILD BIN
CoreGx 1.7.0  (landing page)
Benjamin Haibe-Kains
Snapshot Date: 2021-11-29 14:50:17 -0500 (Mon, 29 Nov 2021)
git_url: https://git.bioconductor.org/packages/CoreGx
git_branch: master
git_last_commit: b78b5a5
git_last_commit_date: 2021-10-26 12:59:39 -0500 (Tue, 26 Oct 2021)
nebbiolo1Linux (Ubuntu 20.04.3 LTS) / x86_64  OK    OK    OK  UNNEEDED, same version is already published
riesling1Windows Server 2019 Standard / x64  OK    OK    OK    OK  
merida1macOS 10.14.6 Mojave / x86_64  OK    OK    OK    OK  NO, package depends on 'piano' which is not available

Summary

Package: CoreGx
Version: 1.7.0
Command: /Library/Frameworks/R.framework/Resources/bin/R CMD build --keep-empty-dirs --no-resave-data CoreGx
StartedAt: 2021-11-29 19:33:06 -0500 (Mon, 29 Nov 2021)
EndedAt: 2021-11-29 19:34:28 -0500 (Mon, 29 Nov 2021)
EllapsedTime: 81.5 seconds
RetCode: 0
Status:   OK  
PackageFile: CoreGx_1.7.0.tar.gz
PackageFileSize: 1.2 MiB

Command output

##############################################################################
##############################################################################
###
### Running command:
###
###   /Library/Frameworks/R.framework/Resources/bin/R CMD build --keep-empty-dirs --no-resave-data CoreGx
###
##############################################################################
##############################################################################


* checking for file ‘CoreGx/DESCRIPTION’ ... OK
* preparing ‘CoreGx’:
* checking DESCRIPTION meta-information ... OK
* installing the package to build vignettes
* creating vignettes ... OK
* checking for LF line-endings in source and make files and shell scripts
* checking for empty or unneeded directories
* building ‘CoreGx_1.7.0.tar.gz’