Index of /checkResults/devel/bioc-LATEST/CoreGx/raw-results

[ICO]NameLast modifiedSizeDescription

[DIR]Parent Directory  -  
[   ]info.dcf01-Dec-2021 03:55 282  
[DIR]merida1/01-Dec-2021 03:55 -  
[DIR]nebbiolo1/01-Dec-2021 03:54 -  
[DIR]riesling1/01-Dec-2021 03:54 -