Back to Multiple platform build/check report for BioC 3.15
AB[C]DEFGHIJKLMNOPQRSTUVWXYZ

This page was generated on 2021-11-26 14:05:34 -0500 (Fri, 26 Nov 2021).

INSTALL results for CoreGx on merida1

To the developers/maintainers of the CoreGx package:
- Please allow up to 24 hours (and sometimes 48 hours) for your latest push to git@git.bioconductor.org:packages/CoreGx.git to
reflect on this report. See How and When does the builder pull? When will my changes propagate? here for more information.
- Make sure to use the following settings in order to reproduce any error or warning you see on this page.

raw results

Package 398/2068HostnameOS / ArchINSTALLBUILDCHECKBUILD BIN
CoreGx 1.7.0  (landing page)
Benjamin Haibe-Kains
Snapshot Date: 2021-11-25 14:50:11 -0500 (Thu, 25 Nov 2021)
git_url: https://git.bioconductor.org/packages/CoreGx
git_branch: master
git_last_commit: b78b5a5
git_last_commit_date: 2021-10-26 12:59:39 -0500 (Tue, 26 Oct 2021)
nebbiolo1Linux (Ubuntu 20.04.3 LTS) / x86_64  OK    OK    OK  UNNEEDED, same version is already published
riesling1Windows Server 2019 Standard / x64  OK    OK    OK    OK  
merida1macOS 10.14.6 Mojave / x86_64  OK    OK    OK    OK  NO, package depends on 'piano' which is not available

Summary

Package: CoreGx
Version: 1.7.0
Command: /Library/Frameworks/R.framework/Resources/bin/R CMD INSTALL CoreGx
StartedAt: 2021-11-25 17:18:14 -0500 (Thu, 25 Nov 2021)
EndedAt: 2021-11-25 17:19:49 -0500 (Thu, 25 Nov 2021)
EllapsedTime: 95.5 seconds
RetCode: 0
Status:   OK  

Command output

##############################################################################
##############################################################################
###
### Running command:
###
###   /Library/Frameworks/R.framework/Resources/bin/R CMD INSTALL CoreGx
###
##############################################################################
##############################################################################


* installing to library ‘/Library/Frameworks/R.framework/Versions/4.2/Resources/library’
* installing *source* package ‘CoreGx’ ...
** using staged installation
** R
** data
*** moving datasets to lazyload DB
Registered S3 method overwritten by 'ggplot2':
  method        from
  print.element sets
Creating a generic function for ‘colnames’ from package ‘base’ in package ‘CoreGx’
Creating a generic function for ‘rownames’ from package ‘base’ in package ‘CoreGx’
** inst
** byte-compile and prepare package for lazy loading
** help
*** installing help indices
** building package indices
** installing vignettes
** testing if installed package can be loaded from temporary location
** testing if installed package can be loaded from final location
** testing if installed package keeps a record of temporary installation path
* DONE (CoreGx)