Index of /checkResults/devel/bioc-LATEST/AnnotationForge/raw-results

[ICO]NameLast modifiedSizeDescription

[DIR]Parent Directory  -  
[   ]info.dcf19-Jan-2022 01:10 307  
[DIR]merida1/19-Jan-2022 01:10 -  
[DIR]nebbiolo1/19-Jan-2022 01:05 -  
[DIR]palomino3/19-Jan-2022 01:08 -  
[DIR]riesling1/19-Jan-2022 01:06 -