Back to Multiple platform build/check report for BioC 3.16
ABCDEFG[H]IJKLMNOPQRSTUVWXYZ

This page was generated on 2023-01-28 11:06:50 -0500 (Sat, 28 Jan 2023).

HostnameOSArch (*)R versionInstalled pkgs
nebbiolo2Linux (Ubuntu 20.04.5 LTS)x86_644.2.2 (2022-10-31) -- "Innocent and Trusting" 4510
palomino4Windows Server 2022 Datacenterx644.2.2 (2022-10-31 ucrt) -- "Innocent and Trusting" 4288
lconwaymacOS 12.5.1 Montereyx86_644.2.2 (2022-10-31) -- "Innocent and Trusting" 4317
Click on any hostname to see more info about the system (e.g. compilers)      (*) as reported by 'uname -p', except on Windows and Mac OS X

BUILD results for HiCcompare on palomino4


To the developers/maintainers of the HiCcompare package:
- Please allow up to 24 hours (and sometimes 48 hours) for your latest push to git@git.bioconductor.org:packages/HiCcompare.git to
reflect on this report. See How and When does the builder pull? When will my changes propagate? for more information.
- Make sure to use the following settings in order to reproduce any error or warning you see on this page.

raw results

Package 905/2183HostnameOS / ArchINSTALLBUILDCHECKBUILD BIN
HiCcompare 1.20.0  (landing page)
John Stansfield , Mikhail Dozmorov
Snapshot Date: 2023-01-27 14:00:04 -0500 (Fri, 27 Jan 2023)
git_url: https://git.bioconductor.org/packages/HiCcompare
git_branch: RELEASE_3_16
git_last_commit: 508f805
git_last_commit_date: 2022-11-01 11:16:02 -0500 (Tue, 01 Nov 2022)
nebbiolo2Linux (Ubuntu 20.04.5 LTS) / x86_64  OK    OK    WARNINGS  UNNEEDED, same version is already published
palomino4Windows Server 2022 Datacenter / x64  OK    OK    WARNINGS    OK  UNNEEDED, same version is already published
lconwaymacOS 12.5.1 Monterey / x86_64  OK    OK    WARNINGS    OK  UNNEEDED, same version is already published

Summary

Package: HiCcompare
Version: 1.20.0
Command: chmod a+r HiCcompare -R && F:\biocbuild\bbs-3.16-bioc\R\bin\R.exe CMD build --keep-empty-dirs --no-resave-data HiCcompare
StartedAt: 2023-01-27 19:23:24 -0500 (Fri, 27 Jan 2023)
EndedAt: 2023-01-27 19:24:30 -0500 (Fri, 27 Jan 2023)
EllapsedTime: 65.6 seconds
RetCode: 0
Status:   OK  
PackageFile: HiCcompare_1.20.0.tar.gz
PackageFileSize: 3.326 MiB

Command output

##############################################################################
##############################################################################
###
### Running command:
###
###   chmod a+r HiCcompare -R && F:\biocbuild\bbs-3.16-bioc\R\bin\R.exe CMD build --keep-empty-dirs --no-resave-data HiCcompare
###
##############################################################################
##############################################################################


* checking for file 'HiCcompare/DESCRIPTION' ... OK
* preparing 'HiCcompare':
* checking DESCRIPTION meta-information ... OK
* installing the package to build vignettes
* creating vignettes ... OK
* checking for LF line-endings in source and make files and shell scripts
* checking for empty or unneeded directories
  NB: this package now depends on R (>= 3.5.0)
  WARNING: Added dependency on R >= 3.5.0 because serialized objects in
  serialize/load version 3 cannot be read in older versions of R.
  File(s) containing such objects:
    'HiCcompare/data/hmec.IS.rda' 'HiCcompare/data/nhek.IS.rda'
* building 'HiCcompare_1.20.0.tar.gz'