Back to Multiple platform build/check report for BioC 3.18:   simplified   long
ABCDEFG[H]IJKLMNOPQRSTUVWXYZ

This page was generated on 2024-03-29 11:36:01 -0400 (Fri, 29 Mar 2024).

HostnameOSArch (*)R versionInstalled pkgs
nebbiolo2Linux (Ubuntu 22.04.3 LTS)x86_644.3.3 (2024-02-29) -- "Angel Food Cake" 4669
palomino4Windows Server 2022 Datacenterx644.3.3 (2024-02-29 ucrt) -- "Angel Food Cake" 4404
merida1macOS 12.7.1 Montereyx86_644.3.3 (2024-02-29) -- "Angel Food Cake" 4427
Click on any hostname to see more info about the system (e.g. compilers)      (*) as reported by 'uname -p', except on Windows and Mac OS X

Package 949/2266HostnameOS / ArchINSTALLBUILDCHECKBUILD BIN
HiCcompare 1.24.0  (landing page)
Mikhail Dozmorov
Snapshot Date: 2024-03-27 14:05:05 -0400 (Wed, 27 Mar 2024)
git_url: https://git.bioconductor.org/packages/HiCcompare
git_branch: RELEASE_3_18
git_last_commit: 07ca875
git_last_commit_date: 2023-10-24 10:58:31 -0400 (Tue, 24 Oct 2023)
nebbiolo2Linux (Ubuntu 22.04.3 LTS) / x86_64  OK    OK    OK  UNNEEDED, same version is already published
palomino4Windows Server 2022 Datacenter / x64  OK    OK    OK    OK  UNNEEDED, same version is already published
merida1macOS 12.7.1 Monterey / x86_64  OK    OK    OK    OK  UNNEEDED, same version is already published
kjohnson1macOS 13.6.1 Ventura / arm64see weekly results here

CHECK results for HiCcompare on nebbiolo2


To the developers/maintainers of the HiCcompare package:
- Allow up to 24 hours (and sometimes 48 hours) for your latest push to git@git.bioconductor.org:packages/HiCcompare.git to reflect on this report. See Troubleshooting Build Report for more information.
- Use the following Renviron settings to reproduce errors and warnings.
- If 'R CMD check' started to fail recently on the Linux builder(s) over a missing dependency, add the missing dependency to 'Suggests:' in your DESCRIPTION file. See Renviron.bioc for more information.

raw results


Summary

Package: HiCcompare
Version: 1.24.0
Command: /home/biocbuild/bbs-3.18-bioc/R/bin/R CMD check --install=check:HiCcompare.install-out.txt --library=/home/biocbuild/bbs-3.18-bioc/R/site-library --timings HiCcompare_1.24.0.tar.gz
StartedAt: 2024-03-27 23:17:15 -0400 (Wed, 27 Mar 2024)
EndedAt: 2024-03-27 23:21:00 -0400 (Wed, 27 Mar 2024)
EllapsedTime: 225.5 seconds
RetCode: 0
Status:   OK  
CheckDir: HiCcompare.Rcheck
Warnings: 0

Command output

##############################################################################
##############################################################################
###
### Running command:
###
###   /home/biocbuild/bbs-3.18-bioc/R/bin/R CMD check --install=check:HiCcompare.install-out.txt --library=/home/biocbuild/bbs-3.18-bioc/R/site-library --timings HiCcompare_1.24.0.tar.gz
###
##############################################################################
##############################################################################


* using log directory ‘/home/biocbuild/bbs-3.18-bioc/meat/HiCcompare.Rcheck’
* using R version 4.3.3 (2024-02-29)
* using platform: x86_64-pc-linux-gnu (64-bit)
* R was compiled by
    gcc (Ubuntu 11.4.0-1ubuntu1~22.04) 11.4.0
    GNU Fortran (Ubuntu 11.4.0-1ubuntu1~22.04) 11.4.0
* running under: Ubuntu 22.04.4 LTS
* using session charset: UTF-8
* checking for file ‘HiCcompare/DESCRIPTION’ ... OK
* this is package ‘HiCcompare’ version ‘1.24.0’
* package encoding: UTF-8
* checking package namespace information ... OK
* checking package dependencies ... OK
* checking if this is a source package ... OK
* checking if there is a namespace ... OK
* checking for hidden files and directories ... OK
* checking for portable file names ... OK
* checking for sufficient/correct file permissions ... OK
* checking whether package ‘HiCcompare’ can be installed ... OK
* checking installed package size ... OK
* checking package directory ... OK
* checking ‘build’ directory ... OK
* checking DESCRIPTION meta-information ... OK
* checking top-level files ... OK
* checking for left-over files ... OK
* checking index information ... OK
* checking package subdirectories ... OK
* checking R files for non-ASCII characters ... OK
* checking R files for syntax errors ... OK
* checking whether the package can be loaded ... OK
* checking whether the package can be loaded with stated dependencies ... OK
* checking whether the package can be unloaded cleanly ... OK
* checking whether the namespace can be loaded with stated dependencies ... OK
* checking whether the namespace can be unloaded cleanly ... OK
* checking loading without being on the library search path ... OK
* checking dependencies in R code ... OK
* checking S3 generic/method consistency ... OK
* checking replacement functions ... OK
* checking foreign function calls ... OK
* checking R code for possible problems ... NOTE
.adjust_pval : <anonymous>: no visible binding for global variable
  ‘p.adj’
.adjust_pval : <anonymous>: no visible binding for global variable
  ‘p.value’
.adjust_pval: no visible binding for global variable ‘p.value’
.adjust_pval: no visible binding for global variable ‘p.adj’
.calc.diff.thresh: no visible global function definition for ‘sd’
.calc.pval: no visible binding for global variable ‘D’
.calc.pval: no visible binding for global variable ‘p.value’
.calc.pval: no visible binding for global variable ‘p.adj’
.calc.pval: no visible binding for global variable ‘adj.M’
.calc.pval: no visible binding for global variable ‘fold.change’
.calc.pval: no visible binding for global variable ‘adj.IF2’
.calc.pval: no visible binding for global variable ‘adj.IF1’
.calc_z2: no visible global function definition for ‘sd’
.calc_z2: no visible binding for global variable ‘Z’
.calc_z2: no visible global function definition for ‘pnorm’
.calc_z2: no visible binding for global variable ‘p.value’
.loess.matrix: no visible binding for global variable ‘adj.IF1’
.loess.matrix: no visible binding for global variable ‘IF1’
.loess.matrix: no visible binding for global variable ‘adj.IF2’
.loess.matrix: no visible binding for global variable ‘IF2’
.loess.matrix: no visible binding for global variable ‘adj.M’
.loess.matrix: no visible binding for global variable ‘A’
.sim.mat: no visible global function definition for ‘head’
.split_cent: no visible binding for global variable
  ‘centromere_locations’
.split_cent: no visible binding for global variable ‘start1’
.split_cent: no visible binding for global variable ‘start2’
.split_cent: no visible binding for global variable ‘chr1’
.split_cent: no visible binding for global variable ‘chr2’
MA_norm: no visible binding for global variable ‘D’
MA_norm: no visible binding for global variable ‘M’
MA_norm: no visible binding for global variable ‘adj.IF1’
MA_norm: no visible binding for global variable ‘IF1’
MA_norm: no visible binding for global variable ‘adj.IF2’
MA_norm: no visible binding for global variable ‘IF2’
MA_norm: no visible binding for global variable ‘adj.M’
cooler2sparse: no visible binding for global variable ‘chr1’
cooler2sparse: no visible binding for global variable ‘chr2’
cooler2sparse: no visible binding for global variable ‘IF’
create.hic.table: no visible binding for global variable ‘D’
create.hic.table: no visible binding for global variable ‘region2’
create.hic.table: no visible binding for global variable ‘region1’
create.hic.table: no visible binding for global variable ‘IF2’
create.hic.table: no visible binding for global variable ‘M’
create.hic.table: no visible binding for global variable ‘IF1’
create.hic.table: no visible binding for global variable ‘i’
create.hic.table: no visible binding for global variable ‘j’
filter_params: no visible binding for global variable ‘M’
filter_params: no visible binding for global variable ‘IF1’
filter_params: no visible binding for global variable ‘IF2’
filter_params: no visible global function definition for ‘axis’
full2sparse: no visible binding for global variable ‘IF’
hic_compare : <anonymous>: no visible binding for global variable
  ‘p.adj’
hic_simulate: no visible binding for global variable ‘bias.slope’
hic_simulate: no visible global function definition for ‘na.omit’
hicpro2bedpe: no visible binding for global variable ‘chr1’
hicpro2bedpe: no visible binding for global variable ‘chr2’
manhattan_plot: no visible binding for global variable ‘bp’
manhattan_plot: no visible binding for global variable ‘count’
sim.other.methods: no visible binding for global variable ‘adj.IF1’
sim.other.methods: no visible binding for global variable ‘IF1’
sim.other.methods: no visible binding for global variable ‘adj.IF2’
sim.other.methods: no visible binding for global variable ‘IF2’
sim.other.methods: no visible binding for global variable ‘adj.M’
sim.other.methods: no visible binding for global variable ‘M’
sim.other.methods: no visible global function definition for ‘na.omit’
sim_matrix: no visible binding for global variable ‘bias.slope’
total_sum: no visible binding for global variable ‘IF2’
total_sum: no visible binding for global variable ‘M’
total_sum: no visible binding for global variable ‘IF1’
total_sum: no visible binding for global variable ‘chr1’
volcano: no visible binding for global variable ‘A’
volcano: no visible binding for global variable ‘adj.IF1’
volcano: no visible binding for global variable ‘adj.IF2’
volcano: no visible binding for global variable ‘p.value’
volcano: no visible binding for global variable ‘D’
Undefined global functions or variables:
  A D IF IF1 IF2 M Z adj.IF1 adj.IF2 adj.M axis bias.slope bp
  centromere_locations chr1 chr2 count fold.change head i j na.omit
  p.adj p.value pnorm region1 region2 sd start1 start2
Consider adding
  importFrom("graphics", "axis")
  importFrom("stats", "D", "na.omit", "pnorm", "sd")
  importFrom("utils", "head")
to your NAMESPACE file.
* checking Rd files ... OK
* checking Rd metadata ... OK
* checking Rd cross-references ... OK
* checking for missing documentation entries ... OK
* checking for code/documentation mismatches ... OK
* checking Rd \usage sections ... OK
* checking Rd contents ... OK
* checking for unstated dependencies in examples ... OK
* checking contents of ‘data’ directory ... OK
* checking data for non-ASCII characters ... OK
* checking LazyData ... OK
* checking data for ASCII and uncompressed saves ... OK
* checking files in ‘vignettes’ ... OK
* checking examples ... OK
* checking for unstated dependencies in ‘tests’ ... OK
* checking tests ...
  Running ‘testthat.R’
 OK
* checking for unstated dependencies in vignettes ... OK
* checking package vignettes in ‘inst/doc’ ... OK
* checking running R code from vignettes ...
  ‘HiCcompare-vignette.Rmd’ using ‘UTF-8’... OK
 NONE
* checking re-building of vignette outputs ... OK
* checking PDF version of manual ... OK
* DONE

Status: 1 NOTE
See
  ‘/home/biocbuild/bbs-3.18-bioc/meat/HiCcompare.Rcheck/00check.log’
for details.



Installation output

HiCcompare.Rcheck/00install.out

##############################################################################
##############################################################################
###
### Running command:
###
###   /home/biocbuild/bbs-3.18-bioc/R/bin/R CMD INSTALL HiCcompare
###
##############################################################################
##############################################################################


* installing to library ‘/home/biocbuild/bbs-3.18-bioc/R/site-library’
* installing *source* package ‘HiCcompare’ ...
** using staged installation
** R
** data
*** moving datasets to lazyload DB
** inst
** byte-compile and prepare package for lazy loading
Note: wrong number of arguments to 'ceiling' 
** help
*** installing help indices
** building package indices
** installing vignettes
** testing if installed package can be loaded from temporary location
** testing if installed package can be loaded from final location
** testing if installed package keeps a record of temporary installation path
* DONE (HiCcompare)

Tests output

HiCcompare.Rcheck/tests/testthat.Rout


R version 4.3.3 (2024-02-29) -- "Angel Food Cake"
Copyright (C) 2024 The R Foundation for Statistical Computing
Platform: x86_64-pc-linux-gnu (64-bit)

R is free software and comes with ABSOLUTELY NO WARRANTY.
You are welcome to redistribute it under certain conditions.
Type 'license()' or 'licence()' for distribution details.

R is a collaborative project with many contributors.
Type 'contributors()' for more information and
'citation()' on how to cite R or R packages in publications.

Type 'demo()' for some demos, 'help()' for on-line help, or
'help.start()' for an HTML browser interface to help.
Type 'q()' to quit R.

> library(testthat)
> library(HiCcompare)
Loading required package: dplyr

Attaching package: 'dplyr'

The following object is masked from 'package:testthat':

    matches

The following objects are masked from 'package:stats':

    filter, lag

The following objects are masked from 'package:base':

    intersect, setdiff, setequal, union

> 
> test_check("HiCcompare")
[ FAIL 0 | WARN 0 | SKIP 0 | PASS 28 ]
> 
> proc.time()
   user  system elapsed 
  9.800   0.496  10.251 

Example timings

HiCcompare.Rcheck/HiCcompare-Ex.timings

nameusersystemelapsed
KRnorm0.0000.0030.003
MA_norm0.1830.0170.200
MD.plot10.7740.0280.802
MD.plot20.220.020.24
SCN0.0010.0000.002
cooler2bedpe000
cooler2sparse0.2780.0110.203
create.hic.table0.0120.0000.012
filter_params3.1290.1763.301
full2sparse0.0040.0000.005
hic_compare0.3510.0160.368
hic_diff3.4990.1963.695
hic_loess0.2200.0040.224
hic_simulate1.0000.0080.992
hicpro2bedpe000
make_InteractionSet0.1540.0000.154
manhattan_plot0.5370.0000.537
remove_centromere0.0010.0000.001
sim.other.methods0.6270.0040.616
sim_matrix0.9950.0241.002
sparse2full0.0030.0000.002
split_centromere0.0100.0040.013
total_sum0.1120.0000.105
visualize_pvals0.5080.0200.521