Back to Multiple platform build/check report for BioC 3.18:   simplified   long
ABCDEFG[H]IJKLMNOPQRSTUVWXYZ

This page was generated on 2024-02-27 11:36:43 -0500 (Tue, 27 Feb 2024).

HostnameOSArch (*)R versionInstalled pkgs
nebbiolo2Linux (Ubuntu 22.04.3 LTS)x86_644.3.2 Patched (2023-11-13 r85521) -- "Eye Holes" 4691
palomino4Windows Server 2022 Datacenterx644.3.2 (2023-10-31 ucrt) -- "Eye Holes" 4444
lconwaymacOS 12.7.1 Montereyx86_644.3.2 Patched (2023-11-01 r85457) -- "Eye Holes" 4465
Click on any hostname to see more info about the system (e.g. compilers)      (*) as reported by 'uname -p', except on Windows and Mac OS X

Package 949/2266HostnameOS / ArchINSTALLBUILDCHECKBUILD BIN
HiCcompare 1.24.0  (landing page)
Mikhail Dozmorov
Snapshot Date: 2024-02-26 14:53:20 -0500 (Mon, 26 Feb 2024)
git_url: https://git.bioconductor.org/packages/HiCcompare
git_branch: RELEASE_3_18
git_last_commit: 07ca875
git_last_commit_date: 2023-10-24 10:58:31 -0500 (Tue, 24 Oct 2023)
nebbiolo2Linux (Ubuntu 22.04.3 LTS) / x86_64  OK    OK    OK  UNNEEDED, same version is already published
palomino4Windows Server 2022 Datacenter / x64  OK    OK    OK    OK  UNNEEDED, same version is already published
lconwaymacOS 12.7.1 Monterey / x86_64  OK    OK    OK    OK  UNNEEDED, same version is already published
kjohnson1macOS 13.6.1 Ventura / arm64see weekly results here

BUILD BIN results for HiCcompare on palomino4


To the developers/maintainers of the HiCcompare package:
- Allow up to 24 hours (and sometimes 48 hours) for your latest push to git@git.bioconductor.org:packages/HiCcompare.git to reflect on this report. See Troubleshooting Build Report for more information.
- Use the following Renviron settings to reproduce errors and warnings.
- If 'R CMD check' started to fail recently on the Linux builder(s) over a missing dependency, add the missing dependency to 'Suggests:' in your DESCRIPTION file. See Renviron.bioc for more information.

raw results


Summary

Package: HiCcompare
Version: 1.24.0
Command: rm -rf HiCcompare.buildbin-libdir && mkdir HiCcompare.buildbin-libdir && F:\biocbuild\bbs-3.18-bioc\R\bin\R.exe CMD INSTALL --build --library=HiCcompare.buildbin-libdir HiCcompare_1.24.0.tar.gz
StartedAt: 2024-02-27 10:48:02 -0500 (Tue, 27 Feb 2024)
EndedAt: 2024-02-27 10:48:49 -0500 (Tue, 27 Feb 2024)
EllapsedTime: 46.8 seconds
RetCode: 0
Status:   OK  
PackageFile: HiCcompare_1.24.0.zip
PackageFileSize: 3.437 MiB

Command output

##############################################################################
##############################################################################
###
### Running command:
###
###   rm -rf HiCcompare.buildbin-libdir && mkdir HiCcompare.buildbin-libdir && F:\biocbuild\bbs-3.18-bioc\R\bin\R.exe CMD INSTALL --build --library=HiCcompare.buildbin-libdir HiCcompare_1.24.0.tar.gz
###
##############################################################################
##############################################################################


* installing *source* package 'HiCcompare' ...
** using staged installation
** R
** data
*** moving datasets to lazyload DB
** inst
** byte-compile and prepare package for lazy loading
Note: wrong number of arguments to 'ceiling' 
** help
*** installing help indices
** building package indices
** installing vignettes
** testing if installed package can be loaded from temporary location
** testing if installed package can be loaded from final location
** testing if installed package keeps a record of temporary installation path
* MD5 sums
packaged installation of 'HiCcompare' as HiCcompare_1.24.0.zip
* DONE (HiCcompare)