Index of /checkResults/release/bioc-LATEST/HiCcompare/raw-results

[ICO]NameLast modifiedSizeDescription

[DIR]Parent Directory  -  
[   ]info.dcf03-Feb-2023 01:08 331  
[DIR]kjohnson/12-Jul-2022 00:06 -  
[DIR]lconway/03-Feb-2023 01:08 -  
[DIR]nebbiolo2/03-Feb-2023 01:05 -  
[DIR]palomino4/03-Feb-2023 01:06 -