Back to Multiple platform build/check report for BioC 3.15
ABCD[E]FGHIJKLMNOPQRSTUVWXYZ

This page was generated on 2022-08-15 13:19:20 -0400 (Mon, 15 Aug 2022).

HostnameOSArch (*)R versionInstalled pkgs
nebbiolo1Linux (Ubuntu 20.04.4 LTS)x86_644.2.1 (2022-06-23) -- "Funny-Looking Kid" 4365
palomino3Windows Server 2022 Datacenterx644.2.1 (2022-06-23 ucrt) -- "Funny-Looking Kid" 4118
merida1macOS 10.14.6 Mojavex86_644.2.1 (2022-06-23) -- "Funny-Looking Kid" 4183
Click on any hostname to see more info about the system (e.g. compilers)      (*) as reported by 'uname -p', except on Windows and Mac OS X

All results for package ExperimentHub


To the developers/maintainers of the ExperimentHub package:
- Please allow up to 24 hours (and sometimes 48 hours) for your latest push to git@git.bioconductor.org:packages/ExperimentHub.git to
reflect on this report. See How and When does the builder pull? When will my changes propagate? for more information.
- Make sure to use the following settings in order to reproduce any error or warning you see on this page.

raw results

Package 635/2140HostnameOS / ArchINSTALLBUILDCHECKBUILD BIN
ExperimentHub 2.4.0  (landing page)
Bioconductor Package Maintainer
Snapshot Date: 2022-08-14 13:55:13 -0400 (Sun, 14 Aug 2022)
git_url: https://git.bioconductor.org/packages/ExperimentHub
git_branch: RELEASE_3_15
git_last_commit: bdce35d
git_last_commit_date: 2022-04-26 11:29:40 -0400 (Tue, 26 Apr 2022)
nebbiolo1Linux (Ubuntu 20.04.4 LTS) / x86_64  OK    OK    OK  UNNEEDED, same version is already published
palomino3Windows Server 2022 Datacenter / x64  OK    OK    OK    OK  UNNEEDED, same version is already published
merida1macOS 10.14.6 Mojave / x86_64  OK    OK    OK    OK  UNNEEDED, same version is already published

Results for Bioconductor software packages that depend directly on package ExperimentHub

QUICK STATSOS / ArchINSTALLBUILDCHECKBUILD BIN
nebbiolo1Linux (Ubuntu 20.04.4 LTS) / x86_64
0017
0017
00314
palomino3Windows Server 2022 Datacenter / x64
0016
0016
01312
0016
merida1macOS 10.14.6 Mojave / x86_64
0017
0017
00314
0017
Package 1/17HostnameOS / ArchINSTALLBUILDCHECKBUILD BIN
adductomicsR 1.12.0  (landing page)
Josie Hayes
git_last_commit: 3fd767a
git_last_commit_date: 2022-04-26 11:52:54 -0400
nebbiolo1Linux (Ubuntu 20.04.4 LTS) / x86_64  OK    OK    WARNINGS  UNNEEDED, same version is already published
palomino3Windows Server 2022 Datacenter / x64  OK    OK    WARNINGS    OK  UNNEEDED, same version is already published
merida1macOS 10.14.6 Mojave / x86_64  OK    OK    WARNINGS    OK  UNNEEDED, same version is already published
Package 2/17HostnameOS / ArchINSTALLBUILDCHECKBUILD BIN
BloodGen3Module 1.4.0  (landing page)
Darawan Rinchai
git_last_commit: c596a7f
git_last_commit_date: 2022-04-26 12:16:05 -0400
nebbiolo1Linux (Ubuntu 20.04.4 LTS) / x86_64  OK    OK    WARNINGS  UNNEEDED, same version is already published
palomino3Windows Server 2022 Datacenter / x64  OK    OK    WARNINGS    OK  UNNEEDED, same version is already published
merida1macOS 10.14.6 Mojave / x86_64  OK    OK    WARNINGS    OK  UNNEEDED, same version is already published
Package 3/17HostnameOS / ArchINSTALLBUILDCHECKBUILD BIN
coMethDMR 1.0.0  (landing page)
Fernanda Veitzman
git_last_commit: 1f363f7
git_last_commit_date: 2022-04-26 12:20:23 -0400
nebbiolo1Linux (Ubuntu 20.04.4 LTS) / x86_64  OK    OK    OK  UNNEEDED, same version is already published
palomino3Windows Server 2022 Datacenter / x64  OK    OK    OK    OK  UNNEEDED, same version is already published
merida1macOS 10.14.6 Mojave / x86_64  OK    OK    OK    OK  UNNEEDED, same version is already published
Package 4/17HostnameOS / ArchINSTALLBUILDCHECKBUILD BIN
DMRcate 2.10.0  (landing page)
Tim Peters
git_last_commit: 81e8370
git_last_commit_date: 2022-04-26 11:18:02 -0400
nebbiolo1Linux (Ubuntu 20.04.4 LTS) / x86_64  OK    OK    OK  UNNEEDED, same version is already published
palomino3Windows Server 2022 Datacenter / x64  OK    OK    ERROR    OK  
merida1macOS 10.14.6 Mojave / x86_64  OK    OK    OK    OK  UNNEEDED, same version is already published
Package 5/17HostnameOS / ArchINSTALLBUILDCHECKBUILD BIN
ENmix 1.32.0  (landing page)
Zongli Xu
git_last_commit: 7abd1c3
git_last_commit_date: 2022-04-26 11:25:08 -0400
nebbiolo1Linux (Ubuntu 20.04.4 LTS) / x86_64  OK    OK    OK  UNNEEDED, same version is already published
palomino3Windows Server 2022 Datacenter / x64  OK    OK    OK    OK  UNNEEDED, same version is already published
merida1macOS 10.14.6 Mojave / x86_64  OK    OK    OK    OK  UNNEEDED, same version is already published
Package 6/17HostnameOS / ArchINSTALLBUILDCHECKBUILD BIN
ExperimentHubData 1.22.0  (landing page)
Bioconductor Package Maintainer
git_last_commit: 8d98ef9
git_last_commit_date: 2022-04-26 11:29:42 -0400
nebbiolo1Linux (Ubuntu 20.04.4 LTS) / x86_64  OK    OK    OK  UNNEEDED, same version is already published
palomino3Windows Server 2022 Datacenter / x64  OK    OK    OK    OK  UNNEEDED, same version is already published
merida1macOS 10.14.6 Mojave / x86_64  OK    OK    OK    OK  UNNEEDED, same version is already published
Package 7/17HostnameOS / ArchINSTALLBUILDCHECKBUILD BIN
GSEABenchmarkeR 1.16.0  (landing page)
Ludwig Geistlinger
git_last_commit: 657ddbb
git_last_commit_date: 2022-04-26 11:48:07 -0400
nebbiolo1Linux (Ubuntu 20.04.4 LTS) / x86_64  OK    OK    OK  UNNEEDED, same version is already published
palomino3Windows Server 2022 Datacenter / x64  OK    OK    OK    OK  UNNEEDED, same version is already published
merida1macOS 10.14.6 Mojave / x86_64  OK    OK    OK    OK  UNNEEDED, same version is already published
Package 8/17HostnameOS / ArchINSTALLBUILDCHECKBUILD BIN
LRcell 1.4.0  (landing page)
Wenjing Ma
git_last_commit: f7ee009
git_last_commit_date: 2022-04-26 12:14:26 -0400
nebbiolo1Linux (Ubuntu 20.04.4 LTS) / x86_64  OK    OK    OK  UNNEEDED, same version is already published
palomino3Windows Server 2022 Datacenter / x64  OK    OK    OK    OK  UNNEEDED, same version is already published
merida1macOS 10.14.6 Mojave / x86_64  OK    OK    OK    OK  UNNEEDED, same version is already published
Package 9/17HostnameOS / ArchINSTALLBUILDCHECKBUILD BIN
m6Aboost 1.2.0  (landing page)
You Zhou
git_last_commit: 7b19574
git_last_commit_date: 2022-04-26 12:16:41 -0400
nebbiolo1Linux (Ubuntu 20.04.4 LTS) / x86_64  OK    OK    OK  UNNEEDED, same version is already published
palomino3Windows Server 2022 Datacenter / x64  OK    OK    OK    OK  UNNEEDED, same version is already published
merida1macOS 10.14.6 Mojave / x86_64  OK    OK    OK    OK  UNNEEDED, same version is already published
Package 10/17HostnameOS / ArchINSTALLBUILDCHECKBUILD BIN
MACSr 1.4.0  (landing page)
Qiang Hu
git_last_commit: e4327db
git_last_commit_date: 2022-04-26 12:12:47 -0400
nebbiolo1Linux (Ubuntu 20.04.4 LTS) / x86_64  OK    OK    OK  UNNEEDED, same version is already published
palomino3Windows Server 2022 Datacenter / x64... NOT SUPPORTED ...
merida1macOS 10.14.6 Mojave / x86_64  OK    OK    OK    OK  UNNEEDED, same version is already published
Package 11/17HostnameOS / ArchINSTALLBUILDCHECKBUILD BIN
MethReg 1.6.0  (landing page)
Tiago Silva
git_last_commit: 41583fc
git_last_commit_date: 2022-04-26 12:08:37 -0400
nebbiolo1Linux (Ubuntu 20.04.4 LTS) / x86_64  OK    OK    WARNINGS  UNNEEDED, same version is already published
palomino3Windows Server 2022 Datacenter / x64  OK    OK    WARNINGS    OK  UNNEEDED, same version is already published
merida1macOS 10.14.6 Mojave / x86_64  OK    OK    WARNINGS    OK  UNNEEDED, same version is already published
Package 12/17HostnameOS / ArchINSTALLBUILDCHECKBUILD BIN
methylclock 1.2.1  (landing page)
Dolors Pelegri-Siso
git_last_commit: 7214c6b
git_last_commit_date: 2022-07-11 10:33:58 -0400
nebbiolo1Linux (Ubuntu 20.04.4 LTS) / x86_64  OK    OK    OK  UNNEEDED, same version is already published
palomino3Windows Server 2022 Datacenter / x64  OK    OK    OK    OK  UNNEEDED, same version is already published
merida1macOS 10.14.6 Mojave / x86_64  OK    OK    OK    OK  UNNEEDED, same version is already published
Package 13/17HostnameOS / ArchINSTALLBUILDCHECKBUILD BIN
PhyloProfile 1.10.5  (landing page)
Vinh Tran
git_last_commit: b8902d5
git_last_commit_date: 2022-08-02 09:54:54 -0400
nebbiolo1Linux (Ubuntu 20.04.4 LTS) / x86_64  OK    OK    OK  UNNEEDED, same version is already published
palomino3Windows Server 2022 Datacenter / x64  OK    OK    OK    OK  UNNEEDED, same version is already published
merida1macOS 10.14.6 Mojave / x86_64  OK    OK    OK    OK  UNNEEDED, same version is already published
Package 14/17HostnameOS / ArchINSTALLBUILDCHECKBUILD BIN
restfulSE 1.18.0  (landing page)
Shweta Gopaulakrishnan
git_last_commit: bd7e725
git_last_commit_date: 2022-04-26 11:43:36 -0400
nebbiolo1Linux (Ubuntu 20.04.4 LTS) / x86_64  OK    OK    OK  UNNEEDED, same version is already published
palomino3Windows Server 2022 Datacenter / x64  OK    OK    OK    OK  UNNEEDED, same version is already published
merida1macOS 10.14.6 Mojave / x86_64  OK    OK    OK    OK  UNNEEDED, same version is already published
Package 15/17HostnameOS / ArchINSTALLBUILDCHECKBUILD BIN
SeqSQC 1.18.0  (landing page)
Qian Liu
git_last_commit: 92da15a
git_last_commit_date: 2022-04-26 11:44:54 -0400
nebbiolo1Linux (Ubuntu 20.04.4 LTS) / x86_64  OK    OK    OK  UNNEEDED, same version is already published
palomino3Windows Server 2022 Datacenter / x64  OK    OK    OK    OK  UNNEEDED, same version is already published
merida1macOS 10.14.6 Mojave / x86_64  OK    OK    OK    OK  UNNEEDED, same version is already published
Package 16/17HostnameOS / ArchINSTALLBUILDCHECKBUILD BIN
signatureSearch 1.10.0  (landing page)
Brendan Gongol
git_last_commit: 4ec2b4d
git_last_commit_date: 2022-04-26 12:01:12 -0400
nebbiolo1Linux (Ubuntu 20.04.4 LTS) / x86_64  OK    OK    OK  UNNEEDED, same version is already published
palomino3Windows Server 2022 Datacenter / x64  OK    OK    OK    OK  UNNEEDED, same version is already published
merida1macOS 10.14.6 Mojave / x86_64  OK    OK    OK    OK  UNNEEDED, same version is already published
Package 17/17HostnameOS / ArchINSTALLBUILDCHECKBUILD BIN
singleCellTK 2.6.0  (landing page)
Yichen Wang
git_last_commit: b6fc536
git_last_commit_date: 2022-04-26 11:48:48 -0400
nebbiolo1Linux (Ubuntu 20.04.4 LTS) / x86_64  OK    OK    OK  UNNEEDED, same version is already published
palomino3Windows Server 2022 Datacenter / x64  OK    OK    OK    OK  UNNEEDED, same version is already published
merida1macOS 10.14.6 Mojave / x86_64  OK    OK    OK    OK  UNNEEDED, same version is already published