Back to Multiple platform build/check report for BioC 3.15
ABCDEFGHIJKLMNOPQRS[T]UVWXYZ

This page was generated on 2022-01-19 11:07:00 -0500 (Wed, 19 Jan 2022).

HostnameOSArch (*)R versionInstalled pkgs
nebbiolo1Linux (Ubuntu 20.04.4 LTS)x86_64R Under development (unstable) (2022-01-05 r81451) -- "Unsuffered Consequences" 4161
riesling1Windows Server 2019 Standardx64R Under development (unstable) (2021-11-21 r81221) -- "Unsuffered Consequences" 4056
palomino3Windows Server 2022 Datacenterx64R Under development (unstable) (2021-12-21 r81400 ucrt) -- "Unsuffered Consequences" 3998
merida1macOS 10.14.6 Mojavex86_64R Under development (unstable) (2022-01-05 r81451) -- "Unsuffered Consequences" 4115
Click on any hostname to see more info about the system (e.g. compilers)      (*) as reported by 'uname -p', except on Windows and Mac OS X

CHECK results for tilingArray on nebbiolo1


To the developers/maintainers of the tilingArray package:
- Please allow up to 24 hours (and sometimes 48 hours) for your latest push to git@git.bioconductor.org:packages/tilingArray.git to
reflect on this report. See How and When does the builder pull? When will my changes propagate? here for more information.
- Make sure to use the following settings in order to reproduce any error or warning you see on this page.

raw results

Package 1946/2074HostnameOS / ArchINSTALLBUILDCHECKBUILD BIN
tilingArray 1.73.0  (landing page)
Zhenyu Xu
Snapshot Date: 2022-01-18 13:55:18 -0500 (Tue, 18 Jan 2022)
git_url: https://git.bioconductor.org/packages/tilingArray
git_branch: master
git_last_commit: 886d6ad
git_last_commit_date: 2021-10-26 11:47:46 -0500 (Tue, 26 Oct 2021)
nebbiolo1Linux (Ubuntu 20.04.4 LTS) / x86_64  OK    OK    OK  UNNEEDED, same version is already published
riesling1Windows Server 2019 Standard / x64  OK    OK    OK    OK  
palomino3Windows Server 2022 Datacenter / x64  OK    OK    OK    OK  NO, package depends on 'Biobase' which is not available
merida1macOS 10.14.6 Mojave / x86_64  OK    OK    OK    OK  UNNEEDED, same version is already published

Summary

Package: tilingArray
Version: 1.73.0
Command: /home/biocbuild/bbs-3.15-bioc/R/bin/R CMD check --install=check:tilingArray.install-out.txt --library=/home/biocbuild/bbs-3.15-bioc/R/library --no-vignettes --timings tilingArray_1.73.0.tar.gz
StartedAt: 2022-01-18 21:21:01 -0500 (Tue, 18 Jan 2022)
EndedAt: 2022-01-18 21:23:10 -0500 (Tue, 18 Jan 2022)
EllapsedTime: 128.7 seconds
RetCode: 0
Status:   OK  
CheckDir: tilingArray.Rcheck
Warnings: 0

Command output

##############################################################################
##############################################################################
###
### Running command:
###
###   /home/biocbuild/bbs-3.15-bioc/R/bin/R CMD check --install=check:tilingArray.install-out.txt --library=/home/biocbuild/bbs-3.15-bioc/R/library --no-vignettes --timings tilingArray_1.73.0.tar.gz
###
##############################################################################
##############################################################################


* using log directory ‘/home/biocbuild/bbs-3.15-bioc/meat/tilingArray.Rcheck’
* using R Under development (unstable) (2022-01-05 r81451)
* using platform: x86_64-pc-linux-gnu (64-bit)
* using session charset: UTF-8
* using option ‘--no-vignettes’
* checking for file ‘tilingArray/DESCRIPTION’ ... OK
* this is package ‘tilingArray’ version ‘1.73.0’
* checking package namespace information ... OK
* checking package dependencies ... OK
* checking if this is a source package ... OK
* checking if there is a namespace ... OK
* checking for hidden files and directories ... OK
* checking for portable file names ... OK
* checking for sufficient/correct file permissions ... OK
* checking whether package ‘tilingArray’ can be installed ... OK
* checking installed package size ... OK
* checking package directory ... OK
* checking ‘build’ directory ... OK
* checking DESCRIPTION meta-information ... OK
* checking top-level files ... OK
* checking for left-over files ... OK
* checking index information ... OK
* checking package subdirectories ... OK
* checking R files for non-ASCII characters ... OK
* checking R files for syntax errors ... OK
* checking whether the package can be loaded ... OK
* checking whether the package can be loaded with stated dependencies ... OK
* checking whether the package can be unloaded cleanly ... OK
* checking whether the namespace can be loaded with stated dependencies ... OK
* checking whether the namespace can be unloaded cleanly ... OK
* checking dependencies in R code ... NOTE
Packages in Depends field not imported from:
  ‘Biobase’ ‘pixmap’
  These packages need to be imported from (in the NAMESPACE file)
  for when this namespace is loaded but not attached.
* checking S3 generic/method consistency ... OK
* checking replacement functions ... OK
* checking foreign function calls ... OK
* checking R code for possible problems ... NOTE
.onAttach: no visible global function definition for ‘addVigs2WinMenu’
comparisonPlot : myColors: no visible global function definition for
  ‘quantile’
grid.image: no visible global function definition for ‘colorRamp’
grid.image: no visible global function definition for ‘rgb’
interpolateZ: no visible global function definition for ‘approx’
matDensities : densXY: no visible global function definition for
  ‘density’
myPixmap: no visible global function definition for ‘pixmapGrey’
myWrite: no visible global function definition for ‘write.pnm’
normalizeByReference: no visible global function definition for ‘exprs’
normalizeByReference: no visible global function definition for
  ‘quantile’
normalizeByReference: no visible global function definition for
  ‘approxfun’
normalizeByReference: no visible global function definition for ‘pdf’
normalizeByReference: no visible global function definition for
  ‘smoothScatter’
normalizeByReference: no visible global function definition for ‘lines’
normalizeByReference: no visible global function definition for
  ‘dev.off’
normalizeByReference: no visible global function definition for
  ‘exprs<-’
plotAlongChrom: no visible global function definition for ‘colorRamp’
plotAlongChrom: no visible global function definition for ‘quantile’
plotFeatures: no visible global function definition for ‘listLen’
plotPenLL: no visible binding for global variable ‘quantile’
plotPenLL: no visible global function definition for ‘matplot’
plotPenLL: no visible global function definition for ‘segments’
plotPenLL: no visible global function definition for ‘legend’
plotSegmentationDots: no visible global function definition for
  ‘quantile’
plotSegmentationHeatmap: no visible global function definition for
  ‘colorRamp’
plotSegmentationHeatmap: no visible global function definition for
  ‘quantile’
qcPlots: no visible global function definition for ‘pData’
qcPlots: no visible global function definition for ‘exprs’
qcPlots: no visible global function definition for ‘png’
qcPlots: no visible global function definition for ‘boxplot’
qcPlots: no visible global function definition for ‘dev.off’
qcPlots: no visible global function definition for ‘matplot’
qcPlots: no visible global function definition for ‘jpeg’
raster.image: no visible global function definition for ‘colorRamp’
raster.image: no visible global function definition for ‘rgb’
readCel2eSet: no visible global function definition for ‘varLabels’
segChrom: no visible global function definition for ‘exprs’
plot,segmentation-ANY: no visible global function definition for ‘note’
plot,segmentation-ANY: no visible global function definition for
  ‘plot.default’
plot,segmentation-ANY: no visible global function definition for
  ‘abline’
plot,segmentation-ANY: no visible global function definition for
  ‘mtext’
Undefined global functions or variables:
  abline addVigs2WinMenu approx approxfun boxplot colorRamp density
  dev.off exprs exprs<- jpeg legend lines listLen matplot mtext note
  pData pdf pixmapGrey plot.default png quantile rgb segments
  smoothScatter varLabels write.pnm
Consider adding
  importFrom("grDevices", "colorRamp", "dev.off", "jpeg", "pdf", "png",
             "rgb")
  importFrom("graphics", "abline", "boxplot", "legend", "lines",
             "matplot", "mtext", "plot.default", "segments",
             "smoothScatter")
  importFrom("stats", "approx", "approxfun", "density", "quantile")
to your NAMESPACE file.
* checking Rd files ... OK
* checking Rd metadata ... OK
* checking Rd cross-references ... OK
* checking for missing documentation entries ... OK
* checking for code/documentation mismatches ... OK
* checking Rd \usage sections ... OK
* checking Rd contents ... OK
* checking for unstated dependencies in examples ... OK
* checking contents of ‘data’ directory ... OK
* checking data for non-ASCII characters ... OK
* checking data for ASCII and uncompressed saves ... OK
* checking line endings in C/C++/Fortran sources/headers ... OK
* checking line endings in Makefiles ... OK
* checking for GNU extensions in Makefiles ... OK
* checking include directives in Makefiles ... OK
* checking compiled code ... NOTE
Note: information on .o files is not available
* checking files in ‘vignettes’ ... OK
* checking examples ... OK
* checking for unstated dependencies in vignettes ... OK
* checking package vignettes in ‘inst/doc’ ... OK
* checking running R code from vignettes ... SKIPPED
* checking re-building of vignette outputs ... SKIPPED
* checking PDF version of manual ... OK
* DONE

Status: 3 NOTEs
See
  ‘/home/biocbuild/bbs-3.15-bioc/meat/tilingArray.Rcheck/00check.log’
for details.



Installation output

tilingArray.Rcheck/00install.out

##############################################################################
##############################################################################
###
### Running command:
###
###   /home/biocbuild/bbs-3.15-bioc/R/bin/R CMD INSTALL tilingArray
###
##############################################################################
##############################################################################


* installing to library ‘/home/biocbuild/bbs-3.15-bioc/R/library’
* installing *source* package ‘tilingArray’ ...
** using staged installation
** libs
gcc -I"/home/biocbuild/bbs-3.15-bioc/R/include" -DNDEBUG   -I/usr/local/include   -fpic  -g -O2  -Wall -c findsegments.c -o findsegments.o
gcc -I"/home/biocbuild/bbs-3.15-bioc/R/include" -DNDEBUG   -I/usr/local/include   -fpic  -g -O2  -Wall -c sampleStep.c -o sampleStep.o
gcc -shared -L/home/biocbuild/bbs-3.15-bioc/R/lib -L/usr/local/lib -o tilingArray.so findsegments.o sampleStep.o -L/home/biocbuild/bbs-3.15-bioc/R/lib -lR
installing to /home/biocbuild/bbs-3.15-bioc/R/library/00LOCK-tilingArray/00new/tilingArray/libs
** R
** data
** inst
** byte-compile and prepare package for lazy loading
** help
*** installing help indices
** building package indices
** installing vignettes
** testing if installed package can be loaded from temporary location
** checking absolute paths in shared objects and dynamic libraries
** testing if installed package can be loaded from final location
** testing if installed package keeps a record of temporary installation path
* DONE (tilingArray)

Tests output


Example timings

tilingArray.Rcheck/tilingArray-Ex.timings

nameusersystemelapsed
PMindex0.0010.0000.001
class-segmentation0.030.000.03
comparisonPlot000
costMatrix0.0410.0000.041
findsegments0.0010.0000.001
gffSub0.8120.0160.828
normalizeByReference0.0010.0000.001
otherStrand0.0010.0000.001
plotAlongChrom0.2190.0230.243
plotAlongChromLegend000
plotSegmentationHeatmap0.0530.0000.053
plotpenLL0.1490.0000.149
posMin000
qcPlots000
readCel2eSet000
sampleStep0.0010.0000.001
segChrom0.0010.0000.001
segment0.0010.0000.001
segnf0.0550.0000.055