Back to Multiple platform build/check report for BioC 3.15
ABCDEFGHIJKLMNOPQRS[T]UVWXYZ

This page was generated on 2022-01-17 11:12:14 -0500 (Mon, 17 Jan 2022).

HostnameOSArch (*)R versionInstalled pkgs
nebbiolo1Linux (Ubuntu 20.04.4 LTS)x86_64R Under development (unstable) (2022-01-05 r81451) -- "Unsuffered Consequences" 4161
riesling1Windows Server 2019 Standardx64R Under development (unstable) (2021-11-21 r81221) -- "Unsuffered Consequences" 4056
palomino3Windows Server 2022 Datacenterx64R Under development (unstable) (2021-12-21 r81400 ucrt) -- "Unsuffered Consequences" 3998
merida1macOS 10.14.6 Mojavex86_64R Under development (unstable) (2022-01-05 r81451) -- "Unsuffered Consequences" 4115
Click on any hostname to see more info about the system (e.g. compilers)      (*) as reported by 'uname -p', except on Windows and Mac OS X

BUILD BIN results for ternarynet on merida1


To the developers/maintainers of the ternarynet package:
- Please allow up to 24 hours (and sometimes 48 hours) for your latest push to git@git.bioconductor.org:packages/ternarynet.git to
reflect on this report. See How and When does the builder pull? When will my changes propagate? here for more information.
- Make sure to use the following settings in order to reproduce any error or warning you see on this page.

raw results

Package 1935/2074HostnameOS / ArchINSTALLBUILDCHECKBUILD BIN
ternarynet 1.39.0  (landing page)
McCall N. Matthew
Snapshot Date: 2022-01-16 13:55:18 -0500 (Sun, 16 Jan 2022)
git_url: https://git.bioconductor.org/packages/ternarynet
git_branch: master
git_last_commit: 5e7b0fe
git_last_commit_date: 2021-10-26 12:02:04 -0500 (Tue, 26 Oct 2021)
nebbiolo1Linux (Ubuntu 20.04.4 LTS) / x86_64  OK    OK    OK  UNNEEDED, same version is already published
riesling1Windows Server 2019 Standard / x64  OK    OK    OK    OK  
palomino3Windows Server 2022 Datacenter / x64  OK    OK    OK    OK  NO, package depends on 'BiocParallel' which is not available
merida1macOS 10.14.6 Mojave / x86_64  OK    OK    OK    OK  UNNEEDED, same version is already published

Summary

Package: ternarynet
Version: 1.39.0
Command: rm -rf ternarynet.buildbin-libdir && mkdir ternarynet.buildbin-libdir && /Users/biocbuild/BBS/utils/build-universal.sh ternarynet_1.39.0.tar.gz /Library/Frameworks/R.framework/Resources/bin/R ternarynet.buildbin-libdir
StartedAt: 2022-01-17 08:38:39 -0500 (Mon, 17 Jan 2022)
EndedAt: 2022-01-17 08:38:58 -0500 (Mon, 17 Jan 2022)
EllapsedTime: 18.9 seconds
RetCode: 0
Status:   OK  
PackageFile: ternarynet_1.39.0.tgz
PackageFileSize: 452.6 KiB

Command output

##############################################################################
##############################################################################
###
### Running command:
###
###   rm -rf ternarynet.buildbin-libdir && mkdir ternarynet.buildbin-libdir && /Users/biocbuild/BBS/utils/build-universal.sh ternarynet_1.39.0.tar.gz /Library/Frameworks/R.framework/Resources/bin/R ternarynet.buildbin-libdir
###
##############################################################################
##############################################################################


>>>>>>> 
>>>>>>> INSTALLATION WITH 'R CMD INSTALL --preclean --no-multiarch --library=ternarynet.buildbin-libdir ternarynet_1.39.0.tar.gz'
>>>>>>> 

* installing *source* package ‘ternarynet’ ...
** using staged installation
** libs
clang -mmacosx-version-min=10.13 -I"/Library/Frameworks/R.framework/Resources/include" -DNDEBUG   -I/usr/local/include   -fPIC  -Wall -g -O2  -c array.c -o array.o
clang -mmacosx-version-min=10.13 -I"/Library/Frameworks/R.framework/Resources/include" -DNDEBUG   -I/usr/local/include   -fPIC  -Wall -g -O2  -c gn.c -o gn.o
clang -mmacosx-version-min=10.13 -I"/Library/Frameworks/R.framework/Resources/include" -DNDEBUG   -I/usr/local/include   -fPIC  -Wall -g -O2  -c gn_Rwrap.c -o gn_Rwrap.o
clang -mmacosx-version-min=10.13 -I"/Library/Frameworks/R.framework/Resources/include" -DNDEBUG   -I/usr/local/include   -fPIC  -Wall -g -O2  -c init.c -o init.o
clang++ -mmacosx-version-min=10.13 -std=gnu++14 -I"/Library/Frameworks/R.framework/Resources/include" -DNDEBUG   -I/usr/local/include   -fPIC  -Wall -g -O2  -c tnetfit.cc -o tnetfit.o
tnetfit.cc:73:39: warning: unused variable 'tempi' [-Wunused-variable]
    int nOutcomes=3, l0, stage_count, tempi, jtrans, nTransition;
                                      ^
1 warning generated.
clang++ -mmacosx-version-min=10.13 -std=gnu++14 -I"/Library/Frameworks/R.framework/Resources/include" -DNDEBUG   -I/usr/local/include   -fPIC  -Wall -g -O2  -c tnetfuncs.cc -o tnetfuncs.o
tnetfuncs.cc:435:5: warning: unused variable 'ipause' [-Wunused-variable]
int ipause;
    ^
tnetfuncs.cc:427:5: warning: unused variable 'tableWidth' [-Wunused-variable]
int tableWidth = powi(nOutcomes,maxDegree);
    ^
tnetfuncs.cc:521:16: warning: unused variable 'i' [-Wunused-variable]
        int m1, m2, i;
                    ^
tnetfuncs.cc:517:6: warning: unused variable 'ipause' [-Wunused-variable]
        int ipause; 
            ^
4 warnings generated.
clang++ -mmacosx-version-min=10.13 -std=gnu++14 -I"/Library/Frameworks/R.framework/Resources/include" -DNDEBUG   -I/usr/local/include   -fPIC  -Wall -g -O2  -c tnetpost.cc -o tnetpost.o
tnetpost.cc:25:9: warning: unused variable 'ipause' [-Wunused-variable]
    int ipause;
        ^
tnetpost.cc:27:9: warning: unused variable 'm0fit' [-Wunused-variable]
    int m0fit;
        ^
tnetpost.cc:30:9: warning: unused variable 'l0' [-Wunused-variable]
    int l0, stage_count, tempi, jtrans, nTransition;
        ^
tnetpost.cc:28:42: warning: unused variable 'finalScore' [-Wunused-variable]
    double newScore, oldScore, minScore, finalScore;
                                         ^
tnetpost.cc:30:41: warning: unused variable 'nTransition' [-Wunused-variable]
    int l0, stage_count, tempi, jtrans, nTransition;
                                        ^
tnetpost.cc:30:33: warning: unused variable 'jtrans' [-Wunused-variable]
    int l0, stage_count, tempi, jtrans, nTransition;
                                ^
tnetpost.cc:30:26: warning: unused variable 'tempi' [-Wunused-variable]
    int l0, stage_count, tempi, jtrans, nTransition;
                         ^
tnetpost.cc:30:13: warning: unused variable 'stage_count' [-Wunused-variable]
    int l0, stage_count, tempi, jtrans, nTransition;
            ^
8 warnings generated.
clang -mmacosx-version-min=10.13 -I"/Library/Frameworks/R.framework/Resources/include" -DNDEBUG   -I/usr/local/include   -fPIC  -Wall -g -O2  -c util.c -o util.o
clang++ -mmacosx-version-min=10.13 -std=gnu++14 -dynamiclib -Wl,-headerpad_max_install_names -undefined dynamic_lookup -single_module -multiply_defined suppress -L/Library/Frameworks/R.framework/Resources/lib -L/usr/local/lib -o ternarynet.so array.o gn.o gn_Rwrap.o init.o tnetfit.o tnetfuncs.o tnetpost.o util.o -F/Library/Frameworks/R.framework/.. -framework R -Wl,-framework -Wl,CoreFoundation
installing to /Users/biocbuild/bbs-3.15-bioc/meat/ternarynet.buildbin-libdir/00LOCK-ternarynet/00new/ternarynet/libs
** R
** inst
** byte-compile and prepare package for lazy loading
** help
*** installing help indices
** building package indices
** installing vignettes
** testing if installed package can be loaded from temporary location
** checking absolute paths in shared objects and dynamic libraries
** testing if installed package can be loaded from final location
** testing if installed package keeps a record of temporary installation path
* DONE (ternarynet)


>>>>>>> 
>>>>>>> FIXING LINKS FOR ternarynet.buildbin-libdir/ternarynet/libs/ternarynet.so
>>>>>>> 

install_name_tool -change "/usr/local/lib/libgcc_s.1.dylib" "/Library/Frameworks/R.framework/Versions/4.2/Resources/lib/libgcc_s.1.dylib" "ternarynet.buildbin-libdir/ternarynet/libs/ternarynet.so"
install_name_tool -change "/usr/local/lib/libgfortran.5.dylib" "/Library/Frameworks/R.framework/Versions/4.2/Resources/lib/libgfortran.5.dylib" "ternarynet.buildbin-libdir/ternarynet/libs/ternarynet.so"
install_name_tool -change "/usr/local/lib/libquadmath.0.dylib" "/Library/Frameworks/R.framework/Versions/4.2/Resources/lib/libquadmath.0.dylib" "ternarynet.buildbin-libdir/ternarynet/libs/ternarynet.so"