Index of /checkResults/devel/bioc-LATEST/ternarynet/raw-results

[ICO]NameLast modifiedSizeDescription

[DIR]Parent Directory  -  
[   ]info.dcf04-Jun-2023 00:07 272  
[DIR]lconway/04-Jun-2023 00:07 -  
[DIR]nebbiolo2/04-Jun-2023 00:05 -  
[DIR]palomino4/04-Jun-2023 00:06 -