Back to Multiple platform build/check report for BioC 3.17 |
|
This page was generated on 2023-02-01 11:10:31 -0500 (Wed, 01 Feb 2023).
Hostname | OS | Arch (*) | R version | Installed pkgs |
---|---|---|---|---|
nebbiolo1 | Linux (Ubuntu 22.04.1 LTS) | x86_64 | R Under development (unstable) (2023-01-10 r83596) -- "Unsuffered Consequences" | 4483 |
palomino3 | Windows Server 2022 Datacenter | x64 | R Under development (unstable) (2023-01-10 r83596 ucrt) -- "Unsuffered Consequences" | 4249 |
merida1 | macOS 10.14.6 Mojave | x86_64 | R Under development (unstable) (2023-01-10 r83596) -- "Unsuffered Consequences" | 4272 |
Click on any hostname to see more info about the system (e.g. compilers) (*) as reported by 'uname -p', except on Windows and Mac OS X |
To the developers/maintainers of the ternarynet package: - Please allow up to 24 hours (and sometimes 48 hours) for your latest push to git@git.bioconductor.org:packages/ternarynet.git to reflect on this report. See How and When does the builder pull? When will my changes propagate? for more information. - Make sure to use the following settings in order to reproduce any error or warning you see on this page. |
Package 2021/2164 | Hostname | OS / Arch | INSTALL | BUILD | CHECK | BUILD BIN | ||||||||
ternarynet 1.43.0 (landing page) McCall N. Matthew
| nebbiolo1 | Linux (Ubuntu 22.04.1 LTS) / x86_64 | OK | OK | WARNINGS | ![]() | ||||||||
palomino3 | Windows Server 2022 Datacenter / x64 | OK | OK | OK | OK | ![]() | ||||||||
merida1 | macOS 10.14.6 Mojave / x86_64 | OK | OK | WARNINGS | OK | ![]() | ||||||||
Package: ternarynet |
Version: 1.43.0 |
Command: /Library/Frameworks/R.framework/Resources/bin/R CMD INSTALL ternarynet |
StartedAt: 2023-01-31 15:21:51 -0500 (Tue, 31 Jan 2023) |
EndedAt: 2023-01-31 15:22:18 -0500 (Tue, 31 Jan 2023) |
EllapsedTime: 26.8 seconds |
RetCode: 0 |
Status: OK |
############################################################################## ############################################################################## ### ### Running command: ### ### /Library/Frameworks/R.framework/Resources/bin/R CMD INSTALL ternarynet ### ############################################################################## ############################################################################## * installing to library ‘/Library/Frameworks/R.framework/Versions/4.3/Resources/library’ * installing *source* package ‘ternarynet’ ... ** using staged installation ** libs using C compiler: ‘Apple clang version 11.0.0 (clang-1100.0.33.17)’ using C++ compiler: ‘Apple clang version 11.0.0 (clang-1100.0.33.17)’ using SDK: ‘’ clang -mmacosx-version-min=10.13 -I"/Library/Frameworks/R.framework/Resources/include" -DNDEBUG -I/usr/local/include -fPIC -Wall -g -O2 -c array.c -o array.o clang -mmacosx-version-min=10.13 -I"/Library/Frameworks/R.framework/Resources/include" -DNDEBUG -I/usr/local/include -fPIC -Wall -g -O2 -c gn.c -o gn.o clang -mmacosx-version-min=10.13 -I"/Library/Frameworks/R.framework/Resources/include" -DNDEBUG -I/usr/local/include -fPIC -Wall -g -O2 -c gn_Rwrap.c -o gn_Rwrap.o clang -mmacosx-version-min=10.13 -I"/Library/Frameworks/R.framework/Resources/include" -DNDEBUG -I/usr/local/include -fPIC -Wall -g -O2 -c init.c -o init.o clang++ -mmacosx-version-min=10.13 -std=gnu++14 -I"/Library/Frameworks/R.framework/Resources/include" -DNDEBUG -I/usr/local/include -fPIC -Wall -g -O2 -c tnetfit.cc -o tnetfit.o tnetfit.cc:73:39: warning: unused variable 'tempi' [-Wunused-variable] int nOutcomes=3, l0, stage_count, tempi, jtrans, nTransition; ^ 1 warning generated. clang++ -mmacosx-version-min=10.13 -std=gnu++14 -I"/Library/Frameworks/R.framework/Resources/include" -DNDEBUG -I/usr/local/include -fPIC -Wall -g -O2 -c tnetfuncs.cc -o tnetfuncs.o tnetfuncs.cc:427:5: warning: unused variable 'tableWidth' [-Wunused-variable] int tableWidth = powi(nOutcomes,maxDegree); ^ tnetfuncs.cc:435:5: warning: unused variable 'ipause' [-Wunused-variable] int ipause; ^ tnetfuncs.cc:517:6: warning: unused variable 'ipause' [-Wunused-variable] int ipause; ^ tnetfuncs.cc:521:16: warning: unused variable 'i' [-Wunused-variable] int m1, m2, i; ^ 4 warnings generated. clang++ -mmacosx-version-min=10.13 -std=gnu++14 -I"/Library/Frameworks/R.framework/Resources/include" -DNDEBUG -I/usr/local/include -fPIC -Wall -g -O2 -c tnetpost.cc -o tnetpost.o tnetpost.cc:25:9: warning: unused variable 'ipause' [-Wunused-variable] int ipause; ^ tnetpost.cc:27:9: warning: unused variable 'm0fit' [-Wunused-variable] int m0fit; ^ tnetpost.cc:30:13: warning: unused variable 'stage_count' [-Wunused-variable] int l0, stage_count, tempi, jtrans, nTransition; ^ tnetpost.cc:30:9: warning: unused variable 'l0' [-Wunused-variable] int l0, stage_count, tempi, jtrans, nTransition; ^ tnetpost.cc:28:42: warning: unused variable 'finalScore' [-Wunused-variable] double newScore, oldScore, minScore, finalScore; ^ tnetpost.cc:30:41: warning: unused variable 'nTransition' [-Wunused-variable] int l0, stage_count, tempi, jtrans, nTransition; ^ tnetpost.cc:30:33: warning: unused variable 'jtrans' [-Wunused-variable] int l0, stage_count, tempi, jtrans, nTransition; ^ tnetpost.cc:30:26: warning: unused variable 'tempi' [-Wunused-variable] int l0, stage_count, tempi, jtrans, nTransition; ^ 8 warnings generated. clang -mmacosx-version-min=10.13 -I"/Library/Frameworks/R.framework/Resources/include" -DNDEBUG -I/usr/local/include -fPIC -Wall -g -O2 -c util.c -o util.o clang++ -mmacosx-version-min=10.13 -std=gnu++14 -dynamiclib -Wl,-headerpad_max_install_names -undefined dynamic_lookup -single_module -multiply_defined suppress -L/Library/Frameworks/R.framework/Resources/lib -L/usr/local/lib -o ternarynet.so array.o gn.o gn_Rwrap.o init.o tnetfit.o tnetfuncs.o tnetpost.o util.o -F/Library/Frameworks/R.framework/.. -framework R -Wl,-framework -Wl,CoreFoundation installing to /Library/Frameworks/R.framework/Versions/4.3/Resources/library/00LOCK-ternarynet/00new/ternarynet/libs ** R ** inst ** byte-compile and prepare package for lazy loading ** help *** installing help indices ** building package indices ** installing vignettes ** testing if installed package can be loaded from temporary location ** checking absolute paths in shared objects and dynamic libraries ** testing if installed package can be loaded from final location ** testing if installed package keeps a record of temporary installation path * DONE (ternarynet)