Back to Multiple platform build/check report for BioC 3.19: simplified long |
|
This page was generated on 2024-03-28 11:38:33 -0400 (Thu, 28 Mar 2024).
Hostname | OS | Arch (*) | R version | Installed pkgs |
---|---|---|---|---|
nebbiolo1 | Linux (Ubuntu 22.04.3 LTS) | x86_64 | R Under development (unstable) (2024-03-18 r86148) -- "Unsuffered Consequences" | 4708 |
palomino3 | Windows Server 2022 Datacenter | x64 | R Under development (unstable) (2024-03-16 r86144 ucrt) -- "Unsuffered Consequences" | 4446 |
lconway | macOS 12.7.1 Monterey | x86_64 | R Under development (unstable) (2024-03-18 r86148) -- "Unsuffered Consequences" | 4471 |
kunpeng2 | Linux (openEuler 22.03 LTS-SP1) | aarch64 | R Under development (unstable) (2024-03-19 r86153) -- "Unsuffered Consequences" | 4426 |
Click on any hostname to see more info about the system (e.g. compilers) (*) as reported by 'uname -p', except on Windows and Mac OS X |
Package 2005/2270 | Hostname | OS / Arch | INSTALL | BUILD | CHECK | BUILD BIN | ||||||||
spatialDE 1.9.1 (landing page) Gabriele Sales
| nebbiolo1 | Linux (Ubuntu 22.04.3 LTS) / x86_64 | OK | OK | OK | |||||||||
palomino3 | Windows Server 2022 Datacenter / x64 | OK | OK | OK | OK | |||||||||
lconway | macOS 12.7.1 Monterey / x86_64 | OK | OK | OK | OK | |||||||||
kunpeng2 | Linux (openEuler 22.03 LTS-SP1) / aarch64 | OK | OK | OK | ||||||||||
To the developers/maintainers of the spatialDE package: - Allow up to 24 hours (and sometimes 48 hours) for your latest push to git@git.bioconductor.org:packages/spatialDE.git to reflect on this report. See Troubleshooting Build Report for more information. - Use the following Renviron settings to reproduce errors and warnings. - If 'R CMD check' started to fail recently on the Linux builder(s) over a missing dependency, add the missing dependency to 'Suggests:' in your DESCRIPTION file. See Renviron.bioc for more information. |
Package: spatialDE |
Version: 1.9.1 |
Command: F:\biocbuild\bbs-3.19-bioc\R\bin\R.exe CMD check --no-multiarch --install=check:spatialDE.install-out.txt --library=F:\biocbuild\bbs-3.19-bioc\R\library --no-vignettes --timings spatialDE_1.9.1.tar.gz |
StartedAt: 2024-03-28 06:55:02 -0400 (Thu, 28 Mar 2024) |
EndedAt: 2024-03-28 07:00:15 -0400 (Thu, 28 Mar 2024) |
EllapsedTime: 313.2 seconds |
RetCode: 0 |
Status: OK |
CheckDir: spatialDE.Rcheck |
Warnings: 0 |
############################################################################## ############################################################################## ### ### Running command: ### ### F:\biocbuild\bbs-3.19-bioc\R\bin\R.exe CMD check --no-multiarch --install=check:spatialDE.install-out.txt --library=F:\biocbuild\bbs-3.19-bioc\R\library --no-vignettes --timings spatialDE_1.9.1.tar.gz ### ############################################################################## ############################################################################## * using log directory 'F:/biocbuild/bbs-3.19-bioc/meat/spatialDE.Rcheck' * using R Under development (unstable) (2024-03-16 r86144 ucrt) * using platform: x86_64-w64-mingw32 * R was compiled by gcc.exe (GCC) 13.2.0 GNU Fortran (GCC) 13.2.0 * running under: Windows Server 2022 x64 (build 20348) * using session charset: UTF-8 * using option '--no-vignettes' * checking for file 'spatialDE/DESCRIPTION' ... OK * this is package 'spatialDE' version '1.9.1' * package encoding: UTF-8 * checking package namespace information ... OK * checking package dependencies ... OK * checking if this is a source package ... OK * checking if there is a namespace ... OK * checking for hidden files and directories ... OK * checking for portable file names ... OK * checking whether package 'spatialDE' can be installed ... NOTE Found the following notes/warnings: Non-staged installation was used See 'F:/biocbuild/bbs-3.19-bioc/meat/spatialDE.Rcheck/00install.out' for details. * checking installed package size ... OK * checking package directory ... OK * checking 'build' directory ... OK * checking DESCRIPTION meta-information ... OK * checking top-level files ... OK * checking for left-over files ... OK * checking index information ... OK * checking package subdirectories ... OK * checking code files for non-ASCII characters ... OK * checking R files for syntax errors ... OK * checking whether the package can be loaded ... OK * checking whether the package can be loaded with stated dependencies ... OK * checking whether the package can be unloaded cleanly ... OK * checking whether the namespace can be loaded with stated dependencies ... OK * checking whether the namespace can be unloaded cleanly ... OK * checking dependencies in R code ... OK * checking S3 generic/method consistency ... OK * checking replacement functions ... OK * checking foreign function calls ... OK * checking R code for possible problems ... OK * checking Rd files ... OK * checking Rd metadata ... OK * checking Rd cross-references ... OK * checking for missing documentation entries ... OK * checking for code/documentation mismatches ... OK * checking Rd \usage sections ... OK * checking Rd contents ... OK * checking for unstated dependencies in examples ... OK * checking contents of 'data' directory ... OK * checking data for non-ASCII characters ... OK * checking data for ASCII and uncompressed saves ... OK * checking line endings in shell scripts ... OK * checking files in 'vignettes' ... OK * checking examples ... OK Examples with CPU (user + system) or elapsed time > 5s user system elapsed spatial_patterns 12.11 0.20 6.16 FSV_sig 4.91 1.62 30.11 * checking for unstated dependencies in 'tests' ... OK * checking tests ... Running 'testthat.R' OK * checking for unstated dependencies in vignettes ... OK * checking package vignettes ... OK * checking running R code from vignettes ... SKIPPED * checking re-building of vignette outputs ... SKIPPED * checking PDF version of manual ... OK * DONE Status: 1 NOTE See 'F:/biocbuild/bbs-3.19-bioc/meat/spatialDE.Rcheck/00check.log' for details.
spatialDE.Rcheck/00install.out
############################################################################## ############################################################################## ### ### Running command: ### ### F:\biocbuild\bbs-3.19-bioc\R\bin\R.exe CMD INSTALL spatialDE ### ############################################################################## ############################################################################## * installing to library 'F:/biocbuild/bbs-3.19-bioc/R/library' * installing *source* package 'spatialDE' ... ** using non-staged installation via StagedInstall field ** R ** data ** inst ** byte-compile and prepare package for lazy loading ** help *** installing help indices ** building package indices ** installing vignettes ** testing if installed package can be loaded * DONE (spatialDE)
spatialDE.Rcheck/tests/testthat.Rout
R Under development (unstable) (2024-03-16 r86144 ucrt) -- "Unsuffered Consequences" Copyright (C) 2024 The R Foundation for Statistical Computing Platform: x86_64-w64-mingw32/x64 R is free software and comes with ABSOLUTELY NO WARRANTY. You are welcome to redistribute it under certain conditions. Type 'license()' or 'licence()' for distribution details. R is a collaborative project with many contributors. Type 'contributors()' for more information and 'citation()' on how to cite R or R packages in publications. Type 'demo()' for some demos, 'help()' for on-line help, or 'help.start()' for an HTML browser interface to help. Type 'q()' to quit R. > library(testthat) > library(spatialDE) > > test_check("spatialDE") Loading required package: SingleCellExperiment Loading required package: SummarizedExperiment Loading required package: MatrixGenerics Loading required package: matrixStats Attaching package: 'MatrixGenerics' The following objects are masked from 'package:matrixStats': colAlls, colAnyNAs, colAnys, colAvgsPerRowSet, colCollapse, colCounts, colCummaxs, colCummins, colCumprods, colCumsums, colDiffs, colIQRDiffs, colIQRs, colLogSumExps, colMadDiffs, colMads, colMaxs, colMeans2, colMedians, colMins, colOrderStats, colProds, colQuantiles, colRanges, colRanks, colSdDiffs, colSds, colSums2, colTabulates, colVarDiffs, colVars, colWeightedMads, colWeightedMeans, colWeightedMedians, colWeightedSds, colWeightedVars, rowAlls, rowAnyNAs, rowAnys, rowAvgsPerColSet, rowCollapse, rowCounts, rowCummaxs, rowCummins, rowCumprods, rowCumsums, rowDiffs, rowIQRDiffs, rowIQRs, rowLogSumExps, rowMadDiffs, rowMads, rowMaxs, rowMeans2, rowMedians, rowMins, rowOrderStats, rowProds, rowQuantiles, rowRanges, rowRanks, rowSdDiffs, rowSds, rowSums2, rowTabulates, rowVarDiffs, rowVars, rowWeightedMads, rowWeightedMeans, rowWeightedMedians, rowWeightedSds, rowWeightedVars Loading required package: GenomicRanges Loading required package: stats4 Loading required package: BiocGenerics Attaching package: 'BiocGenerics' The following objects are masked from 'package:stats': IQR, mad, sd, var, xtabs The following objects are masked from 'package:base': Filter, Find, Map, Position, Reduce, anyDuplicated, aperm, append, as.data.frame, basename, cbind, colnames, dirname, do.call, duplicated, eval, evalq, get, grep, grepl, intersect, is.unsorted, lapply, mapply, match, mget, order, paste, pmax, pmax.int, pmin, pmin.int, rank, rbind, rownames, sapply, setdiff, table, tapply, union, unique, unsplit, which.max, which.min Loading required package: S4Vectors Attaching package: 'S4Vectors' The following object is masked from 'package:utils': findMatches The following objects are masked from 'package:base': I, expand.grid, unname Loading required package: IRanges Attaching package: 'IRanges' The following object is masked from 'package:grDevices': windows Loading required package: GenomeInfoDb Loading required package: Biobase Welcome to Bioconductor Vignettes contain introductory material; view with 'browseVignettes()'. To cite Bioconductor, see 'citation("Biobase")', and for packages 'citation("pkgname")'. Attaching package: 'Biobase' The following object is masked from 'package:MatrixGenerics': rowMedians The following objects are masked from 'package:matrixStats': anyMissing, rowMedians Models: 0%| | 0/10 [00:00<?, ?it/s] 0%| | 0/100 [00:00<?, ?it/s][A 25%|██▌ | 25/100 [00:00<00:00, 228.56it/s][A 52%|█████▏ | 52/100 [00:00<00:00, 239.33it/s][A 81%|████████ | 81/100 [00:00<00:00, 251.10it/s][A [A Models: 10%|█ | 1/10 [00:00<00:03, 2.46it/s] 0%| | 0/100 [00:00<?, ?it/s][A 18%|█▊ | 18/100 [00:00<00:00, 164.57it/s][A 39%|███▉ | 39/100 [00:00<00:00, 180.70it/s][A 60%|██████ | 60/100 [00:00<00:00, 185.87it/s][A 81%|████████ | 81/100 [00:00<00:00, 191.45it/s][A [A Models: 20%|██ | 2/10 [00:00<00:03, 2.08it/s] 0%| | 0/100 [00:00<?, ?it/s][A 20%|██ | 20/100 [00:00<00:00, 182.84it/s][A 41%|████ | 41/100 [00:00<00:00, 188.23it/s][A 60%|██████ | 60/100 [00:00<00:00, 181.59it/s][A 79%|███████▉ | 79/100 [00:00<00:00, 178.49it/s][A 97%|█████████▋| 97/100 [00:00<00:00, 164.97it/s][A [A Models: 30%|███ | 3/10 [00:01<00:03, 1.91it/s] 0%| | 0/100 [00:00<?, ?it/s][A 29%|██▉ | 29/100 [00:00<00:00, 265.13it/s][A 63%|██████▎ | 63/100 [00:00<00:00, 292.04it/s][A 95%|█████████▌| 95/100 [00:00<00:00, 297.99it/s][A [A Models: 40%|████ | 4/10 [00:01<00:02, 2.24it/s] 0%| | 0/100 [00:00<?, ?it/s][A 30%|███ | 30/100 [00:00<00:00, 274.21it/s][A 58%|█████▊ | 58/100 [00:00<00:00, 263.49it/s][A 85%|████████▌ | 85/100 [00:00<00:00, 255.90it/s][A [A Models: 50%|█████ | 5/10 [00:02<00:02, 2.37it/s] 0%| | 0/100 [00:00<?, ?it/s][A 31%|███ | 31/100 [00:00<00:00, 283.42it/s][A 60%|██████ | 60/100 [00:00<00:00, 251.53it/s][A 86%|████████▌ | 86/100 [00:00<00:00, 206.79it/s][A [A Models: 60%|██████ | 6/10 [00:02<00:01, 2.29it/s] 0%| | 0/100 [00:00<?, ?it/s][A 18%|█▊ | 18/100 [00:00<00:00, 164.58it/s][A 37%|███▋ | 37/100 [00:00<00:00, 169.51it/s][A 56%|█████▌ | 56/100 [00:00<00:00, 171.42it/s][A 74%|███████▍ | 74/100 [00:00<00:00, 168.72it/s][A 92%|█████████▏| 92/100 [00:00<00:00, 167.23it/s][A [A Models: 70%|███████ | 7/10 [00:03<00:01, 2.05it/s] 0%| | 0/100 [00:00<?, ?it/s][A 19%|█▉ | 19/100 [00:00<00:00, 173.73it/s][A 38%|███▊ | 38/100 [00:00<00:00, 173.72it/s][A 56%|█████▌ | 56/100 [00:00<00:00, 149.97it/s][A 86%|████████▌ | 86/100 [00:00<00:00, 195.46it/s][A [A Models: 80%|████████ | 8/10 [00:03<00:00, 2.01it/s] 0%| | 0/100 [00:00<?, ?it/s][A 34%|███▍ | 34/100 [00:00<00:00, 309.41it/s][A 68%|██████▊ | 68/100 [00:00<00:00, 310.25it/s][A [A Models: 90%|█████████ | 9/10 [00:04<00:00, 2.27it/s] 0%| | 0/100 [00:00<?, ?it/s][A 36%|███▌ | 36/100 [00:00<00:00, 329.15it/s][A 69%|██████▉ | 69/100 [00:00<00:00, 313.01it/s][A [A Models: 100%|██████████| 10/10 [00:04<00:00, 2.36it/s] Models: 100%|██████████| 10/10 [00:04<00:00, 2.22it/s] Models: 0%| | 0/10 [00:00<?, ?it/s] 0%| | 0/100 [00:00<?, ?it/s][A 38%|███▊ | 38/100 [00:00<00:00, 347.43it/s][A 77%|███████▋ | 77/100 [00:00<00:00, 352.81it/s][A [A Models: 10%|█ | 1/10 [00:00<00:02, 3.37it/s] 0%| | 0/100 [00:00<?, ?it/s][A 22%|██▏ | 22/100 [00:00<00:00, 200.29it/s][A 45%|████▌ | 45/100 [00:00<00:00, 206.16it/s][A 79%|███████▉ | 79/100 [00:00<00:00, 253.92it/s][A [A Models: 20%|██ | 2/10 [00:00<00:02, 2.77it/s] 0%| | 0/100 [00:00<?, ?it/s][A 29%|██▉ | 29/100 [00:00<00:00, 265.15it/s][A 58%|█████▊ | 58/100 [00:00<00:00, 265.14it/s][A 85%|████████▌ | 85/100 [00:00<00:00, 256.78it/s][A [A Models: 30%|███ | 3/10 [00:01<00:02, 2.67it/s] 0%| | 0/100 [00:00<?, ?it/s][A 26%|██▌ | 26/100 [00:00<00:00, 237.70it/s][A 51%|█████ | 51/100 [00:00<00:00, 232.33it/s][A 75%|███████▌ | 75/100 [00:00<00:00, 212.17it/s][A 97%|█████████▋| 97/100 [00:00<00:00, 197.29it/s][A [A Models: 40%|████ | 4/10 [00:01<00:02, 2.39it/s] 0%| | 0/100 [00:00<?, ?it/s][A 21%|██ | 21/100 [00:00<00:00, 191.99it/s][A 41%|████ | 41/100 [00:00<00:00, 172.16it/s][A 59%|█████▉ | 59/100 [00:00<00:00, 168.84it/s][A 76%|███████▌ | 76/100 [00:00<00:00, 163.69it/s][A [A Models: 50%|█████ | 5/10 [00:02<00:02, 2.15it/s] 0%| | 0/100 [00:00<?, ?it/s][A 38%|███▊ | 38/100 [00:00<00:00, 347.45it/s][A 73%|███████▎ | 73/100 [00:00<00:00, 331.30it/s][A [A Models: 60%|██████ | 6/10 [00:02<00:01, 2.45it/s] 0%| | 0/100 [00:00<?, ?it/s][A 36%|███▌ | 36/100 [00:00<00:00, 329.16it/s][A 71%|███████ | 71/100 [00:00<00:00, 323.76it/s][A [A Models: 70%|███████ | 7/10 [00:02<00:01, 2.69it/s] 0%| | 0/100 [00:00<?, ?it/s][A 29%|██▉ | 29/100 [00:00<00:00, 265.14it/s][A 63%|██████▎ | 63/100 [00:00<00:00, 292.03it/s][A 98%|█████████▊| 98/100 [00:00<00:00, 304.81it/s][A [A Models: 80%|████████ | 8/10 [00:03<00:00, 2.80it/s] 0%| | 0/100 [00:00<?, ?it/s][A 36%|███▌ | 36/100 [00:00<00:00, 329.15it/s][A 70%|███████ | 70/100 [00:00<00:00, 318.37it/s][A [A Models: 90%|█████████ | 9/10 [00:03<00:00, 2.95it/s] 0%| | 0/100 [00:00<?, ?it/s][A 36%|███▌ | 36/100 [00:00<00:00, 327.63it/s][A 73%|███████▎ | 73/100 [00:00<00:00, 333.89it/s][A [A Models: 100%|██████████| 10/10 [00:03<00:00, 3.07it/s] Models: 100%|██████████| 10/10 [00:03<00:00, 2.75it/s] C:\Users\BIOCBU~1\AppData\Local\R\cache\R\basilisk\115~1.5\SPATIA~1\194DEE~1.1\env\lib\site-packages\pandas\core\internals\blocks.py:351: RuntimeWarning: invalid value encountered in log result = func(self.values, **kwargs) Models: 0%| | 0/10 [00:00<?, ?it/s] 0%| | 0/100 [00:00<?, ?it/s][A 27%|██▋ | 27/100 [00:00<00:00, 245.74it/s][A 64%|██████▍ | 64/100 [00:00<00:00, 300.09it/s][A 95%|█████████▌| 95/100 [00:00<00:00, 292.48it/s][A [A Models: 10%|█ | 1/10 [00:00<00:03, 2.90it/s] 0%| | 0/100 [00:00<?, ?it/s][A 27%|██▋ | 27/100 [00:00<00:00, 246.85it/s][A 52%|█████▏ | 52/100 [00:00<00:00, 236.09it/s][A 77%|███████▋ | 77/100 [00:00<00:00, 232.67it/s][A [A Models: 20%|██ | 2/10 [00:00<00:03, 2.45it/s] 0%| | 0/100 [00:00<?, ?it/s][A 21%|██ | 21/100 [00:00<00:00, 192.02it/s][A 41%|████ | 41/100 [00:00<00:00, 186.62it/s][A 60%|██████ | 60/100 [00:00<00:00, 143.09it/s][A 89%|████████▉ | 89/100 [00:00<00:00, 184.66it/s][A [A Models: 30%|███ | 3/10 [00:01<00:03, 2.15it/s] 0%| | 0/100 [00:00<?, ?it/s][A 35%|███▌ | 35/100 [00:00<00:00, 320.00it/s][A 67%|██████▋ | 67/100 [00:00<00:00, 303.87it/s][A 98%|█████████▊| 98/100 [00:00<00:00, 276.50it/s][A [A Models: 40%|████ | 4/10 [00:01<00:02, 2.36it/s] 0%| | 0/100 [00:00<?, ?it/s][A 23%|██▎ | 23/100 [00:00<00:00, 210.29it/s][A 51%|█████ | 51/100 [00:00<00:00, 237.17it/s][A 85%|████████▌ | 85/100 [00:00<00:00, 270.80it/s][A [A Models: 50%|█████ | 5/10 [00:02<00:02, 2.46it/s] 0%| | 0/100 [00:00<?, ?it/s][A 32%|███▏ | 32/100 [00:00<00:00, 292.48it/s][A 63%|██████▎ | 63/100 [00:00<00:00, 287.16it/s][A 92%|█████████▏| 92/100 [00:00<00:00, 245.13it/s][A [A Models: 60%|██████ | 6/10 [00:02<00:01, 2.49it/s] 0%| | 0/100 [00:00<?, ?it/s][A 39%|███▉ | 39/100 [00:00<00:00, 356.59it/s][A 75%|███████▌ | 75/100 [00:00<00:00, 340.43it/s][A [A Models: 70%|███████ | 7/10 [00:02<00:01, 2.62it/s] 0%| | 0/100 [00:00<?, ?it/s][A 33%|███▎ | 33/100 [00:00<00:00, 301.73it/s][A 64%|██████▍ | 64/100 [00:00<00:00, 237.59it/s][A 89%|████████▉ | 89/100 [00:00<00:00, 205.75it/s][A [A Models: 80%|████████ | 8/10 [00:03<00:00, 2.44it/s] 0%| | 0/100 [00:00<?, ?it/s][A 24%|██▍ | 24/100 [00:00<00:00, 219.42it/s][A 46%|████▌ | 46/100 [00:00<00:00, 192.49it/s][A 66%|██████▌ | 66/100 [00:00<00:00, 188.28it/s][A 87%|████████▋ | 87/100 [00:00<00:00, 189.71it/s][A [A Models: 90%|█████████ | 9/10 [00:03<00:00, 2.26it/s] 0%| | 0/100 [00:00<?, ?it/s][A 23%|██▎ | 23/100 [00:00<00:00, 210.28it/s][A 46%|████▌ | 46/100 [00:00<00:00, 210.29it/s][A 68%|██████▊ | 68/100 [00:00<00:00, 205.71it/s][A 89%|████████▉ | 89/100 [00:00<00:00, 200.30it/s][A [A Models: 100%|██████████| 10/10 [00:04<00:00, 2.17it/s] Models: 100%|██████████| 10/10 [00:04<00:00, 2.33it/s] Models: 0%| | 0/10 [00:00<?, ?it/s] 0%| | 0/100 [00:00<?, ?it/s][A 53%|█████▎ | 53/100 [00:00<00:00, 484.54it/s][A [A Models: 10%|█ | 1/10 [00:00<00:01, 4.92it/s] 0%| | 0/100 [00:00<?, ?it/s][A 44%|████▍ | 44/100 [00:00<00:00, 402.25it/s][A 85%|████████▌ | 85/100 [00:00<00:00, 386.14it/s][A [A Models: 20%|██ | 2/10 [00:00<00:01, 4.17it/s] 0%| | 0/100 [00:00<?, ?it/s][A 38%|███▊ | 38/100 [00:00<00:00, 345.86it/s][A 74%|███████▍ | 74/100 [00:00<00:00, 336.05it/s][A [A Models: 30%|███ | 3/10 [00:00<00:01, 3.76it/s] 0%| | 0/100 [00:00<?, ?it/s][A 36%|███▌ | 36/100 [00:00<00:00, 329.15it/s][A 71%|███████ | 71/100 [00:00<00:00, 323.77it/s][A [A Models: 40%|████ | 4/10 [00:01<00:01, 3.59it/s] 0%| | 0/100 [00:00<?, ?it/s][A 24%|██▍ | 24/100 [00:00<00:00, 219.41it/s][A 46%|████▌ | 46/100 [00:00<00:00, 178.64it/s][A 65%|██████▌ | 65/100 [00:00<00:00, 176.59it/s][A 83%|████████▎ | 83/100 [00:00<00:00, 166.12it/s][A 100%|██████████| 100/100 [00:00<00:00, 167.17it/s][A [A Models: 50%|█████ | 5/10 [00:01<00:01, 2.58it/s] 0%| | 0/100 [00:00<?, ?it/s][A 18%|█▊ | 18/100 [00:00<00:00, 179.60it/s][A 36%|███▌ | 36/100 [00:00<00:00, 175.96it/s][A 54%|█████▍ | 54/100 [00:00<00:00, 170.22it/s][A 72%|███████▏ | 72/100 [00:00<00:00, 165.78it/s][A 89%|████████▉ | 89/100 [00:00<00:00, 163.45it/s][A [A Models: 60%|██████ | 6/10 [00:02<00:01, 2.18it/s] 0%| | 0/100 [00:00<?, ?it/s][A 20%|██ | 20/100 [00:00<00:00, 182.87it/s][A 39%|███▉ | 39/100 [00:00<00:00, 177.02it/s][A 57%|█████▋ | 57/100 [00:00<00:00, 170.94it/s][A 75%|███████▌ | 75/100 [00:00<00:00, 168.13it/s][A 92%|█████████▏| 92/100 [00:00<00:00, 163.31it/s][A [A Models: 70%|███████ | 7/10 [00:02<00:01, 1.99it/s] 0%| | 0/100 [00:00<?, ?it/s][A 36%|███▌ | 36/100 [00:00<00:00, 329.11it/s][A 69%|██████▉ | 69/100 [00:00<00:00, 288.76it/s][A 99%|█████████▉| 99/100 [00:00<00:00, 251.10it/s][A [A Models: 80%|████████ | 8/10 [00:03<00:00, 2.16it/s] 0%| | 0/100 [00:00<?, ?it/s][A 25%|██▌ | 25/100 [00:00<00:00, 228.57it/s][A 52%|█████▏ | 52/100 [00:00<00:00, 239.32it/s][A 89%|████████▉ | 89/100 [00:00<00:00, 284.50it/s][A [A Models: 90%|█████████ | 9/10 [00:03<00:00, 2.32it/s] 0%| | 0/100 [00:00<?, ?it/s][A 40%|████ | 40/100 [00:00<00:00, 365.70it/s][A 79%|███████▉ | 79/100 [00:00<00:00, 359.42it/s][A [A Models: 100%|██████████| 10/10 [00:03<00:00, 2.64it/s] Models: 100%|██████████| 10/10 [00:03<00:00, 2.61it/s] Models: 0%| | 0/10 [00:00<?, ?it/s] 0%| | 0/100 [00:00<?, ?it/s][A 54%|█████▍ | 54/100 [00:00<00:00, 493.70it/s][A [A Models: 10%|█ | 1/10 [00:00<00:01, 4.92it/s] 0%| | 0/100 [00:00<?, ?it/s][A 26%|██▌ | 26/100 [00:00<00:00, 237.71it/s][A 50%|█████ | 50/100 [00:00<00:00, 226.95it/s][A 73%|███████▎ | 73/100 [00:00<00:00, 205.92it/s][A 94%|█████████▍| 94/100 [00:00<00:00, 200.63it/s][A [A Models: 20%|██ | 2/10 [00:00<00:02, 2.71it/s] 0%| | 0/100 [00:00<?, ?it/s][A 23%|██▎ | 23/100 [00:00<00:00, 209.39it/s][A 44%|████▍ | 44/100 [00:00<00:00, 199.16it/s][A 67%|██████▋ | 67/100 [00:00<00:00, 204.24it/s][A 88%|████████▊ | 88/100 [00:00<00:00, 199.41it/s][A [A Models: 30%|███ | 3/10 [00:01<00:03, 2.33it/s] 0%| | 0/100 [00:00<?, ?it/s][A 22%|██▏ | 22/100 [00:00<00:00, 201.16it/s][A 44%|████▍ | 44/100 [00:00<00:00, 201.14it/s][A 65%|██████▌ | 65/100 [00:00<00:00, 184.91it/s][A 84%|████████▍ | 84/100 [00:00<00:00, 180.65it/s][A [A Models: 40%|████ | 4/10 [00:01<00:02, 2.10it/s] 0%| | 0/100 [00:00<?, ?it/s][A 20%|██ | 20/100 [00:00<00:00, 182.78it/s][A 39%|███▉ | 39/100 [00:00<00:00, 163.70it/s][A 67%|██████▋ | 67/100 [00:00<00:00, 204.00it/s][A 88%|████████▊ | 88/100 [00:00<00:00, 189.01it/s][A [A Models: 50%|█████ | 5/10 [00:02<00:02, 2.04it/s] 0%| | 0/100 [00:00<?, ?it/s][A 24%|██▍ | 24/100 [00:00<00:00, 219.41it/s][A 46%|████▌ | 46/100 [00:00<00:00, 178.65it/s][A 65%|██████▌ | 65/100 [00:00<00:00, 166.63it/s][A 92%|█████████▏| 92/100 [00:00<00:00, 195.25it/s][A [A Models: 60%|██████ | 6/10 [00:02<00:01, 2.03it/s] 0%| | 0/100 [00:00<?, ?it/s][A 32%|███▏ | 32/100 [00:00<00:00, 292.57it/s][A 62%|██████▏ | 62/100 [00:00<00:00, 259.97it/s][A 92%|█████████▏| 92/100 [00:00<00:00, 266.22it/s][A [A Models: 70%|███████ | 7/10 [00:03<00:01, 2.17it/s] 0%| | 0/100 [00:00<?, ?it/s][A 22%|██▏ | 22/100 [00:00<00:00, 201.15it/s][A 45%|████▌ | 45/100 [00:00<00:00, 206.52it/s][A 79%|███████▉ | 79/100 [00:00<00:00, 254.16it/s][A [A Models: 80%|████████ | 8/10 [00:03<00:00, 2.28it/s] 0%| | 0/100 [00:00<?, ?it/s][A 39%|███▉ | 39/100 [00:00<00:00, 356.58it/s][A 76%|███████▌ | 76/100 [00:00<00:00, 344.91it/s][A [A Models: 90%|█████████ | 9/10 [00:03<00:00, 2.57it/s] 0%| | 0/100 [00:00<?, ?it/s][A 38%|███▊ | 38/100 [00:00<00:00, 347.42it/s][A 73%|███████▎ | 73/100 [00:00<00:00, 264.59it/s][A [A Models: 100%|██████████| 10/10 [00:04<00:00, 2.54it/s] Models: 100%|██████████| 10/10 [00:04<00:00, 2.37it/s] [ FAIL 0 | WARN 0 | SKIP 0 | PASS 29 ] > > proc.time() user system elapsed 57.14 2.92 67.96
spatialDE.Rcheck/spatialDE-Ex.timings
name | user | system | elapsed | |
FSV_sig | 4.91 | 1.62 | 30.11 | |
mockSVG | 0.52 | 0.01 | 0.53 | |
modelSearch | 2.45 | 0.13 | 1.52 | |
model_search | 1.78 | 0.19 | 0.98 | |
multiGenePlots | 2.11 | 0.17 | 1.50 | |
regress_out | 0.20 | 0.01 | 0.17 | |
run | 0.99 | 0.11 | 0.55 | |
spatialDE | 1.39 | 0.10 | 0.76 | |
spatialPatterns | 1.67 | 0.06 | 1.08 | |
spatial_patterns | 12.11 | 0.20 | 6.16 | |
stabilize | 0.19 | 0.03 | 0.11 | |