Index of /checkResults/devel/bioc-LATEST/sesame/raw-results

[ICO]NameLast modifiedSizeDescription

[DIR]Parent Directory  -  
[   ]info.dcf09-Jun-2023 02:07 263  
[DIR]kunpeng2/09-Jun-2023 02:07 -  
[DIR]lconway/09-Jun-2023 02:06 -  
[DIR]nebbiolo2/09-Jun-2023 02:04 -  
[DIR]palomino4/09-Jun-2023 02:05 -