Index of /checkResults/devel/bioc-LATEST/regutools/raw-results
Name
Last modified
Size
Description
Parent Directory
-
info.dcf
21-May-2022 00:08
274
lconway/
21-May-2022 00:08
-
nebbiolo2/
21-May-2022 00:05
-
palomino4/
21-May-2022 00:07
-