Index of /checkResults/devel/bioc-LATEST/profileplyr/raw-results

[ICO]NameLast modifiedSizeDescription

[DIR]Parent Directory  -  
[   ]info.dcf08-Dec-2023 01:39 1.2K 
[DIR]kunpeng2/08-Dec-2023 01:39 -  
[DIR]merida1/08-Dec-2023 01:38 -  
[DIR]nebbiolo1/08-Dec-2023 01:36 -  
[DIR]palomino3/08-Dec-2023 01:37 -