Index of /checkResults/devel/bioc-LATEST/pcaExplorer/raw-results
Name
Last modified
Size
Description
Parent Directory
-
info.dcf
21-Mar-2023 00:06
276
merida1/
21-Mar-2023 00:06
-
nebbiolo1/
21-Mar-2023 00:05
-
palomino3/
21-Mar-2023 00:06
-