Index of /checkResults/devel/bioc-LATEST/multiHiCcompare/raw-results

[ICO]NameLast modifiedSizeDescription

[DIR]Parent Directory  -  
[   ]info.dcf07-Aug-2022 00:07 335  
[DIR]kjohnson/12-Jul-2022 00:06 -  
[DIR]lconway/07-Aug-2022 00:07 -  
[DIR]nebbiolo2/07-Aug-2022 00:05 -  
[DIR]palomino4/07-Aug-2022 00:06 -