Back to Multiple platform build/check report for BioC 3.19: simplified long |
|
This page was generated on 2023-11-27 11:40:00 -0500 (Mon, 27 Nov 2023).
Hostname | OS | Arch (*) | R version | Installed pkgs |
---|---|---|---|---|
nebbiolo1 | Linux (Ubuntu 22.04.2 LTS) | x86_64 | R Under development (unstable) (2023-11-11 r85510) -- "Unsuffered Consequences" | 4596 |
palomino3 | Windows Server 2022 Datacenter | x64 | R Under development (unstable) (2023-11-14 r85524 ucrt) -- "Unsuffered Consequences" | 4338 |
merida1 | macOS 12.7.1 Monterey | x86_64 | R Under development (unstable) (2023-11-11 r85510) -- "Unsuffered Consequences" | 4363 |
kunpeng2 | Linux (openEuler 22.03 LTS-SP1) | aarch64 | R Under development (unstable) (2023-11-01 r85459) -- "Unsuffered Consequences" | 4248 |
Click on any hostname to see more info about the system (e.g. compilers) (*) as reported by 'uname -p', except on Windows and Mac OS X |
Package 1331/2222 | Hostname | OS / Arch | INSTALL | BUILD | CHECK | BUILD BIN | ||||||||
multiGSEA 1.13.0 (landing page) Sebastian Canzler
| nebbiolo1 | Linux (Ubuntu 22.04.2 LTS) / x86_64 | OK | OK | OK | ![]() | ||||||||
palomino3 | Windows Server 2022 Datacenter / x64 | OK | OK | OK | OK | ![]() | ||||||||
merida1 | macOS 12.7.1 Monterey / x86_64 | OK | OK | OK | OK | ![]() | ||||||||
kunpeng2 | Linux (openEuler 22.03 LTS-SP1) / aarch64 | ERROR | ERROR | skipped | ||||||||||
To the developers/maintainers of the multiGSEA package: - Allow up to 24 hours (and sometimes 48 hours) for your latest push to git@git.bioconductor.org:packages/multiGSEA.git to reflect on this report. See Troubleshooting Build Report for more information. - Use the following Renviron settings to reproduce errors and warnings. - If 'R CMD check' started to fail recently on the Linux builder(s) over a missing dependency, add the missing dependency to 'Suggests:' in your DESCRIPTION file. See Renviron.bioc for more information. - See Martin Grigorov's blog post for how to debug Linux ARM64 related issues on a x86_64 host. |
Package: multiGSEA |
Version: 1.13.0 |
Command: /home/biocbuild/R/R-4.4-devel-2023.11.02/bin/R CMD build --keep-empty-dirs --no-resave-data multiGSEA |
StartedAt: 2023-11-27 02:19:09 -0000 (Mon, 27 Nov 2023) |
EndedAt: 2023-11-27 02:19:24 -0000 (Mon, 27 Nov 2023) |
EllapsedTime: 15.0 seconds |
RetCode: 1 |
Status: ERROR |
PackageFile: None |
PackageFileSize: NA |
############################################################################## ############################################################################## ### ### Running command: ### ### /home/biocbuild/R/R-4.4-devel-2023.11.02/bin/R CMD build --keep-empty-dirs --no-resave-data multiGSEA ### ############################################################################## ############################################################################## * checking for file ‘multiGSEA/DESCRIPTION’ ... OK * preparing ‘multiGSEA’: * checking DESCRIPTION meta-information ... OK * installing the package to build vignettes ----------------------------------- * installing *source* package ‘multiGSEA’ ... ** using staged installation ** R ** data ** inst ** byte-compile and prepare package for lazy loading Error: .onLoad failed in loadNamespace() for 'metaboliteIDmapping', details: call: NULL error: Corrupt Cache: index file See AnnotationHub's TroubleshootingTheCache vignette section on corrupt cache cache: /home/biocbuild/.cache/R/AnnotationHub filename: annotationhub.index.rds Execution halted ERROR: lazy loading failed for package ‘multiGSEA’ * removing ‘/home/biocbuild/tmp/RtmpbRfXAQ/Rinst201a42bf6ca41/multiGSEA’ ----------------------------------- ERROR: package installation failed