Index of /checkResults/devel/bioc-LATEST/metagenomeSeq/raw-results

[ICO]NameLast modifiedSizeDescription

[DIR]Parent Directory  -  
[   ]info.dcf08-Jun-2023 00:07 287  
[DIR]lconway/08-Jun-2023 00:07 -  
[DIR]nebbiolo2/08-Jun-2023 00:05 -  
[DIR]palomino4/08-Jun-2023 00:06 -