Back to Multiple platform build/check report for BioC 3.20:   simplified   long
ABCDEF[G]HIJKLMNOPQRSTUVWXYZ

This page was generated on 2024-05-15 13:46:33 -0400 (Wed, 15 May 2024).

HostnameOSArch (*)R versionInstalled pkgs
nebbiolo2Linux (Ubuntu 22.04.3 LTS)x86_644.4.0 RC (2024-04-16 r86468) -- "Puppy Cup" 4663
kunpeng2Linux (openEuler 22.03 LTS-SP1)aarch644.4.0 beta (2024-04-15 r86425) -- "Puppy Cup" 4480
Click on any hostname to see more info about the system (e.g. compilers)      (*) as reported by 'uname -p', except on Windows and Mac OS X

Package 826/2230HostnameOS / ArchINSTALLBUILDCHECKBUILD BIN
getDEE2 1.15.0  (landing page)
Mark Ziemann
Snapshot Date: 2024-05-13 14:05:07 -0400 (Mon, 13 May 2024)
git_url: https://git.bioconductor.org/packages/getDEE2
git_branch: devel
git_last_commit: ceeaae7
git_last_commit_date: 2024-04-30 11:24:39 -0400 (Tue, 30 Apr 2024)
nebbiolo2Linux (Ubuntu 22.04.3 LTS) / x86_64  OK    OK    OK  UNNEEDED, same version is already published
kunpeng2Linux (openEuler 22.03 LTS-SP1) / aarch64  OK    OK    OK  
kjohnson1macOS 13.6.6 Ventura / arm64see weekly results here

CHECK results for getDEE2 on kunpeng2


To the developers/maintainers of the getDEE2 package:
- Allow up to 24 hours (and sometimes 48 hours) for your latest push to git@git.bioconductor.org:packages/getDEE2.git to reflect on this report. See Troubleshooting Build Report for more information.
- Use the following Renviron settings to reproduce errors and warnings.
- If 'R CMD check' started to fail recently on the Linux builder(s) over a missing dependency, add the missing dependency to 'Suggests:' in your DESCRIPTION file. See Renviron.bioc for more information.
- See Martin Grigorov's blog post for how to debug Linux ARM64 related issues on a x86_64 host.

raw results


Summary

Package: getDEE2
Version: 1.14.0
Command: /home/biocbuild/R/R-beta-2024-04-15_r86425/bin/R CMD check --install=check:getDEE2.install-out.txt --library=/home/biocbuild/R/R-beta-2024-04-15_r86425/site-library --no-vignettes --timings getDEE2_1.14.0.tar.gz
StartedAt: 2024-05-09 07:50:16 -0000 (Thu, 09 May 2024)
EndedAt: 2024-05-09 07:58:48 -0000 (Thu, 09 May 2024)
EllapsedTime: 511.9 seconds
RetCode: 0
Status:   OK  
CheckDir: getDEE2.Rcheck
Warnings: 0

Command output

##############################################################################
##############################################################################
###
### Running command:
###
###   /home/biocbuild/R/R-beta-2024-04-15_r86425/bin/R CMD check --install=check:getDEE2.install-out.txt --library=/home/biocbuild/R/R-beta-2024-04-15_r86425/site-library --no-vignettes --timings getDEE2_1.14.0.tar.gz
###
##############################################################################
##############################################################################


* using log directory ‘/home/biocbuild/bbs-3.19-bioc/meat/getDEE2.Rcheck’
* using R version 4.4.0 beta (2024-04-15 r86425)
* using platform: aarch64-unknown-linux-gnu
* R was compiled by
    gcc (GCC) 10.3.1
    GNU Fortran (GCC) 10.3.1
* running under: openEuler 22.03 (LTS-SP1)
* using session charset: UTF-8
* using option ‘--no-vignettes’
* checking for file ‘getDEE2/DESCRIPTION’ ... OK
* this is package ‘getDEE2’ version ‘1.14.0’
* package encoding: UTF-8
* checking package namespace information ... OK
* checking package dependencies ... OK
* checking if this is a source package ... OK
* checking if there is a namespace ... OK
* checking for hidden files and directories ... OK
* checking for portable file names ... OK
* checking for sufficient/correct file permissions ... OK
* checking whether package ‘getDEE2’ can be installed ... OK
* checking installed package size ... OK
* checking package directory ... OK
* checking ‘build’ directory ... OK
* checking DESCRIPTION meta-information ... OK
* checking top-level files ... OK
* checking for left-over files ... OK
* checking index information ... OK
* checking package subdirectories ... OK
* checking code files for non-ASCII characters ... OK
* checking R files for syntax errors ... OK
* checking whether the package can be loaded ... OK
* checking whether the package can be loaded with stated dependencies ... OK
* checking whether the package can be unloaded cleanly ... OK
* checking whether the namespace can be loaded with stated dependencies ... OK
* checking whether the namespace can be unloaded cleanly ... OK
* checking loading without being on the library search path ... OK
* checking dependencies in R code ... OK
* checking S3 generic/method consistency ... OK
* checking replacement functions ... OK
* checking foreign function calls ... OK
* checking R code for possible problems ... NOTE
srx_agg: no visible global function definition for ‘is’
Undefined global functions or variables:
  is
Consider adding
  importFrom("methods", "is")
to your NAMESPACE file (and ensure that your DESCRIPTION Imports field
contains 'methods').
* checking Rd files ... OK
* checking Rd metadata ... OK
* checking Rd cross-references ... OK
* checking for missing documentation entries ... OK
* checking for code/documentation mismatches ... OK
* checking Rd \usage sections ... OK
* checking Rd contents ... OK
* checking for unstated dependencies in examples ... OK
* checking files in ‘vignettes’ ... OK
* checking examples ... OK
Examples with CPU (user + system) or elapsed time > 5s
                 user system elapsed
getDEE2_bundle  1.971  0.082   8.352
getDEE2         1.087  0.240 111.318
getDEE2Metadata 0.707  0.544   5.368
Tx2Gene         0.455  0.139   6.149
loadQcMx        0.229  0.024   5.802
se              0.237  0.009   5.792
loadTxInfo      0.194  0.039   9.702
loadGeneInfo    0.217  0.012   5.756
loadGeneCounts  0.208  0.020  11.243
loadFullMeta    0.209  0.017   5.758
loadTxCounts    0.204  0.017   5.753
loadSummaryMeta 0.200  0.017   7.457
srx_agg         0.180  0.017   5.732
queryDEE2       0.138  0.020   6.191
* checking for unstated dependencies in ‘tests’ ... OK
* checking tests ...
  Running ‘test-getDEE2.R’
 OK
* checking for unstated dependencies in vignettes ... OK
* checking package vignettes ... OK
* checking running R code from vignettes ... SKIPPED
* checking re-building of vignette outputs ... SKIPPED
* checking PDF version of manual ... OK
* DONE

Status: 1 NOTE
See
  ‘/home/biocbuild/bbs-3.19-bioc/meat/getDEE2.Rcheck/00check.log’
for details.


Installation output

getDEE2.Rcheck/00install.out

##############################################################################
##############################################################################
###
### Running command:
###
###   /home/biocbuild/R/R-beta-2024-04-15_r86425/bin/R CMD INSTALL getDEE2
###
##############################################################################
##############################################################################


* installing to library ‘/home/biocbuild/R/R-beta-2024-04-15_r86425/site-library’
* installing *source* package ‘getDEE2’ ...
** using staged installation
** R
** inst
** byte-compile and prepare package for lazy loading
** help
*** installing help indices
** building package indices
** installing vignettes
** testing if installed package can be loaded from temporary location
** testing if installed package can be loaded from final location
** testing if installed package keeps a record of temporary installation path
* DONE (getDEE2)

Tests output

getDEE2.Rcheck/tests/test-getDEE2.Rout


R version 4.4.0 beta (2024-04-15 r86425) -- "Puppy Cup"
Copyright (C) 2024 The R Foundation for Statistical Computing
Platform: aarch64-unknown-linux-gnu

R is free software and comes with ABSOLUTELY NO WARRANTY.
You are welcome to redistribute it under certain conditions.
Type 'license()' or 'licence()' for distribution details.

R is a collaborative project with many contributors.
Type 'contributors()' for more information and
'citation()' on how to cite R or R packages in publications.

Type 'demo()' for some demos, 'help()' for on-line help, or
'help.start()' for an HTML browser interface to help.
Type 'q()' to quit R.

> library("getDEE2")
> library("SummarizedExperiment")
Loading required package: MatrixGenerics
Loading required package: matrixStats

Attaching package: 'MatrixGenerics'

The following objects are masked from 'package:matrixStats':

    colAlls, colAnyNAs, colAnys, colAvgsPerRowSet, colCollapse,
    colCounts, colCummaxs, colCummins, colCumprods, colCumsums,
    colDiffs, colIQRDiffs, colIQRs, colLogSumExps, colMadDiffs,
    colMads, colMaxs, colMeans2, colMedians, colMins, colOrderStats,
    colProds, colQuantiles, colRanges, colRanks, colSdDiffs, colSds,
    colSums2, colTabulates, colVarDiffs, colVars, colWeightedMads,
    colWeightedMeans, colWeightedMedians, colWeightedSds,
    colWeightedVars, rowAlls, rowAnyNAs, rowAnys, rowAvgsPerColSet,
    rowCollapse, rowCounts, rowCummaxs, rowCummins, rowCumprods,
    rowCumsums, rowDiffs, rowIQRDiffs, rowIQRs, rowLogSumExps,
    rowMadDiffs, rowMads, rowMaxs, rowMeans2, rowMedians, rowMins,
    rowOrderStats, rowProds, rowQuantiles, rowRanges, rowRanks,
    rowSdDiffs, rowSds, rowSums2, rowTabulates, rowVarDiffs, rowVars,
    rowWeightedMads, rowWeightedMeans, rowWeightedMedians,
    rowWeightedSds, rowWeightedVars

Loading required package: GenomicRanges
Loading required package: stats4
Loading required package: BiocGenerics

Attaching package: 'BiocGenerics'

The following objects are masked from 'package:stats':

    IQR, mad, sd, var, xtabs

The following objects are masked from 'package:base':

    Filter, Find, Map, Position, Reduce, anyDuplicated, aperm, append,
    as.data.frame, basename, cbind, colnames, dirname, do.call,
    duplicated, eval, evalq, get, grep, grepl, intersect, is.unsorted,
    lapply, mapply, match, mget, order, paste, pmax, pmax.int, pmin,
    pmin.int, rank, rbind, rownames, sapply, setdiff, table, tapply,
    union, unique, unsplit, which.max, which.min

Loading required package: S4Vectors

Attaching package: 'S4Vectors'

The following object is masked from 'package:utils':

    findMatches

The following objects are masked from 'package:base':

    I, expand.grid, unname

Loading required package: IRanges
Loading required package: GenomeInfoDb
Loading required package: Biobase
Welcome to Bioconductor

    Vignettes contain introductory material; view with
    'browseVignettes()'. To cite Bioconductor, see
    'citation("Biobase")', and for packages 'citation("pkgname")'.


Attaching package: 'Biobase'

The following object is masked from 'package:MatrixGenerics':

    rowMedians

The following objects are masked from 'package:matrixStats':

    anyMissing, rowMedians

> library("testthat")
> 
> # E. coli 
> x<-getDEE2("ecoli",c("SRR1613487","SRR1613488"),legacy=TRUE)
trying URL 'http://dee2.io/metadata/ecoli_metadata.tsv.cut'
Content type 'text/tab-separated-values' length 2078161 bytes (2.0 MB)
==================================================
downloaded 2.0 MB

trying URL 'http://dee2.io/cgi-bin/request.sh?org=ecoli&x=SRR1613487&x=SRR1613488'
downloaded 154 KB

For more information about DEE2 QC metrics, visit
    https://github.com/markziemann/dee2/blob/master/qc/qc_metrics.md
> 
> test_that("eco works", {
+     expect_equal( sum(x$GeneCounts) , 20624168 )
+ })
Test passed 🎉
> 
> 
> # A. thaliana bundle
> x <- getDEE2_bundle("athaliana", "SRP058781",col="SRP_accession")
trying URL 'http://dee2.io/huge/athaliana/'
downloaded 461 KB

trying URL 'http://dee2.io/huge/athaliana/SRP058781_NA.zip'
Content type 'application/zip' length 4214382 bytes (4.0 MB)
==================================================
downloaded 4.0 MB

For more information about DEE2 QC metrics, visit
    https://github.com/markziemann/dee2/blob/master/qc/qc_metrics.md
> 
> test_that("ath bundles work", {
+     expect_equal( nrow(assays(x)[[1]]) , 32833 )
+     expect_equal( ncol(assays(x)[[1]]) , 32 )
+ })
Test passed 🥳
> 
> 
> # check absent present
> dat <- query_bundles("drerio",c("SRP131781","SRP055996","SRXXX"),col="SRP_accession")
trying URL 'http://dee2.io/huge/drerio/'
downloaded 161 KB

> 
> test_that("dre bundle query", {
+     expect_equal( length(dat$absent) , 1 )
+     expect_equal( length(dat$present) , 2 )
+ })
Test passed 🎊
> 
> proc.time()
   user  system elapsed 
 14.657   0.525  40.058 

Example timings

getDEE2.Rcheck/getDEE2-Ex.timings

nameusersystemelapsed
Tx2Gene0.4550.1396.149
getDEE2 1.087 0.240111.318
getDEE2Metadata0.7070.5445.368
getDEE2_bundle1.9710.0828.352
list_bundles0.5550.0051.769
loadFullMeta0.2090.0175.758
loadGeneCounts 0.208 0.02011.243
loadGeneInfo0.2170.0125.756
loadQcMx0.2290.0245.802
loadSummaryMeta0.2000.0177.457
loadTxCounts0.2040.0175.753
loadTxInfo0.1940.0399.702
queryDEE20.1380.0206.191
query_bundles0.3870.0041.602
se0.2370.0095.792
srx_agg0.1800.0175.732