Back to Multiple platform build/check report for BioC 3.19:   simplified   long
ABCDEF[G]HIJKLMNOPQRSTUVWXYZ

This page was generated on 2024-03-28 11:40:45 -0400 (Thu, 28 Mar 2024).

HostnameOSArch (*)R versionInstalled pkgs
nebbiolo1Linux (Ubuntu 22.04.3 LTS)x86_64R Under development (unstable) (2024-03-18 r86148) -- "Unsuffered Consequences" 4708
palomino3Windows Server 2022 Datacenterx64R Under development (unstable) (2024-03-16 r86144 ucrt) -- "Unsuffered Consequences" 4446
lconwaymacOS 12.7.1 Montereyx86_64R Under development (unstable) (2024-03-18 r86148) -- "Unsuffered Consequences" 4471
kunpeng2Linux (openEuler 22.03 LTS-SP1)aarch64R Under development (unstable) (2024-03-19 r86153) -- "Unsuffered Consequences" 4426
Click on any hostname to see more info about the system (e.g. compilers)      (*) as reported by 'uname -p', except on Windows and Mac OS X

Package 795/2270HostnameOS / ArchINSTALLBUILDCHECKBUILD BIN
genefilter 1.85.1  (landing page)
Bioconductor Package Maintainer
Snapshot Date: 2024-03-27 14:00:18 -0400 (Wed, 27 Mar 2024)
git_url: https://git.bioconductor.org/packages/genefilter
git_branch: devel
git_last_commit: 9f22fda
git_last_commit_date: 2024-01-18 15:47:09 -0400 (Thu, 18 Jan 2024)
nebbiolo1Linux (Ubuntu 22.04.3 LTS) / x86_64  OK    OK    WARNINGS  UNNEEDED, same version is already published
palomino3Windows Server 2022 Datacenter / x64  OK    OK    WARNINGS    OK  UNNEEDED, same version is already published
lconwaymacOS 12.7.1 Monterey / x86_64  OK    OK    WARNINGS    OK  UNNEEDED, same version is already published
kunpeng2Linux (openEuler 22.03 LTS-SP1) / aarch64  OK    OK    WARNINGS  

INSTALL results for genefilter on kunpeng2


To the developers/maintainers of the genefilter package:
- Allow up to 24 hours (and sometimes 48 hours) for your latest push to git@git.bioconductor.org:packages/genefilter.git to reflect on this report. See Troubleshooting Build Report for more information.
- Use the following Renviron settings to reproduce errors and warnings.
- If 'R CMD check' started to fail recently on the Linux builder(s) over a missing dependency, add the missing dependency to 'Suggests:' in your DESCRIPTION file. See Renviron.bioc for more information.
- See Martin Grigorov's blog post for how to debug Linux ARM64 related issues on a x86_64 host.

raw results


Summary

Package: genefilter
Version: 1.85.1
Command: /home/biocbuild/R/R-4.4-devel-2024.03.20/bin/R CMD INSTALL genefilter
StartedAt: 2024-03-27 20:12:44 -0000 (Wed, 27 Mar 2024)
EndedAt: 2024-03-27 20:13:13 -0000 (Wed, 27 Mar 2024)
EllapsedTime: 28.8 seconds
RetCode: 0
Status:   OK  

Command output

##############################################################################
##############################################################################
###
### Running command:
###
###   /home/biocbuild/R/R-4.4-devel-2024.03.20/bin/R CMD INSTALL genefilter
###
##############################################################################
##############################################################################


* installing to library ‘/home/biocbuild/R/R-4.4-devel-2024.03.20/site-library’
* installing *source* package ‘genefilter’ ...
** using staged installation
** libs
using C compiler: ‘gcc (GCC) 10.3.1’
using Fortran compiler: ‘GNU Fortran (GCC) 10.3.1’
using C++ compiler: ‘g++ (GCC) 10.3.1’
g++ -std=gnu++17 -I"/home/biocbuild/R/R-4.4-devel-2024.03.20/include" -DNDEBUG   -I/usr/local/include    -fPIC  -g -O2  -Wall  -c half_range_mode.cpp -o half_range_mode.o
half_range_mode.cpp: In function ‘double half_range_mode(double*, double*, double, int)’:
half_range_mode.cpp:100:60: warning: format ‘%i’ expects argument of type ‘int’, but argument 5 has type ‘std::vector<int>::size_type’ {aka ‘long unsigned int’} [-Wformat=]
  100 |     if (diag) Rprintf( "N = %i, N'' = %i, w = %.4f, |J| = %i\n", N, N_double_prime, w, J.size() );
      |                                                           ~^                           ~~~~~~~~
      |                                                            |                                 |
      |                                                            int                               std::vector<int>::size_type {aka long unsigned int}
      |                                                           %li
gcc -I"/home/biocbuild/R/R-4.4-devel-2024.03.20/include" -DNDEBUG   -I/usr/local/include    -fPIC  -g -O2  -Wall -c init.c -o init.o
gcc -I"/home/biocbuild/R/R-4.4-devel-2024.03.20/include" -DNDEBUG   -I/usr/local/include    -fPIC  -g -O2  -Wall -c nd.c -o nd.o
gcc -I"/home/biocbuild/R/R-4.4-devel-2024.03.20/include" -DNDEBUG   -I/usr/local/include    -fPIC  -g -O2  -Wall -c pAUC.c -o pAUC.o
pAUC.c: In function ‘pAUC’:
pAUC.c:140:13: warning: suggest parentheses around comparison in operand of ‘|’ [-Wparentheses]
  140 |     if(rows != INTEGER(dimSens)[1] | columns != INTEGER(dimSens)[0])
      |        ~~~~~^~~~~~~~~~~~~~~~~~~~~~
gcc -I"/home/biocbuild/R/R-4.4-devel-2024.03.20/include" -DNDEBUG   -I/usr/local/include    -fPIC  -g -O2  -Wall -c rowPAUCs.c -o rowPAUCs.o
gcc -I"/home/biocbuild/R/R-4.4-devel-2024.03.20/include" -DNDEBUG   -I/usr/local/include    -fPIC  -g -O2  -Wall -c rowttests.c -o rowttests.o
gfortran  -fPIC  -g -O2  -Wall -c ttest.f -o ttest.o
ttest.f:47:12:

   47 |          dm=dm1-dm2
      |            1
Warning: Possible change of value in conversion from REAL(8) to REAL(4) at (1) [-Wconversion]
ttest.f:50:12:

   50 |          dm=dm1/dm2
      |            1
Warning: Possible change of value in conversion from REAL(8) to REAL(4) at (1) [-Wconversion]
ttest.f:59:13:

   59 |          tst=(dm1-dm2)/sqrt((1.d0/ng1+1.d0/ng2)*(dss1+dss2)/(ng1+ng2-2))
      |             1
Warning: Possible change of value in conversion from REAL(8) to REAL(4) at (1) [-Wconversion]
ttest.f:62:10:

   62 |       tst=(dm1-dm2)/sqrt(dss1/((ng1-1)*ng1)+dss2/((ng2-1)*ng2))
      |          1
Warning: Possible change of value in conversion from REAL(8) to REAL(4) at (1) [-Wconversion]
g++ -std=gnu++17 -shared -L/home/biocbuild/R/R-4.4-devel-2024.03.20/lib -L/usr/local/lib -o genefilter.so half_range_mode.o init.o nd.o pAUC.o rowPAUCs.o rowttests.o ttest.o -lgfortran -lm -L/home/biocbuild/R/R-4.4-devel-2024.03.20/lib -lR
installing to /home/biocbuild/R/R-4.4-devel-2024.03.20/site-library/00LOCK-genefilter/00new/genefilter/libs
** R
** data
*** moving datasets to lazyload DB
** inst
** byte-compile and prepare package for lazy loading
** help
*** installing help indices
** building package indices
** installing vignettes
** testing if installed package can be loaded from temporary location
** checking absolute paths in shared objects and dynamic libraries
** testing if installed package can be loaded from final location
** testing if installed package keeps a record of temporary installation path
* DONE (genefilter)