Back to Multiple platform build/check report for BioC 3.17
ABCDE[F]GHIJKLMNOPQRSTUVWXYZ

This page was generated on 2022-12-06 11:09:23 -0500 (Tue, 06 Dec 2022).

HostnameOSArch (*)R versionInstalled pkgs
nebbiolo1Linux (Ubuntu 22.04.1 LTS)x86_64R Under development (unstable) (2022-11-30 r83393) -- "Unsuffered Consequences" 4277
palomino3Windows Server 2022 Datacenterx64R Under development (unstable) (2022-11-30 r83393 ucrt) -- "Unsuffered Consequences" 4193
merida1macOS 10.14.6 Mojavex86_64R Under development (unstable) (2022-11-30 r83393) -- "Unsuffered Consequences" 4236
Click on any hostname to see more info about the system (e.g. compilers)      (*) as reported by 'uname -p', except on Windows and Mac OS X

INSTALL results for flowWorkspace on merida1


To the developers/maintainers of the flowWorkspace package:
- Please allow up to 24 hours (and sometimes 48 hours) for your latest push to git@git.bioconductor.org:packages/flowWorkspace.git to
reflect on this report. See How and When does the builder pull? When will my changes propagate? for more information.
- Make sure to use the following settings in order to reproduce any error or warning you see on this page.

raw results

Package 700/2155HostnameOS / ArchINSTALLBUILDCHECKBUILD BIN
flowWorkspace 4.11.0  (landing page)
Greg Finak , Mike Jiang
Snapshot Date: 2022-12-05 14:00:11 -0500 (Mon, 05 Dec 2022)
git_url: https://git.bioconductor.org/packages/flowWorkspace
git_branch: master
git_last_commit: fb34e4c
git_last_commit_date: 2022-11-01 11:05:55 -0500 (Tue, 01 Nov 2022)
nebbiolo1Linux (Ubuntu 22.04.1 LTS) / x86_64  OK    OK    WARNINGS  UNNEEDED, same version is already published
palomino3Windows Server 2022 Datacenter / x64  OK    OK    WARNINGS    OK  UNNEEDED, same version is already published
merida1macOS 10.14.6 Mojave / x86_64  OK    ERROR  skippedskipped

Summary

Package: flowWorkspace
Version: 4.11.0
Command: /Library/Frameworks/R.framework/Resources/bin/R CMD INSTALL flowWorkspace
StartedAt: 2022-12-05 15:21:37 -0500 (Mon, 05 Dec 2022)
EndedAt: 2022-12-05 15:28:09 -0500 (Mon, 05 Dec 2022)
EllapsedTime: 391.8 seconds
RetCode: 0
Status:   OK  

Command output

##############################################################################
##############################################################################
###
### Running command:
###
###   /Library/Frameworks/R.framework/Resources/bin/R CMD INSTALL flowWorkspace
###
##############################################################################
##############################################################################


* installing to library ‘/Library/Frameworks/R.framework/Versions/4.3/Resources/library’
* installing *source* package ‘flowWorkspace’ ...
** using staged installation
** libs
clang++ -mmacosx-version-min=10.13 -std=gnu++11 -I"/Library/Frameworks/R.framework/Resources/include" -DNDEBUG -DROUT -I../inst/include -DBOOST_NO_AUTO_PTR -Wno-pedantic -I'/Library/Frameworks/R.framework/Versions/4.3/Resources/library/cpp11/include' -I'/Library/Frameworks/R.framework/Versions/4.3/Resources/library/BH/include' -I'/Library/Frameworks/R.framework/Versions/4.3/Resources/library/RProtoBufLib/include' -I'/Library/Frameworks/R.framework/Versions/4.3/Resources/library/cytolib/include' -I'/Library/Frameworks/R.framework/Versions/4.3/Resources/library/Rhdf5lib/include' -I/usr/local/include    -fPIC  -Wall -g -O2  -c R_API.cpp -o R_API.o
clang++ -mmacosx-version-min=10.13 -std=gnu++11 -I"/Library/Frameworks/R.framework/Resources/include" -DNDEBUG -DROUT -I../inst/include -DBOOST_NO_AUTO_PTR -Wno-pedantic -I'/Library/Frameworks/R.framework/Versions/4.3/Resources/library/cpp11/include' -I'/Library/Frameworks/R.framework/Versions/4.3/Resources/library/BH/include' -I'/Library/Frameworks/R.framework/Versions/4.3/Resources/library/RProtoBufLib/include' -I'/Library/Frameworks/R.framework/Versions/4.3/Resources/library/cytolib/include' -I'/Library/Frameworks/R.framework/Versions/4.3/Resources/library/Rhdf5lib/include' -I/usr/local/include    -fPIC  -Wall -g -O2  -c R_GatingHierarchy.cpp -o R_GatingHierarchy.o
clang++ -mmacosx-version-min=10.13 -std=gnu++11 -I"/Library/Frameworks/R.framework/Resources/include" -DNDEBUG -DROUT -I../inst/include -DBOOST_NO_AUTO_PTR -Wno-pedantic -I'/Library/Frameworks/R.framework/Versions/4.3/Resources/library/cpp11/include' -I'/Library/Frameworks/R.framework/Versions/4.3/Resources/library/BH/include' -I'/Library/Frameworks/R.framework/Versions/4.3/Resources/library/RProtoBufLib/include' -I'/Library/Frameworks/R.framework/Versions/4.3/Resources/library/cytolib/include' -I'/Library/Frameworks/R.framework/Versions/4.3/Resources/library/Rhdf5lib/include' -I/usr/local/include    -fPIC  -Wall -g -O2  -c R_GatingSet.cpp -o R_GatingSet.o
clang++ -mmacosx-version-min=10.13 -std=gnu++11 -I"/Library/Frameworks/R.framework/Resources/include" -DNDEBUG -DROUT -I../inst/include -DBOOST_NO_AUTO_PTR -Wno-pedantic -I'/Library/Frameworks/R.framework/Versions/4.3/Resources/library/cpp11/include' -I'/Library/Frameworks/R.framework/Versions/4.3/Resources/library/BH/include' -I'/Library/Frameworks/R.framework/Versions/4.3/Resources/library/RProtoBufLib/include' -I'/Library/Frameworks/R.framework/Versions/4.3/Resources/library/cytolib/include' -I'/Library/Frameworks/R.framework/Versions/4.3/Resources/library/Rhdf5lib/include' -I/usr/local/include    -fPIC  -Wall -g -O2  -c cpp11.cpp -o cpp11.o
In file included from cpp11.cpp:4:
In file included from ./flowWorkspace_types.h:5:
In file included from /Library/Frameworks/R.framework/Versions/4.3/Resources/library/cpp11/include/cpp11/declarations.hpp:8:
In file included from /Library/Frameworks/R.framework/Versions/4.3/Resources/library/cpp11/include/cpp11.hpp:10:
/Library/Frameworks/R.framework/Versions/4.3/Resources/library/cpp11/include/cpp11/external_pointer.hpp:17:3: warning: delete called on non-final 'cytolib::CytoFrameView' that has virtual functions but non-virtual destructor [-Wdelete-non-abstract-non-virtual-dtor]
  delete obj;
  ^
/Library/Frameworks/R.framework/Versions/4.3/Resources/library/cpp11/include/cpp11/external_pointer.hpp:20:42: note: in instantiation of function template specialization 'cpp11::default_deleter<cytolib::CytoFrameView>' requested here
template <typename T, void Deleter(T*) = default_deleter<T>>
                                         ^
1 warning generated.
clang++ -mmacosx-version-min=10.13 -std=gnu++11 -I"/Library/Frameworks/R.framework/Resources/include" -DNDEBUG -DROUT -I../inst/include -DBOOST_NO_AUTO_PTR -Wno-pedantic -I'/Library/Frameworks/R.framework/Versions/4.3/Resources/library/cpp11/include' -I'/Library/Frameworks/R.framework/Versions/4.3/Resources/library/BH/include' -I'/Library/Frameworks/R.framework/Versions/4.3/Resources/library/RProtoBufLib/include' -I'/Library/Frameworks/R.framework/Versions/4.3/Resources/library/cytolib/include' -I'/Library/Frameworks/R.framework/Versions/4.3/Resources/library/Rhdf5lib/include' -I/usr/local/include    -fPIC  -Wall -g -O2  -c cytoframeAPI.cpp -o cytoframeAPI.o
In file included from cytoframeAPI.cpp:1:
In file included from /Library/Frameworks/R.framework/Versions/4.3/Resources/library/cpp11/include/cpp11.hpp:10:
/Library/Frameworks/R.framework/Versions/4.3/Resources/library/cpp11/include/cpp11/external_pointer.hpp:17:3: warning: delete called on non-final 'cytolib::CytoFrameView' that has virtual functions but non-virtual destructor [-Wdelete-non-abstract-non-virtual-dtor]
  delete obj;
  ^
/Library/Frameworks/R.framework/Versions/4.3/Resources/library/cpp11/include/cpp11/external_pointer.hpp:20:42: note: in instantiation of function template specialization 'cpp11::default_deleter<cytolib::CytoFrameView>' requested here
template <typename T, void Deleter(T*) = default_deleter<T>>
                                         ^
1 warning generated.
clang++ -mmacosx-version-min=10.13 -std=gnu++11 -I"/Library/Frameworks/R.framework/Resources/include" -DNDEBUG -DROUT -I../inst/include -DBOOST_NO_AUTO_PTR -Wno-pedantic -I'/Library/Frameworks/R.framework/Versions/4.3/Resources/library/cpp11/include' -I'/Library/Frameworks/R.framework/Versions/4.3/Resources/library/BH/include' -I'/Library/Frameworks/R.framework/Versions/4.3/Resources/library/RProtoBufLib/include' -I'/Library/Frameworks/R.framework/Versions/4.3/Resources/library/cytolib/include' -I'/Library/Frameworks/R.framework/Versions/4.3/Resources/library/Rhdf5lib/include' -I/usr/local/include    -fPIC  -Wall -g -O2  -c cytosetAPI.cpp -o cytosetAPI.o
In file included from cytosetAPI.cpp:2:
In file included from ../inst/include/flowWorkspace/pairVectorCpp11Convert.h:10:
In file included from /Library/Frameworks/R.framework/Versions/4.3/Resources/library/cpp11/include/cpp11.hpp:10:
/Library/Frameworks/R.framework/Versions/4.3/Resources/library/cpp11/include/cpp11/external_pointer.hpp:17:3: warning: delete called on non-final 'cytolib::CytoFrameView' that has virtual functions but non-virtual destructor [-Wdelete-non-abstract-non-virtual-dtor]
  delete obj;
  ^
/Library/Frameworks/R.framework/Versions/4.3/Resources/library/cpp11/include/cpp11/external_pointer.hpp:20:42: note: in instantiation of function template specialization 'cpp11::default_deleter<cytolib::CytoFrameView>' requested here
template <typename T, void Deleter(T*) = default_deleter<T>>
                                         ^
1 warning generated.
clang++ -mmacosx-version-min=10.13 -std=gnu++11 -I"/Library/Frameworks/R.framework/Resources/include" -DNDEBUG -DROUT -I../inst/include -DBOOST_NO_AUTO_PTR -Wno-pedantic -I'/Library/Frameworks/R.framework/Versions/4.3/Resources/library/cpp11/include' -I'/Library/Frameworks/R.framework/Versions/4.3/Resources/library/BH/include' -I'/Library/Frameworks/R.framework/Versions/4.3/Resources/library/RProtoBufLib/include' -I'/Library/Frameworks/R.framework/Versions/4.3/Resources/library/cytolib/include' -I'/Library/Frameworks/R.framework/Versions/4.3/Resources/library/Rhdf5lib/include' -I/usr/local/include    -fPIC  -Wall -g -O2  -c getDescendants.cpp -o getDescendants.o
clang++ -mmacosx-version-min=10.13 -std=gnu++11 -I"/Library/Frameworks/R.framework/Resources/include" -DNDEBUG -DROUT -I../inst/include -DBOOST_NO_AUTO_PTR -Wno-pedantic -I'/Library/Frameworks/R.framework/Versions/4.3/Resources/library/cpp11/include' -I'/Library/Frameworks/R.framework/Versions/4.3/Resources/library/BH/include' -I'/Library/Frameworks/R.framework/Versions/4.3/Resources/library/RProtoBufLib/include' -I'/Library/Frameworks/R.framework/Versions/4.3/Resources/library/cytolib/include' -I'/Library/Frameworks/R.framework/Versions/4.3/Resources/library/Rhdf5lib/include' -I/usr/local/include    -fPIC  -Wall -g -O2  -c getPopStats.cpp -o getPopStats.o
clang++ -mmacosx-version-min=10.13 -std=gnu++11 -I"/Library/Frameworks/R.framework/Resources/include" -DNDEBUG -DROUT -I../inst/include -DBOOST_NO_AUTO_PTR -Wno-pedantic -I'/Library/Frameworks/R.framework/Versions/4.3/Resources/library/cpp11/include' -I'/Library/Frameworks/R.framework/Versions/4.3/Resources/library/BH/include' -I'/Library/Frameworks/R.framework/Versions/4.3/Resources/library/RProtoBufLib/include' -I'/Library/Frameworks/R.framework/Versions/4.3/Resources/library/cytolib/include' -I'/Library/Frameworks/R.framework/Versions/4.3/Resources/library/Rhdf5lib/include' -I/usr/local/include    -fPIC  -Wall -g -O2  -c getSingleCellExpression.cpp -o getSingleCellExpression.o
clang++ -mmacosx-version-min=10.13 -std=gnu++11 -I"/Library/Frameworks/R.framework/Resources/include" -DNDEBUG -DROUT -I../inst/include -DBOOST_NO_AUTO_PTR -Wno-pedantic -I'/Library/Frameworks/R.framework/Versions/4.3/Resources/library/cpp11/include' -I'/Library/Frameworks/R.framework/Versions/4.3/Resources/library/BH/include' -I'/Library/Frameworks/R.framework/Versions/4.3/Resources/library/RProtoBufLib/include' -I'/Library/Frameworks/R.framework/Versions/4.3/Resources/library/cytolib/include' -I'/Library/Frameworks/R.framework/Versions/4.3/Resources/library/Rhdf5lib/include' -I/usr/local/include    -fPIC  -Wall -g -O2  -c h5_error_r_handler.cpp -o h5_error_r_handler.o
clang++ -mmacosx-version-min=10.13 -std=gnu++11 -I"/Library/Frameworks/R.framework/Resources/include" -DNDEBUG -DROUT -I../inst/include -DBOOST_NO_AUTO_PTR -Wno-pedantic -I'/Library/Frameworks/R.framework/Versions/4.3/Resources/library/cpp11/include' -I'/Library/Frameworks/R.framework/Versions/4.3/Resources/library/BH/include' -I'/Library/Frameworks/R.framework/Versions/4.3/Resources/library/RProtoBufLib/include' -I'/Library/Frameworks/R.framework/Versions/4.3/Resources/library/cytolib/include' -I'/Library/Frameworks/R.framework/Versions/4.3/Resources/library/Rhdf5lib/include' -I/usr/local/include    -fPIC  -Wall -g -O2  -c setCounts.cpp -o setCounts.o
clang++ -mmacosx-version-min=10.13 -std=gnu++11 -dynamiclib -Wl,-headerpad_max_install_names -undefined dynamic_lookup -single_module -multiply_defined suppress -L/Library/Frameworks/R.framework/Resources/lib -L/usr/local/lib -o flowWorkspace.so R_API.o R_GatingHierarchy.o R_GatingSet.o cpp11.o cytoframeAPI.o cytosetAPI.o getDescendants.o getPopStats.o getSingleCellExpression.o h5_error_r_handler.o setCounts.o /Library/Frameworks/R.framework/Versions/4.3/Resources/library/cytolib/lib/libcytolib.a /Library/Frameworks/R.framework/Versions/4.3/Resources/library/Rhdf5lib/lib/libhdf5_cpp.a /Library/Frameworks/R.framework/Versions/4.3/Resources/library/Rhdf5lib/lib/libhdf5.a -L/Library/Frameworks/R.framework/Versions/4.3/Resources/library/Rhdf5lib/lib -lsz -laec -lz -ldl -lm -L/Library/Frameworks/R.framework/Resources/lib -lRlapack -L/Library/Frameworks/R.framework/Resources/lib -lRblas -F/Library/Frameworks/R.framework/.. -framework R -Wl,-framework -Wl,CoreFoundation
installing to /Library/Frameworks/R.framework/Versions/4.3/Resources/library/00LOCK-flowWorkspace/00new/flowWorkspace/libs
** R
** inst
** byte-compile and prepare package for lazy loading
** help
*** installing help indices
** building package indices
** installing vignettes
** testing if installed package can be loaded from temporary location
** checking absolute paths in shared objects and dynamic libraries
** testing if installed package can be loaded from final location
** testing if installed package keeps a record of temporary installation path
* DONE (flowWorkspace)