Index of /checkResults/devel/bioc-LATEST/categoryCompare/raw-results

[ICO]NameLast modifiedSizeDescription

[DIR]Parent Directory  -  
[   ]info.dcf23-Mar-2023 00:06 284  
[DIR]merida1/23-Mar-2023 00:06 -  
[DIR]nebbiolo1/23-Mar-2023 00:05 -  
[DIR]palomino3/23-Mar-2023 00:05 -