Index of /checkResults/devel/bioc-LATEST/TRESS/raw-results

[ICO]NameLast modifiedSizeDescription

[DIR]Parent Directory  -  
[   ]info.dcf28-May-2022 00:04 262  
[DIR]lconway/25-May-2022 00:08 -  
[DIR]nebbiolo2/28-May-2022 00:03 -  
[DIR]palomino4/28-May-2022 00:04 -