Back to Multiple platform build/check report for BioC 3.19: simplified long |
|
This page was generated on 2024-03-28 11:41:07 -0400 (Thu, 28 Mar 2024).
Hostname | OS | Arch (*) | R version | Installed pkgs |
---|---|---|---|---|
nebbiolo1 | Linux (Ubuntu 22.04.3 LTS) | x86_64 | R Under development (unstable) (2024-03-18 r86148) -- "Unsuffered Consequences" | 4708 |
palomino3 | Windows Server 2022 Datacenter | x64 | R Under development (unstable) (2024-03-16 r86144 ucrt) -- "Unsuffered Consequences" | 4446 |
lconway | macOS 12.7.1 Monterey | x86_64 | R Under development (unstable) (2024-03-18 r86148) -- "Unsuffered Consequences" | 4471 |
kunpeng2 | Linux (openEuler 22.03 LTS-SP1) | aarch64 | R Under development (unstable) (2024-03-19 r86153) -- "Unsuffered Consequences" | 4426 |
Click on any hostname to see more info about the system (e.g. compilers) (*) as reported by 'uname -p', except on Windows and Mac OS X |
Package 1549/2270 | Hostname | OS / Arch | INSTALL | BUILD | CHECK | BUILD BIN | ||||||||
Pigengene 1.29.10 (landing page) Habil Zare
| nebbiolo1 | Linux (Ubuntu 22.04.3 LTS) / x86_64 | OK | OK | OK | |||||||||
palomino3 | Windows Server 2022 Datacenter / x64 | OK | OK | OK | OK | |||||||||
lconway | macOS 12.7.1 Monterey / x86_64 | OK | OK | OK | OK | |||||||||
kunpeng2 | Linux (openEuler 22.03 LTS-SP1) / aarch64 | OK | OK | OK | ||||||||||
To the developers/maintainers of the Pigengene package: - Allow up to 24 hours (and sometimes 48 hours) for your latest push to git@git.bioconductor.org:packages/Pigengene.git to reflect on this report. See Troubleshooting Build Report for more information. - Use the following Renviron settings to reproduce errors and warnings. - If 'R CMD check' started to fail recently on the Linux builder(s) over a missing dependency, add the missing dependency to 'Suggests:' in your DESCRIPTION file. See Renviron.bioc for more information. - See Martin Grigorov's blog post for how to debug Linux ARM64 related issues on a x86_64 host. |
Package: Pigengene |
Version: 1.29.10 |
Command: /home/biocbuild/R/R-4.4-devel-2024.03.20/bin/R CMD check --install=check:Pigengene.install-out.txt --library=/home/biocbuild/R/R-4.4-devel-2024.03.20/site-library --no-vignettes --timings Pigengene_1.29.10.tar.gz |
StartedAt: 2024-03-28 08:18:04 -0000 (Thu, 28 Mar 2024) |
EndedAt: 2024-03-28 08:37:17 -0000 (Thu, 28 Mar 2024) |
EllapsedTime: 1153.0 seconds |
RetCode: 0 |
Status: OK |
CheckDir: Pigengene.Rcheck |
Warnings: 0 |
############################################################################## ############################################################################## ### ### Running command: ### ### /home/biocbuild/R/R-4.4-devel-2024.03.20/bin/R CMD check --install=check:Pigengene.install-out.txt --library=/home/biocbuild/R/R-4.4-devel-2024.03.20/site-library --no-vignettes --timings Pigengene_1.29.10.tar.gz ### ############################################################################## ############################################################################## * using log directory ‘/home/biocbuild/bbs-3.19-bioc/meat/Pigengene.Rcheck’ * using R Under development (unstable) (2024-03-19 r86153) * using platform: aarch64-unknown-linux-gnu * R was compiled by gcc (GCC) 10.3.1 GNU Fortran (GCC) 10.3.1 * running under: openEuler 22.03 (LTS-SP1) * using session charset: UTF-8 * using option ‘--no-vignettes’ * checking for file ‘Pigengene/DESCRIPTION’ ... OK * checking extension type ... Package * this is package ‘Pigengene’ version ‘1.29.10’ * checking package namespace information ... OK * checking package dependencies ... OK * checking if this is a source package ... OK * checking if there is a namespace ... OK * checking for hidden files and directories ... OK * checking for portable file names ... OK * checking for sufficient/correct file permissions ... OK * checking whether package ‘Pigengene’ can be installed ... OK * checking installed package size ... OK * checking package directory ... OK * checking ‘build’ directory ... OK * checking DESCRIPTION meta-information ... OK * checking top-level files ... OK * checking for left-over files ... OK * checking index information ... OK * checking package subdirectories ... OK * checking code files for non-ASCII characters ... OK * checking R files for syntax errors ... OK * checking whether the package can be loaded ... OK * checking whether the package can be loaded with stated dependencies ... OK * checking whether the package can be unloaded cleanly ... OK * checking whether the namespace can be loaded with stated dependencies ... OK * checking whether the namespace can be unloaded cleanly ... OK * checking loading without being on the library search path ... OK * checking dependencies in R code ... NOTE 'library' or 'require' calls in package code: ‘AnnotationDbi’ ‘biomaRt’ ‘energy’ ‘org.Hs.eg.db’ ‘org.Mm.eg.db’ Please use :: or requireNamespace() instead. See section 'Suggested packages' in the 'Writing R Extensions' manual. * checking S3 generic/method consistency ... OK * checking replacement functions ... OK * checking foreign function calls ... OK * checking R code for possible problems ... NOTE Found the following possibly unsafe calls: File ‘Pigengene/R/bn.calculation.R’: assignInNamespace("supported.clusters", fixArgs, "bnlearn") one.step.pigengene: no visible binding for global variable ‘org.Hs.eg.db’ Undefined global functions or variables: org.Hs.eg.db * checking Rd files ... NOTE checkRd: (-1) draw.bn.Rd:47: Lost braces 47 | rename the nodes name. See code{rename.node}.} | ^ checkRd: (-1) eigengenes33.Rd:21-22: Lost braces 21 | {A 202 by 34 matrix. | ^ checkRd: (-1) eigengenes33.Rd:25: Lost braces; missing escapes or markup? 25 | {A 164 by 34 matrix for MDS cases with columns similar to aml.} | ^ checkRd: (-1) eigengenes33.Rd:28: Lost braces; missing escapes or markup? 28 | {A numeric vector of length 9166 labeling members of each module. Named by Entrez ID.} | ^ checkRd: (-1) pigengene-class.Rd:22-23: Lost braces in \itemize; meant \describe ? checkRd: (-1) pigengene-class.Rd:24-26: Lost braces in \itemize; meant \describe ? checkRd: (-1) pigengene-class.Rd:27-34: Lost braces in \itemize; meant \describe ? checkRd: (-1) pigengene-class.Rd:35-36: Lost braces in \itemize; meant \describe ? checkRd: (-1) pigengene-class.Rd:37-39: Lost braces in \itemize; meant \describe ? checkRd: (-1) pigengene-class.Rd:40-42: Lost braces in \itemize; meant \describe ? checkRd: (-1) pigengene-class.Rd:43-44: Lost braces in \itemize; meant \describe ? checkRd: (-1) pigengene-class.Rd:45-47: Lost braces in \itemize; meant \describe ? checkRd: (-1) pigengene-class.Rd:48-50: Lost braces in \itemize; meant \describe ? checkRd: (-1) pigengene-class.Rd:51-52: Lost braces in \itemize; meant \describe ? checkRd: (-1) pigengene-class.Rd:53-54: Lost braces in \itemize; meant \describe ? checkRd: (-1) pigengene-class.Rd:55-58: Lost braces in \itemize; meant \describe ? checkRd: (-1) pigengene-class.Rd:59-63: Lost braces in \itemize; meant \describe ? checkRd: (-1) pigengene-class.Rd:68-71: Lost braces in \itemize; meant \describe ? checkRd: (-1) pigengene-class.Rd:72-74: Lost braces in \itemize; meant \describe ? * checking Rd metadata ... OK * checking Rd cross-references ... OK * checking for missing documentation entries ... OK * checking for code/documentation mismatches ... OK * checking Rd \usage sections ... OK * checking Rd contents ... OK * checking for unstated dependencies in examples ... OK * checking contents of ‘data’ directory ... OK * checking data for non-ASCII characters ... OK * checking data for ASCII and uncompressed saves ... OK * checking files in ‘vignettes’ ... OK * checking examples ... OK Examples with CPU (user + system) or elapsed time > 5s user system elapsed one.step.pigengene 252.745 0.572 253.675 Pigengene-package 245.363 0.427 246.262 get.enriched.pw 93.716 2.180 96.072 module.heatmap 50.317 0.363 50.773 make.filter 25.723 0.060 25.824 apply.filter 23.533 0.127 23.705 pigengene 19.629 0.439 20.100 learn.bn 19.530 0.014 19.581 plot.pigengene 19.107 0.275 19.415 project.eigen 19.040 0.308 19.380 compute.pigengene 18.904 0.136 19.066 make.decision.tree 17.687 0.040 17.763 compact.tree 16.794 0.024 16.850 determine.modules 15.595 0.023 15.644 combine.networks 15.569 0.028 15.618 wgcna.one.step 14.608 0.052 14.693 gene.mapping 7.900 0.407 17.910 * checking for unstated dependencies in vignettes ... OK * checking package vignettes ... OK * checking running R code from vignettes ... SKIPPED * checking re-building of vignette outputs ... SKIPPED * checking PDF version of manual ... OK * DONE Status: 3 NOTEs See ‘/home/biocbuild/bbs-3.19-bioc/meat/Pigengene.Rcheck/00check.log’ for details.
Pigengene.Rcheck/00install.out
############################################################################## ############################################################################## ### ### Running command: ### ### /home/biocbuild/R/R-4.4-devel-2024.03.20/bin/R CMD INSTALL Pigengene ### ############################################################################## ############################################################################## * installing to library ‘/home/biocbuild/R/R-4.4-devel-2024.03.20/site-library’ * installing *source* package ‘Pigengene’ ... ** using staged installation ** R ** data ** inst ** byte-compile and prepare package for lazy loading ** help *** installing help indices ** building package indices ** installing vignettes ** testing if installed package can be loaded from temporary location ** testing if installed package can be loaded from final location ** testing if installed package keeps a record of temporary installation path * DONE (Pigengene)
Pigengene.Rcheck/Pigengene-Ex.timings
name | user | system | elapsed | |
Pigengene-package | 245.363 | 0.427 | 246.262 | |
aml | 0.172 | 0.004 | 0.173 | |
apply.filter | 23.533 | 0.127 | 23.705 | |
balance | 0.281 | 0.039 | 0.321 | |
calculate.beta | 0.869 | 0.004 | 0.874 | |
check.nas | 0.043 | 0.004 | 0.048 | |
check.pigengene.input | 0.046 | 0.000 | 0.047 | |
combine.networks | 15.569 | 0.028 | 15.618 | |
compact.tree | 16.794 | 0.024 | 16.850 | |
compute.pigengene | 18.904 | 0.136 | 19.066 | |
dcor.matrix | 0.157 | 0.004 | 0.161 | |
determine.modules | 15.595 | 0.023 | 15.644 | |
draw.bn | 0 | 0 | 0 | |
eigengenes33 | 0.104 | 0.000 | 0.105 | |
gene.mapping | 7.900 | 0.407 | 17.910 | |
get.enriched.pw | 93.716 | 2.180 | 96.072 | |
get.fitted.leaf | 0.547 | 0.000 | 0.549 | |
get.genes | 0.525 | 0.000 | 0.526 | |
get.used.features | 0.527 | 0.000 | 0.529 | |
learn.bn | 19.530 | 0.014 | 19.581 | |
make.decision.tree | 17.687 | 0.040 | 17.763 | |
make.filter | 25.723 | 0.060 | 25.824 | |
mds | 0.103 | 0.004 | 0.107 | |
message.if | 0 | 0 | 0 | |
module.heatmap | 50.317 | 0.363 | 50.773 | |
one.step.pigengene | 252.745 | 0.572 | 253.675 | |
pheatmap.type | 0.253 | 0.016 | 0.272 | |
pigengene | 19.629 | 0.439 | 20.100 | |
plot.pigengene | 19.107 | 0.275 | 19.415 | |
preds.at | 0.721 | 0.008 | 0.732 | |
project.eigen | 19.040 | 0.308 | 19.380 | |
pvalues.manova | 0.08 | 0.00 | 0.08 | |
save.if | 0.854 | 0.023 | 0.879 | |
wgcna.one.step | 14.608 | 0.052 | 14.693 | |