Index of /checkResults/devel/bioc-LATEST/Pigengene/raw-results
Name
Last modified
Size
Description
Parent Directory
-
info.dcf
19-Aug-2022 00:08
268
kjohnson/
12-Jul-2022 00:06
-
lconway/
19-Aug-2022 00:08
-
nebbiolo2/
19-Aug-2022 00:05
-
palomino4/
19-Aug-2022 00:07
-