Back to Multiple platform build/check report for BioC 3.16 |
|
This page was generated on 2022-08-11 11:07:08 -0400 (Thu, 11 Aug 2022).
Hostname | OS | Arch (*) | R version | Installed pkgs |
---|---|---|---|---|
nebbiolo2 | Linux (Ubuntu 20.04.4 LTS) | x86_64 | 4.2.1 (2022-06-23) -- "Funny-Looking Kid" | 4375 |
palomino4 | Windows Server 2022 Datacenter | x64 | 4.2.1 (2022-06-23 ucrt) -- "Funny-Looking Kid" | 4159 |
lconway | macOS 12.2.1 Monterey | x86_64 | 4.2.1 Patched (2022-07-09 r82577) -- "Funny-Looking Kid" | 4165 |
Click on any hostname to see more info about the system (e.g. compilers) (*) as reported by 'uname -p', except on Windows and Mac OS X |
To the developers/maintainers of the PADOG package: - Please allow up to 24 hours (and sometimes 48 hours) for your latest push to git@git.bioconductor.org:packages/PADOG.git to reflect on this report. See How and When does the builder pull? When will my changes propagate? for more information. - Make sure to use the following settings in order to reproduce any error or warning you see on this page. |
Package 1397/2139 | Hostname | OS / Arch | INSTALL | BUILD | CHECK | BUILD BIN | ||||||||
PADOG 1.39.0 (landing page) Adi L. Tarca
| nebbiolo2 | Linux (Ubuntu 20.04.4 LTS) / x86_64 | OK | OK | OK | ![]() | ||||||||
palomino4 | Windows Server 2022 Datacenter / x64 | OK | OK | OK | OK | ![]() | ||||||||
lconway | macOS 12.2.1 Monterey / x86_64 | OK | OK | OK | OK | ![]() | ||||||||
Package: PADOG |
Version: 1.39.0 |
Command: rm -rf PADOG.buildbin-libdir && mkdir PADOG.buildbin-libdir && F:\biocbuild\bbs-3.16-bioc\R\bin\R.exe CMD INSTALL --merge-multiarch --build --library=PADOG.buildbin-libdir PADOG_1.39.0.tar.gz |
StartedAt: 2022-08-11 08:16:47 -0400 (Thu, 11 Aug 2022) |
EndedAt: 2022-08-11 08:17:06 -0400 (Thu, 11 Aug 2022) |
EllapsedTime: 19.0 seconds |
RetCode: 0 |
Status: OK |
PackageFile: PADOG_1.39.0.zip |
PackageFileSize: 272.9 KiB |
############################################################################## ############################################################################## ### ### Running command: ### ### rm -rf PADOG.buildbin-libdir && mkdir PADOG.buildbin-libdir && F:\biocbuild\bbs-3.16-bioc\R\bin\R.exe CMD INSTALL --merge-multiarch --build --library=PADOG.buildbin-libdir PADOG_1.39.0.tar.gz ### ############################################################################## ############################################################################## only one architecture so ignoring '--merge-multiarch' * installing *source* package 'PADOG' ... ** using staged installation ** R ** inst ** byte-compile and prepare package for lazy loading ** help *** installing help indices ** building package indices ** installing vignettes ** testing if installed package can be loaded from temporary location ** testing if installed package can be loaded from final location ** testing if installed package keeps a record of temporary installation path * MD5 sums packaged installation of 'PADOG' as PADOG_1.39.0.zip * DONE (PADOG)