Index of /checkResults/devel/bioc-LATEST/PADOG/raw-results

[ICO]NameLast modifiedSizeDescription

[DIR]Parent Directory  -  
[   ]info.dcf28-Jan-2022 01:11 261  
[DIR]merida1/28-Jan-2022 01:11 -  
[DIR]nebbiolo1/28-Jan-2022 01:06 -  
[DIR]palomino3/28-Jan-2022 01:09 -  
[DIR]riesling1/28-Jan-2022 01:07 -