Index of /checkResults/devel/bioc-LATEST/IsoCorrectoR/raw-results

[ICO]NameLast modifiedSizeDescription

[DIR]Parent Directory  -  
[   ]info.dcf22-Sep-2023 00:40 280  
[DIR]kunpeng2/22-Sep-2023 00:40 -  
[DIR]lconway/22-Sep-2023 00:39 -  
[DIR]nebbiolo2/22-Sep-2023 00:36 -  
[DIR]palomino4/22-Sep-2023 00:38 -