Back to Multiple platform build/check report for BioC 3.14
ABCDEF[G]HIJKLMNOPQRSTUVWXYZ

This page was generated on 2021-10-21 12:05:21 -0400 (Thu, 21 Oct 2021).

INSTALL results for Glimma on merida1

To the developers/maintainers of the Glimma package:
- Please allow up to 24 hours (and sometimes 48 hours) for your latest push to git@git.bioconductor.org:packages/Glimma.git to
reflect on this report. See How and When does the builder pull? When will my changes propagate? here for more information.
- Make sure to use the following settings in order to reproduce any error or warning you see on this page.

raw results

Package 783/2075HostnameOS / ArchINSTALLBUILDCHECKBUILD BIN
Glimma 2.3.2  (landing page)
Shian Su
Snapshot Date: 2021-10-20 14:50:05 -0400 (Wed, 20 Oct 2021)
git_url: https://git.bioconductor.org/packages/Glimma
git_branch: master
git_last_commit: 454469c
git_last_commit_date: 2021-09-23 09:23:21 -0400 (Thu, 23 Sep 2021)
nebbiolo2Linux (Ubuntu 20.04.2 LTS) / x86_64  OK    OK    OK  UNNEEDED, same version is already published
riesling1Windows Server 2019 Standard / x64  OK    OK    OK    OK  UNNEEDED, same version is already published
merida1macOS 10.14.6 Mojave / x86_64  OK    OK    OK    NA  

Summary

Package: Glimma
Version: 2.3.2
Command: /Library/Frameworks/R.framework/Resources/bin/R CMD INSTALL Glimma
StartedAt: 2021-10-20 17:22:32 -0400 (Wed, 20 Oct 2021)
EndedAt: 2021-10-20 17:23:19 -0400 (Wed, 20 Oct 2021)
EllapsedTime: 47.1 seconds
RetCode: 0
Status:   OK  

Command output

##############################################################################
##############################################################################
###
### Running command:
###
###   /Library/Frameworks/R.framework/Resources/bin/R CMD INSTALL Glimma
###
##############################################################################
##############################################################################


* installing to library ‘/Library/Frameworks/R.framework/Versions/4.1/Resources/library’
* installing *source* package ‘Glimma’ ...
** using staged installation
** R
** inst
** byte-compile and prepare package for lazy loading
** help
*** installing help indices
** building package indices
** installing vignettes
** testing if installed package can be loaded from temporary location
** testing if installed package can be loaded from final location
** testing if installed package keeps a record of temporary installation path
* DONE (Glimma)