Back to Multiple platform build/check report for BioC 3.15
ABCDEF[G]HIJKLMNOPQRSTUVWXYZ

This page was generated on 2021-11-27 14:05:40 -0500 (Sat, 27 Nov 2021).

BUILD results for Glimma on merida1

To the developers/maintainers of the Glimma package:
- Please allow up to 24 hours (and sometimes 48 hours) for your latest push to git@git.bioconductor.org:packages/Glimma.git to
reflect on this report. See How and When does the builder pull? When will my changes propagate? here for more information.
- Make sure to use the following settings in order to reproduce any error or warning you see on this page.

raw results

Package 780/2068HostnameOS / ArchINSTALLBUILDCHECKBUILD BIN
Glimma 2.5.1  (landing page)
Shian Su
Snapshot Date: 2021-11-26 14:50:14 -0500 (Fri, 26 Nov 2021)
git_url: https://git.bioconductor.org/packages/Glimma
git_branch: master
git_last_commit: 043d892
git_last_commit_date: 2021-11-20 04:06:42 -0500 (Sat, 20 Nov 2021)
nebbiolo1Linux (Ubuntu 20.04.3 LTS) / x86_64  OK    OK    ERROR  
riesling1Windows Server 2019 Standard / x64  OK    OK    ERROR    OK  
merida1macOS 10.14.6 Mojave / x86_64  OK    OK    ERROR    OK  

Summary

Package: Glimma
Version: 2.5.1
Command: /Library/Frameworks/R.framework/Resources/bin/R CMD build --keep-empty-dirs --no-resave-data Glimma
StartedAt: 2021-11-26 20:15:20 -0500 (Fri, 26 Nov 2021)
EndedAt: 2021-11-26 20:29:44 -0500 (Fri, 26 Nov 2021)
EllapsedTime: 864.1 seconds
RetCode: 0
Status:   OK  
PackageFile: Glimma_2.5.1.tar.gz
PackageFileSize: 11.12 MiB

Command output

##############################################################################
##############################################################################
###
### Running command:
###
###   /Library/Frameworks/R.framework/Resources/bin/R CMD build --keep-empty-dirs --no-resave-data Glimma
###
##############################################################################
##############################################################################


* checking for file ‘Glimma/DESCRIPTION’ ... OK
* preparing ‘Glimma’:
* checking DESCRIPTION meta-information ... OK
* installing the package to build vignettes
* creating vignettes ... OK
* checking for LF line-endings in source and make files and shell scripts
* checking for empty or unneeded directories
* building ‘Glimma_2.5.1.tar.gz’