Back to Multiple platform build/check report for BioC 3.19:   simplified   long
ABCDEF[G]HIJKLMNOPQRSTUVWXYZ

This page was generated on 2024-03-04 11:37:56 -0500 (Mon, 04 Mar 2024).

HostnameOSArch (*)R versionInstalled pkgs
nebbiolo1Linux (Ubuntu 22.04.3 LTS)x86_64R Under development (unstable) (2024-01-16 r85808) -- "Unsuffered Consequences" 4676
palomino3Windows Server 2022 Datacenterx64R Under development (unstable) (2024-01-14 r85805 ucrt) -- "Unsuffered Consequences" 4414
merida1macOS 12.7.1 Montereyx86_64R Under development (unstable) (2024-01-16 r85808) -- "Unsuffered Consequences" 4441
kunpeng2Linux (openEuler 22.03 LTS-SP1)aarch64R Under development (unstable) (2024-01-16 r85812) -- "Unsuffered Consequences" 4417
Click on any hostname to see more info about the system (e.g. compilers)      (*) as reported by 'uname -p', except on Windows and Mac OS X

Package 922/2251HostnameOS / ArchINSTALLBUILDCHECKBUILD BIN
GWENA 1.13.0  (landing page)
Gwenaƫlle Lemoine
Snapshot Date: 2024-03-01 14:00:22 -0500 (Fri, 01 Mar 2024)
git_url: https://git.bioconductor.org/packages/GWENA
git_branch: devel
git_last_commit: 16fcc94
git_last_commit_date: 2023-10-24 11:23:28 -0500 (Tue, 24 Oct 2023)
nebbiolo1Linux (Ubuntu 22.04.3 LTS) / x86_64  OK    OK    WARNINGS  UNNEEDED, same version is already published
palomino3Windows Server 2022 Datacenter / x64  OK    OK    WARNINGS    OK  UNNEEDED, same version is already published
merida1macOS 12.7.1 Monterey / x86_64  OK    OK    ERROR    OK  
kunpeng2Linux (openEuler 22.03 LTS-SP1) / aarch64  OK    OK    TIMEOUT  

INSTALL results for GWENA on palomino3


To the developers/maintainers of the GWENA package:
- Allow up to 24 hours (and sometimes 48 hours) for your latest push to git@git.bioconductor.org:packages/GWENA.git to reflect on this report. See Troubleshooting Build Report for more information.
- Use the following Renviron settings to reproduce errors and warnings.
- If 'R CMD check' started to fail recently on the Linux builder(s) over a missing dependency, add the missing dependency to 'Suggests:' in your DESCRIPTION file. See Renviron.bioc for more information.

raw results


Summary

Package: GWENA
Version: 1.13.0
Command: F:\biocbuild\bbs-3.19-bioc\R\bin\R.exe CMD INSTALL GWENA
StartedAt: 2024-03-01 16:36:24 -0500 (Fri, 01 Mar 2024)
EndedAt: 2024-03-01 16:37:12 -0500 (Fri, 01 Mar 2024)
EllapsedTime: 47.7 seconds
RetCode: 0
Status:   OK  

Command output

##############################################################################
##############################################################################
###
### Running command:
###
###   F:\biocbuild\bbs-3.19-bioc\R\bin\R.exe CMD INSTALL GWENA
###
##############################################################################
##############################################################################


* installing to library 'F:/biocbuild/bbs-3.19-bioc/R/library'
* installing *source* package 'GWENA' ...
** using staged installation
** R
** data
*** moving datasets to lazyload DB
** inst
** byte-compile and prepare package for lazy loading
** help
Warning: bad markup (extra space?) at compare_conditions.Rd:91:72
Warning: bad markup (extra space?) at compare_conditions.Rd:96:77
Warning: bad markup (extra space?) at compare_conditions.Rd:98:74
Warning: bad markup (extra space?) at compare_conditions.Rd:100:69
*** installing help indices
** building package indices
** installing vignettes
** testing if installed package can be loaded from temporary location
** testing if installed package can be loaded from final location
** testing if installed package keeps a record of temporary installation path
* DONE (GWENA)