Back to Multiple platform build/check report for BioC 3.20:   simplified   long
ABCDEF[G]HIJKLMNOPQRSTUVWXYZ

This page was generated on 2024-05-20 11:37:23 -0400 (Mon, 20 May 2024).

HostnameOSArch (*)R versionInstalled pkgs
nebbiolo2Linux (Ubuntu 22.04.3 LTS)x86_644.4.0 RC (2024-04-16 r86468) -- "Puppy Cup" 4666
palomino4Windows Server 2022 Datacenterx644.4.0 RC (2024-04-16 r86468 ucrt) -- "Puppy Cup" 4401
merida1macOS 12.7.4 Montereyx86_644.4.0 Patched (2024-04-24 r86482) -- "Puppy Cup" 4428
Click on any hostname to see more info about the system (e.g. compilers)      (*) as reported by 'uname -p', except on Windows and Mac OS X

Package 763/2233HostnameOS / ArchINSTALLBUILDCHECKBUILD BIN
GDSArray 1.25.0  (landing page)
Qian Liu
Snapshot Date: 2024-05-17 14:05:07 -0400 (Fri, 17 May 2024)
git_url: https://git.bioconductor.org/packages/GDSArray
git_branch: devel
git_last_commit: 1ff7fbe
git_last_commit_date: 2024-04-30 11:05:22 -0400 (Tue, 30 Apr 2024)
nebbiolo2Linux (Ubuntu 22.04.3 LTS) / x86_64  OK    OK    WARNINGS  UNNEEDED, same version is already published
palomino4Windows Server 2022 Datacenter / x64  OK    OK    WARNINGS    OK  UNNEEDED, same version is already published
merida1macOS 12.7.4 Monterey / x86_64  OK    OK    WARNINGS    OK  UNNEEDED, same version is already published
kjohnson1macOS 13.6.6 Ventura / arm64see weekly results here

BUILD results for GDSArray on merida1


To the developers/maintainers of the GDSArray package:
- Allow up to 24 hours (and sometimes 48 hours) for your latest push to git@git.bioconductor.org:packages/GDSArray.git to reflect on this report. See Troubleshooting Build Report for more information.
- Use the following Renviron settings to reproduce errors and warnings.
- If 'R CMD check' started to fail recently on the Linux builder(s) over a missing dependency, add the missing dependency to 'Suggests:' in your DESCRIPTION file. See Renviron.bioc for more information.

raw results


Summary

Package: GDSArray
Version: 1.25.0
Command: /Library/Frameworks/R.framework/Resources/bin/R CMD build --keep-empty-dirs --no-resave-data GDSArray
StartedAt: 2024-05-17 19:08:30 -0400 (Fri, 17 May 2024)
EndedAt: 2024-05-17 19:09:32 -0400 (Fri, 17 May 2024)
EllapsedTime: 62.0 seconds
RetCode: 0
Status:   OK  
PackageFile: GDSArray_1.25.0.tar.gz
PackageFileSize: 305.6 KiB

Command output

##############################################################################
##############################################################################
###
### Running command:
###
###   /Library/Frameworks/R.framework/Resources/bin/R CMD build --keep-empty-dirs --no-resave-data GDSArray
###
##############################################################################
##############################################################################


* checking for file ‘GDSArray/DESCRIPTION’ ... OK
* preparing ‘GDSArray’:
* checking DESCRIPTION meta-information ... OK
* installing the package to build vignettes
* creating vignettes ... OK
* checking for LF line-endings in source and make files and shell scripts
* checking for empty or unneeded directories
* building ‘GDSArray_1.25.0.tar.gz’