Index of /checkResults/devel/bioc-LATEST/GDSArray/raw-results

[ICO]NameLast modifiedSizeDescription

[DIR]Parent Directory  -  
[   ]info.dcf28-Jan-2022 01:10 260  
[DIR]merida1/28-Jan-2022 01:10 -  
[DIR]nebbiolo1/28-Jan-2022 01:05 -  
[DIR]palomino3/28-Jan-2022 01:08 -  
[DIR]riesling1/28-Jan-2022 01:07 -