Index of /checkResults/devel/bioc-LATEST/GA4GHclient/raw-results
Name
Last modified
Size
Description
Parent Directory
-
info.dcf
21-May-2022 00:07
272
lconway/
21-May-2022 00:07
-
nebbiolo2/
21-May-2022 00:05
-
palomino4/
21-May-2022 00:06
-