Back to Multiple platform build/check report for BioC 3.19:   simplified   long
ABCDE[F]GHIJKLMNOPQRSTUVWXYZ

This page was generated on 2023-12-07 11:39:23 -0500 (Thu, 07 Dec 2023).

HostnameOSArch (*)R versionInstalled pkgs
nebbiolo1Linux (Ubuntu 22.04.2 LTS)x86_64R Under development (unstable) (2023-11-11 r85510) -- "Unsuffered Consequences" 4609
palomino3Windows Server 2022 Datacenterx64R Under development (unstable) (2023-11-14 r85524 ucrt) -- "Unsuffered Consequences" 4369
merida1macOS 12.7.1 Montereyx86_64R Under development (unstable) (2023-11-11 r85510) -- "Unsuffered Consequences" 4375
kunpeng2Linux (openEuler 22.03 LTS-SP1)aarch64R Under development (unstable) (2023-11-01 r85459) -- "Unsuffered Consequences" 4262
Click on any hostname to see more info about the system (e.g. compilers)      (*) as reported by 'uname -p', except on Windows and Mac OS X

Package 749/2229HostnameOS / ArchINSTALLBUILDCHECKBUILD BIN
FunChIP 1.29.0  (landing page)
Alice Parodi
Snapshot Date: 2023-12-06 14:00:17 -0500 (Wed, 06 Dec 2023)
git_url: https://git.bioconductor.org/packages/FunChIP
git_branch: devel
git_last_commit: b94e171
git_last_commit_date: 2023-10-24 10:50:38 -0500 (Tue, 24 Oct 2023)
nebbiolo1Linux (Ubuntu 22.04.2 LTS) / x86_64  OK    OK    WARNINGS  UNNEEDED, same version is already published
palomino3Windows Server 2022 Datacenter / x64  OK    OK    WARNINGS    OK  UNNEEDED, same version is already published
merida1macOS 12.7.1 Monterey / x86_64  OK    OK    OK    OK  UNNEEDED, same version is already published
kunpeng2Linux (openEuler 22.03 LTS-SP1) / aarch64  OK    OK    WARNINGS  

BUILD results for FunChIP on kunpeng2


To the developers/maintainers of the FunChIP package:
- Allow up to 24 hours (and sometimes 48 hours) for your latest push to git@git.bioconductor.org:packages/FunChIP.git to reflect on this report. See Troubleshooting Build Report for more information.
- Use the following Renviron settings to reproduce errors and warnings.
- If 'R CMD check' started to fail recently on the Linux builder(s) over a missing dependency, add the missing dependency to 'Suggests:' in your DESCRIPTION file. See Renviron.bioc for more information.
- See Martin Grigorov's blog post for how to debug Linux ARM64 related issues on a x86_64 host.

raw results


Summary

Package: FunChIP
Version: 1.29.0
Command: /home/biocbuild/R/R-4.4-devel-2023.11.02/bin/R CMD build --keep-empty-dirs --no-resave-data FunChIP
StartedAt: 2023-12-06 23:59:25 -0000 (Wed, 06 Dec 2023)
EndedAt: 2023-12-07 00:02:56 -0000 (Thu, 07 Dec 2023)
EllapsedTime: 211.3 seconds
RetCode: 0
Status:   OK  
PackageFile: FunChIP_1.29.0.tar.gz
PackageFileSize: 22.99 MiB

Command output

##############################################################################
##############################################################################
###
### Running command:
###
###   /home/biocbuild/R/R-4.4-devel-2023.11.02/bin/R CMD build --keep-empty-dirs --no-resave-data FunChIP
###
##############################################################################
##############################################################################


* checking for file ‘FunChIP/DESCRIPTION’ ... OK
* preparing ‘FunChIP’:
* checking DESCRIPTION meta-information ... OK
* cleaning src
* installing the package to build vignettes
* creating vignettes ... OK
* cleaning src
* checking for LF line-endings in source and make files and shell scripts
* checking for empty or unneeded directories
  NB: this package now depends on R (>= 3.5.0)
  WARNING: Added dependency on R >= 3.5.0 because serialized objects in
  serialize/load version 3 cannot be read in older versions of R.
  File(s) containing such objects:
    ‘FunChIP/data/GR100.rda’ ‘FunChIP/data/peaks.rda’
* building ‘FunChIP_1.29.0.tar.gz’