Index of /checkResults/devel/bioc-LATEST/EnrichmentBrowser/raw-results
Name
Last modified
Size
Description
Parent Directory
-
info.dcf
16-Aug-2022 00:07
305
kjohnson/
12-Jul-2022 00:06
-
lconway/
16-Aug-2022 00:07
-
nebbiolo2/
16-Aug-2022 00:04
-
palomino4/
16-Aug-2022 00:06
-