Index of /checkResults/devel/bioc-LATEST/DaMiRseq/raw-results

[ICO]NameLast modifiedSizeDescription

[DIR]Parent Directory  -  
[   ]info.dcf05-Dec-2021 02:32 283  
[DIR]nebbiolo1/05-Dec-2021 02:32 -