Index of /checkResults/devel/bioc-LATEST/BEAT/raw-results

[ICO]NameLast modifiedSizeDescription

[DIR]Parent Directory  -  
[   ]info.dcf25-May-2022 00:07 256  
[DIR]lconway/25-May-2022 00:07 -  
[DIR]nebbiolo2/25-May-2022 00:04 -  
[DIR]palomino4/25-May-2022 00:05 -