Back to Multiple platform build/check report for BioC 3.16
[A]BCDEFGHIJKLMNOPQRSTUVWXYZ

This page was generated on 2022-08-11 11:06:13 -0400 (Thu, 11 Aug 2022).

HostnameOSArch (*)R versionInstalled pkgs
nebbiolo2Linux (Ubuntu 20.04.4 LTS)x86_644.2.1 (2022-06-23) -- "Funny-Looking Kid" 4375
palomino4Windows Server 2022 Datacenterx644.2.1 (2022-06-23 ucrt) -- "Funny-Looking Kid" 4159
lconwaymacOS 12.2.1 Montereyx86_644.2.1 Patched (2022-07-09 r82577) -- "Funny-Looking Kid" 4165
Click on any hostname to see more info about the system (e.g. compilers)      (*) as reported by 'uname -p', except on Windows and Mac OS X

INSTALL results for AnnotationDbi on palomino4


To the developers/maintainers of the AnnotationDbi package:
- Please allow up to 24 hours (and sometimes 48 hours) for your latest push to git@git.bioconductor.org:packages/AnnotationDbi.git to
reflect on this report. See How and When does the builder pull? When will my changes propagate? for more information.
- Make sure to use the following settings in order to reproduce any error or warning you see on this page.

raw results

Package 56/2139HostnameOS / ArchINSTALLBUILDCHECKBUILD BIN
AnnotationDbi 1.59.1  (landing page)
Bioconductor Package Maintainer
Snapshot Date: 2022-08-10 14:00:02 -0400 (Wed, 10 Aug 2022)
git_url: https://git.bioconductor.org/packages/AnnotationDbi
git_branch: master
git_last_commit: b95ea14
git_last_commit_date: 2022-05-19 12:16:06 -0400 (Thu, 19 May 2022)
nebbiolo2Linux (Ubuntu 20.04.4 LTS) / x86_64  OK    OK    OK  UNNEEDED, same version is already published
palomino4Windows Server 2022 Datacenter / x64  OK    OK    OK    OK  UNNEEDED, same version is already published
lconwaymacOS 12.2.1 Monterey / x86_64  OK    OK    OK    OK  UNNEEDED, same version is already published

Summary

Package: AnnotationDbi
Version: 1.59.1
Command: C:\cygwin\bin\curl.exe -O http://155.52.207.166/BBS/3.16/bioc/src/contrib/AnnotationDbi_1.59.1.tar.gz && rm -rf AnnotationDbi.buildbin-libdir && mkdir AnnotationDbi.buildbin-libdir && F:\biocbuild\bbs-3.16-bioc\R\bin\R.exe CMD INSTALL --merge-multiarch --build --library=AnnotationDbi.buildbin-libdir AnnotationDbi_1.59.1.tar.gz && F:\biocbuild\bbs-3.16-bioc\R\bin\R.exe CMD INSTALL AnnotationDbi_1.59.1.zip && rm AnnotationDbi_1.59.1.tar.gz AnnotationDbi_1.59.1.zip
StartedAt: 2022-08-10 15:43:45 -0400 (Wed, 10 Aug 2022)
EndedAt: 2022-08-10 15:44:33 -0400 (Wed, 10 Aug 2022)
EllapsedTime: 47.5 seconds
RetCode: 0
Status:   OK  

Command output

##############################################################################
##############################################################################
###
### Running command:
###
###   C:\cygwin\bin\curl.exe -O http://155.52.207.166/BBS/3.16/bioc/src/contrib/AnnotationDbi_1.59.1.tar.gz && rm -rf AnnotationDbi.buildbin-libdir && mkdir AnnotationDbi.buildbin-libdir && F:\biocbuild\bbs-3.16-bioc\R\bin\R.exe CMD INSTALL --merge-multiarch --build --library=AnnotationDbi.buildbin-libdir AnnotationDbi_1.59.1.tar.gz && F:\biocbuild\bbs-3.16-bioc\R\bin\R.exe CMD INSTALL AnnotationDbi_1.59.1.zip && rm AnnotationDbi_1.59.1.tar.gz AnnotationDbi_1.59.1.zip
###
##############################################################################
##############################################################################


  % Total    % Received % Xferd  Average Speed   Time    Time     Time  Current
                                 Dload  Upload   Total   Spent    Left  Speed

  0     0    0     0    0     0      0      0 --:--:-- --:--:-- --:--:--     0
100 3851k  100 3851k    0     0  20.1M      0 --:--:-- --:--:-- --:--:-- 20.2M
only one architecture so ignoring '--merge-multiarch'
* installing *source* package 'AnnotationDbi' ...
** using staged installation
** R
** inst
** byte-compile and prepare package for lazy loading
Creating a new generic function for 'packageName' in package 'AnnotationDbi'
Creating a generic function for 'ls' from package 'base' in package 'AnnotationDbi'
Creating a generic function for 'eapply' from package 'base' in package 'AnnotationDbi'
Creating a generic function for 'exists' from package 'base' in package 'AnnotationDbi'
Creating a generic function for 'sample' from package 'base' in package 'AnnotationDbi'
** help
*** installing help indices
** building package indices
** installing vignettes
** testing if installed package can be loaded from temporary location
** testing if installed package can be loaded from final location
** testing if installed package keeps a record of temporary installation path
* MD5 sums
packaged installation of 'AnnotationDbi' as AnnotationDbi_1.59.1.zip
* DONE (AnnotationDbi)
* installing to library 'F:/biocbuild/bbs-3.16-bioc/R/library'
package 'AnnotationDbi' successfully unpacked and MD5 sums checked